Workbook

Sheet Como usar
B2: fluio.
B3: MATERIAIS DE APOIO · 03
B5: Ficha de especificação de produtos
B6: A lista de compras do projeto: monta-se a partir do relatório do SketchUp e acompanha cotação, pedido, entrega e conferência de cada item.
B8: Uma linha por produto, com o código que aparece na planta (M01 para mobiliário, IL01 para iluminação, R01 para revestimento). É a lista que vai para o cliente aprovar, para o orçamento e para a obra conferir o que chegou.
B9: Os blocos do Fluio. entram no SketchUp com marca, produto, código, dimensões, acabamento, fornecedor, contato e preço estimado gravados no próprio componente. Na planilha do Excel, cole o relatório do SketchUp e a lista se monta sozinha, com a quantidade de cada item. O que não veio do Fluio. você digita na mesma lista.
B10: Quem renderiza para escritórios pode entregar esta lista junto com as imagens: é o registro do que foi usado na cena.
B12: Como montar a lista a partir do SketchUp
B13: 1. Crie o modelo de relatório uma vez. No SketchUp, abra Arquivo › Gerar relatório e crie um modelo com a quantidade e os atributos do componente: Marca, Produto, Código do produto, Linha, Dimensões, Acabamento, Fornecedor, Telefone, WhatsApp, E-mail, Onde comprar, Página do produto e Preço estimado. Agrupe por definição de componente e salve o modelo para usar em todos os projetos.
B14: 2. Gere o relatório do projeto. Com o modelo pronto, gere o relatório do modelo inteiro (ou só do que estiver selecionado) e baixe o arquivo CSV.
B15: 3. Cole na planilha. Abra o CSV, selecione tudo, copie e cole na célula A1 da aba "Relatório do SketchUp". A aba "Especificação" se preenche linha a linha com o que veio do modelo.
B16: 4. Complete o que é do projeto. Escreva o código da planta e o ambiente de cada item. Apague as linhas que não são produto (paredes, grupos de obra) e acrescente embaixo o que não está no modelo.
... B29: 4. Relatório do SketchUp

Sheet Dados
A1: Dados
A4: Projeto
A5: Projeto
A6: Cliente
A7: Responsável pela especificação
A8: Revisão e data

Sheet Especificação
A1: Lista de especificação
A2: As colunas em cinza vêm do relatório do SketchUp (aba laranja); dá para escrever por cima. As amarelas são do projeto: código da planta, ambiente, preço cotado, pedido e entrega.
A4: Cód. no projeto | B4: Ambiente | C4: Produto | D4: Marca | E4: Linha | F4: Código do produto | G4: Dimensões | H4: Acabamento | I4: Qtd | J4: Unid. | K4: Preço estimado (referência) | L4: Preço cotado unit. (R$) | M4: Total (R$) | N4: Fornecedor | O4: Contato | P4: Onde comprar | Q4: Prazo (dias) | R4: Status | S4: Nº do pedido | T4: Data da compra | U4: Previsão de entrega | V4: Entregue em | W4: Conferência | X4: Observações
C5: =IFERROR(INDEX('Relatório do SketchUp'!$A$2:$CZ$2,MATCH("Produto",'Relatório do SketchUp'!$A$1:$CZ$1,0))&"",IFERROR(INDEX('Relatório do SketchUp'!$A$2:$CZ$2,MATCH("f02_produto",'Relatório do SketchUp'!$A$1:$CZ$1,0))&"",IFERROR(INDEX('Relatório do SketchUp'!$A$2:$CZ$2,MATCH("Definition Name",'Relatório do SketchUp'!$A$1:$CZ$1,0))&"",IFERROR(INDEX('Relatório do SketchUp'!$A$2:$CZ$2,MATCH("Nome da definição",'Relatório do SketchUp'!$A$1:$CZ$1,0))&"","")))) | D5: =IFERROR(INDEX('Relatório do SketchUp'!$A$2:$CZ$2,MATCH("Marca",'Relatório do SketchUp'!$A$1:$CZ$1,0))&"",IFERROR(INDEX('Relatório do SketchUp'!$A$2:$CZ$2,MATCH("f01_marca",'Relatório do SketchUp'!$A$1:$CZ$1,0))&"","")) | E5: =IFERROR(INDEX('Relatório do SketchUp'!$A$2:$CZ$2,MATCH("Linha",'Relatório do SketchUp'!$A$1:$CZ$1,0))&"",IFERROR(INDEX('Relatório do SketchUp'!$A$2:$CZ$2,MATCH("f04_linha",'Relatório do SketchUp'!$A$1:$CZ$1,0))&"","")) | F5: =IFERROR(INDEX('Relatório do SketchUp'!$A$2:$CZ$2,MATCH("Código do produto",'Relatório do SketchUp'!$A$1:$CZ$1,0))&"",IFERROR(INDEX('Relatório do SketchUp'!$A$2:$CZ$2,MATCH("f03_codigo",'Relatório do SketchUp'!$A$1:$CZ$1,0))&"","")) | G5: =IFERROR(INDEX('Relatório do SketchUp'!$A$2:$CZ$2,MATCH("Dimensões",'Relatório do SketchUp'!$A$1:$CZ$1,0))&"",IFERROR(INDEX('Relatório do SketchUp'!$A$2:$CZ$2,MATCH("f06_dimensoes",'Relatório do SketchUp'!$A$1:$CZ$1,0))&"","")) | H5: =IFERROR(INDEX('Relatório do SketchUp'!$A$2:$CZ$2,MATCH("Acabamento",'Relatório do SketchUp'!$A$1:$CZ$1,0))&"",IFERROR(INDEX('Relatório do SketchUp'!$A$2:$CZ$2,MATCH("f07_acabamento",'Relatório do SketchUp'!$A$1:$CZ$1,0))&"","")) | I5: =IF(C5="","",IFERROR(VALUE(IFERROR(INDEX('Relatório do SketchUp'!$A$2:$CZ$2,MATCH("Quantity",'Relatório do SketchUp'!$A$1:$CZ$1,0))&"",IFERROR(INDEX('Relatório do SketchUp'!$A$2:$CZ$2,MATCH("Quantidade",'Relatório do SketchUp'!$A$1:$CZ$1,0))&"",IFERROR(INDEX('Relatório do SketchUp'!$A$2:$CZ$2,MATCH("Qtd",'Relatório do SketchUp'!$A$1:$CZ$1,0))&"",IFERROR(INDEX('Relatório do SketchUp'!$A$2:$CZ$2,MATCH("Count",'Relatório do SketchUp'!$A$1:$CZ$1,0))&"",""))))),1)) | K5: =IFERROR(INDEX('Relatório do SketchUp'!$A$2:$CZ$2,MATCH("Preço estimado",'Relatório do SketchUp'!$A$1:$CZ$1,0))&"",IFERROR(INDEX('Relatório do SketchUp'!$A$2:$CZ$2,MATCH("f16_preco",'Relatório do SketchUp'!$A$1:$CZ$1,0))&"","")) | M5: =IF(OR(I5="",L5=""),"",I5*L5) | N5: =IF(IFERROR(INDEX('Relatório do SketchUp'!$A$2:$CZ$2,MATCH("Fornecedor",'Relatório do SketchUp'!$A$1:$CZ$1,0))&"",IFERROR(INDEX('Relatório do SketchUp'!$A$2:$CZ$2,MATCH("f09_fornecedor",'Relatório do SketchUp'!$A$1:$CZ$1,0))&"",""))<>"",IFERROR(INDEX('Relatório do SketchUp'!$A$2:$CZ$2,MATCH("Fornecedor",'Relatório do SketchUp'!$A$1:$CZ$1,0))&"",IFERROR(INDEX('Relatório do SketchUp'!$A$2:$CZ$2,MATCH("f09_fornecedor",'Relatório do SketchUp'!$A$1:$CZ$1,0))&"","")),IF(IFERROR(INDEX('Relatório do SketchUp'!$A$2:$CZ$2,MATCH("Marca",'Relatório do SketchUp'!$A$1:$CZ$1,0))&"",IFERROR(INDEX('Relatório do SketchUp'!$A$2:$CZ$2,MATCH("f01_marca",'Relatório do SketchUp'!$A$1:$CZ$1,0))&"",""))<>"",IFERROR(INDEX('Relatório do SketchUp'!$A$2:$CZ$2,MATCH("Marca",'Relatório do SketchUp'!$A$1:$CZ$1,0))&"",IFERROR(INDEX('Relatório do SketchUp'!$A$2:$CZ$2,MATCH("f01_marca",'Relatório do SketchUp'!$A$1:$CZ$1,0))&"","")),"")) | O5: =_xlfn.TEXTJOIN(" · ",TRUE,IFERROR(INDEX('Relatório do SketchUp'!$A$2:$CZ$2,MATCH("WhatsApp",'Relatório do SketchUp'!$A$1:$CZ$1,0))&"",IFERROR(INDEX('Relatório do SketchUp'!$A$2:$CZ$2,MATCH("f11_whatsapp",'Relatório do SketchUp'!$A$1:$CZ$1,0))&"","")),IFERROR(INDEX('Relatório do SketchUp'!$A$2:$CZ$2,MATCH("Telefone",'Relatório do SketchUp'!$A$1:$CZ$1,0))&"",IFERROR(INDEX('Relatório do SketchUp'!$A$2:$CZ$2,MATCH("f10_telefone",'Relatório do SketchUp'!$A$1:$CZ$1,0))&"","")),IFERROR(INDEX('Relatório do SketchUp'!$A$2:$CZ$2,MATCH("E-mail",'Relatório do SketchUp'!$A$1:$CZ$1,0))&"",IFERROR(INDEX('Relatório do SketchUp'!$A$2:$CZ$2,MATCH("f12_email",'Relatório do SketchUp'!$A$1:$CZ$1,0))&"",""))) | P5: =IFERROR(INDEX('Relatório do SketchUp'!$A$2:$CZ$2,MATCH("Página do produto",'Relatório do SketchUp'!$A$1:$CZ$1,0))&"",IFERROR(INDEX('Relatório do SketchUp'!$A$2:$CZ$2,MATCH("f15_link_produto",'Relatório do SketchUp'!$A$1:$CZ$1,0))&"",IFERROR(INDEX('Relatório do SketchUp'!$A$2:$CZ$2,MATCH("Onde comprar",'Relatório do SketchUp'!$A$1:$CZ$1,0))&"",IFERROR(INDEX('Relatório do SketchUp'!$A$2:$CZ$2,MATCH("f14_onde_comprar",'Relatório do SketchUp'!$A$1:$CZ$1,0))&"",IFERROR(INDEX('Relatório do SketchUp'!$A$2:$CZ$2,MATCH("Site",'Relatório do SketchUp'!$A$1:$CZ$1,0))&"",IFERROR(INDEX('Relatório do SketchUp'!$A$2:$CZ$2,MATCH("f13_site",'Relatório do SketchUp'!$A$1:$CZ$1,0))&"","")))))) | U5: =IF(OR(T5="",Q5=""),"",T5+Q5)
C6: =IFERROR(INDEX('Relatório do SketchUp'!$A$3:$CZ$3,MATCH("Produto",'Relatório do SketchUp'!$A$1:$CZ$1,0))&"",IFERROR(INDEX('Relatório do SketchUp'!$A$3:$CZ$3,MATCH("f02_produto",'Relatório do SketchUp'!$A$1:$CZ$1,0))&"",IFERROR(INDEX('Relatório do SketchUp'!$A$3:$CZ$3,MATCH("Definition Name",'Relatório do SketchUp'!$A$1:$CZ$1,0))&"",IFERROR(INDEX('Relatório do SketchUp'!$A$3:$CZ$3,MATCH("Nome da definição",'Relatório do SketchUp'!$A$1:$CZ$1,0))&"","")))) | D6: =IFERROR(INDEX('Relatório do SketchUp'!$A$3:$CZ$3,MATCH("Marca",'Relatório do SketchUp'!$A$1:$CZ$1,0))&"",IFERROR(INDEX('Relatório do SketchUp'!$A$3:$CZ$3,MATCH("f01_marca",'Relatório do SketchUp'!$A$1:$CZ$1,0))&"","")) | E6: =IFERROR(INDEX('Relatório do SketchUp'!$A$3:$CZ$3,MATCH("Linha",'Relatório do SketchUp'!$A$1:$CZ$1,0))&"",IFERROR(INDEX('Relatório do SketchUp'!$A$3:$CZ$3,MATCH("f04_linha",'Relatório do SketchUp'!$A$1:$CZ$1,0))&"","")) | F6: =IFERROR(INDEX('Relatório do SketchUp'!$A$3:$CZ$3,MATCH("Código do produto",'Relatório do SketchUp'!$A$1:$CZ$1,0))&"",IFERROR(INDEX('Relatório do SketchUp'!$A$3:$CZ$3,MATCH("f03_codigo",'Relatório do SketchUp'!$A$1:$CZ$1,0))&"","")) | G6: =IFERROR(INDEX('Relatório do SketchUp'!$A$3:$CZ$3,MATCH("Dimensões",'Relatório do SketchUp'!$A$1:$CZ$1,0))&"",IFERROR(INDEX('Relatório do SketchUp'!$A$3:$CZ$3,MATCH("f06_dimensoes",'Relatório do SketchUp'!$A$1:$CZ$1,0))&"","")) | H6: =IFERROR(INDEX('Relatório do SketchUp'!$A$3:$CZ$3,MATCH("Acabamento",'Relatório do SketchUp'!$A$1:$CZ$1,0))&"",IFERROR(INDEX('Relatório do SketchUp'!$A$3:$CZ$3,MATCH("f07_acabamento",'Relatório do SketchUp'!$A$1:$CZ$1,0))&"","")) | I6: =IF(C6="","",IFERROR(VALUE(IFERROR(INDEX('Relatório do SketchUp'!$A$3:$CZ$3,MATCH("Quantity",'Relatório do SketchUp'!$A$1:$CZ$1,0))&"",IFERROR(INDEX('Relatório do SketchUp'!$A$3:$CZ$3,MATCH("Quantidade",'Relatório do SketchUp'!$A$1:$CZ$1,0))&"",IFERROR(INDEX('Relatório do SketchUp'!$A$3:$CZ$3,MATCH("Qtd",'Relatório do SketchUp'!$A$1:$CZ$1,0))&"",IFERROR(INDEX('Relatório do SketchUp'!$A$3:$CZ$3,MATCH("Count",'Relatório do SketchUp'!$A$1:$CZ$1,0))&"",""))))),1)) | K6: =IFERROR(INDEX('Relatório do SketchUp'!$A$3:$CZ$3,MATCH("Preço estimado",'Relatório do SketchUp'!$A$1:$CZ$1,0))&"",IFERROR(INDEX('Relatório do SketchUp'!$A$3:$CZ$3,MATCH("f16_preco",'Relatório do SketchUp'!$A$1:$CZ$1,0))&"","")) | M6: =IF(OR(I6="",L6=""),"",I6*L6) | N6: =IF(IFERROR(INDEX('Relatório do SketchUp'!$A$3:$CZ$3,MATCH("Fornecedor",'Relatório do SketchUp'!$A$1:$CZ$1,0))&"",IFERROR(INDEX('Relatório do SketchUp'!$A$3:$CZ$3,MATCH("f09_fornecedor",'Relatório do SketchUp'!$A$1:$CZ$1,0))&"",""))<>"",IFERROR(INDEX('Relatório do SketchUp'!$A$3:$CZ$3,MATCH("Fornecedor",'Relatório do SketchUp'!$A$1:$CZ$1,0))&"",IFERROR(INDEX('Relatório do SketchUp'!$A$3:$CZ$3,MATCH("f09_fornecedor",'Relatório do SketchUp'!$A$1:$CZ$1,0))&"","")),IF(IFERROR(INDEX('Relatório do SketchUp'!$A$3:$CZ$3,MATCH("Marca",'Relatório do SketchUp'!$A$1:$CZ$1,0))&"",IFERROR(INDEX('Relatório do SketchUp'!$A$3:$CZ$3,MATCH("f01_marca",'Relatório do SketchUp'!$A$1:$CZ$1,0))&"",""))<>"",IFERROR(INDEX('Relatório do SketchUp'!$A$3:$CZ$3,MATCH("Marca",'Relatório do SketchUp'!$A$1:$CZ$1,0))&"",IFERROR(INDEX('Relatório do SketchUp'!$A$3:$CZ$3,MATCH("f01_marca",'Relatório do SketchUp'!$A$1:$CZ$1,0))&"","")),"")) | O6: =_xlfn.TEXTJOIN(" · ",TRUE,IFERROR(INDEX('Relatório do SketchUp'!$A$3:$CZ$3,MATCH("WhatsApp",'Relatório do SketchUp'!$A$1:$CZ$1,0))&"",IFERROR(INDEX('Relatório do SketchUp'!$A$3:$CZ$3,MATCH("f11_whatsapp",'Relatório do SketchUp'!$A$1:$CZ$1,0))&"","")),IFERROR(INDEX('Relatório do SketchUp'!$A$3:$CZ$3,MATCH("Telefone",'Relatório do SketchUp'!$A$1:$CZ$1,0))&"",IFERROR(INDEX('Relatório do SketchUp'!$A$3:$CZ$3,MATCH("f10_telefone",'Relatório do SketchUp'!$A$1:$CZ$1,0))&"","")),IFERROR(INDEX('Relatório do SketchUp'!$A$3:$CZ$3,MATCH("E-mail",'Relatório do SketchUp'!$A$1:$CZ$1,0))&"",IFERROR(INDEX('Relatório do SketchUp'!$A$3:$CZ$3,MATCH("f12_email",'Relatório do SketchUp'!$A$1:$CZ$1,0))&"",""))) | P6: =IFERROR(INDEX('Relatório do SketchUp'!$A$3:$CZ$3,MATCH("Página do produto",'Relatório do SketchUp'!$A$1:$CZ$1,0))&"",IFERROR(INDEX('Relatório do SketchUp'!$A$3:$CZ$3,MATCH("f15_link_produto",'Relatório do SketchUp'!$A$1:$CZ$1,0))&"",IFERROR(INDEX('Relatório do SketchUp'!$A$3:$CZ$3,MATCH("Onde comprar",'Relatório do SketchUp'!$A$1:$CZ$1,0))&"",IFERROR(INDEX('Relatório do SketchUp'!$A$3:$CZ$3,MATCH("f14_onde_comprar",'Relatório do SketchUp'!$A$1:$CZ$1,0))&"",IFERROR(INDEX('Relatório do SketchUp'!$A$3:$CZ$3,MATCH("Site",'Relatório do SketchUp'!$A$1:$CZ$1,0))&"",IFERROR(INDEX('Relatório do SketchUp'!$A$3:$CZ$3,MATCH("f13_site",'Relatório do SketchUp'!$A$1:$CZ$1,0))&"","")))))) | U6: =IF(OR(T6="",Q6=""),"",T6+Q6)
C7: =IFERROR(INDEX('Relatório do SketchUp'!$A$4:$CZ$4,MATCH("Produto",'Relatório do SketchUp'!$A$1:$CZ$1,0))&"",IFERROR(INDEX('Relatório do SketchUp'!$A$4:$CZ$4,MATCH("f02_produto",'Relatório do SketchUp'!$A$1:$CZ$1,0))&"",IFERROR(INDEX('Relatório do SketchUp'!$A$4:$CZ$4,MATCH("Definition Name",'Relatório do SketchUp'!$A$1:$CZ$1,0))&"",IFERROR(INDEX('Relatório do SketchUp'!$A$4:$CZ$4,MATCH("Nome da definição",'Relatório do SketchUp'!$A$1:$CZ$1,0))&"","")))) | D7: =IFERROR(INDEX('Relatório do SketchUp'!$A$4:$CZ$4,MATCH("Marca",'Relatório do SketchUp'!$A$1:$CZ$1,0))&"",IFERROR(INDEX('Relatório do SketchUp'!$A$4:$CZ$4,MATCH("f01_marca",'Relatório do SketchUp'!$A$1:$CZ$1,0))&"","")) | E7: =IFERROR(INDEX('Relatório do SketchUp'!$A$4:$CZ$4,MATCH("Linha",'Relatório do SketchUp'!$A$1:$CZ$1,0))&"",IFERROR(INDEX('Relatório do SketchUp'!$A$4:$CZ$4,MATCH("f04_linha",'Relatório do SketchUp'!$A$1:$CZ$1,0))&"","")) | F7: =IFERROR(INDEX('Relatório do SketchUp'!$A$4:$CZ$4,MATCH("Código do produto",'Relatório do SketchUp'!$A$1:$CZ$1,0))&"",IFERROR(INDEX('Relatório do SketchUp'!$A$4:$CZ$4,MATCH("f03_codigo",'Relatório do SketchUp'!$A$1:$CZ$1,0))&"","")) | G7: =IFERROR(INDEX('Relatório do SketchUp'!$A$4:$CZ$4,MATCH("Dimensões",'Relatório do SketchUp'!$A$1:$CZ$1,0))&"",IFERROR(INDEX('Relatório do SketchUp'!$A$4:$CZ$4,MATCH("f06_dimensoes",'Relatório do SketchUp'!$A$1:$CZ$1,0))&"","")) | H7: =IFERROR(INDEX('Relatório do SketchUp'!$A$4:$CZ$4,MATCH("Acabamento",'Relatório do SketchUp'!$A$1:$CZ$1,0))&"",IFERROR(INDEX('Relatório do SketchUp'!$A$4:$CZ$4,MATCH("f07_acabamento",'Relatório do SketchUp'!$A$1:$CZ$1,0))&"","")) | I7: =IF(C7="","",IFERROR(VALUE(IFERROR(INDEX('Relatório do SketchUp'!$A$4:$CZ$4,MATCH("Quantity",'Relatório do SketchUp'!$A$1:$CZ$1,0))&"",IFERROR(INDEX('Relatório do SketchUp'!$A$4:$CZ$4,MATCH("Quantidade",'Relatório do SketchUp'!$A$1:$CZ$1,0))&"",IFERROR(INDEX('Relatório do SketchUp'!$A$4:$CZ$4,MATCH("Qtd",'Relatório do SketchUp'!$A$1:$CZ$1,0))&"",IFERROR(INDEX('Relatório do SketchUp'!$A$4:$CZ$4,MATCH("Count",'Relatório do SketchUp'!$A$1:$CZ$1,0))&"",""))))),1)) | K7: =IFERROR(INDEX('Relatório do SketchUp'!$A$4:$CZ$4,MATCH("Preço estimado",'Relatório do SketchUp'!$A$1:$CZ$1,0))&"",IFERROR(INDEX('Relatório do SketchUp'!$A$4:$CZ$4,MATCH("f16_preco",'Relatório do SketchUp'!$A$1:$CZ$1,0))&"","")) | M7: =IF(OR(I7="",L7=""),"",I7*L7) | N7: =IF(IFERROR(INDEX('Relatório do SketchUp'!$A$4:$CZ$4,MATCH("Fornecedor",'Relatório do SketchUp'!$A$1:$CZ$1,0))&"",IFERROR(INDEX('Relatório do SketchUp'!$A$4:$CZ$4,MATCH("f09_fornecedor",'Relatório do SketchUp'!$A$1:$CZ$1,0))&"",""))<>"",IFERROR(INDEX('Relatório do SketchUp'!$A$4:$CZ$4,MATCH("Fornecedor",'Relatório do SketchUp'!$A$1:$CZ$1,0))&"",IFERROR(INDEX('Relatório do SketchUp'!$A$4:$CZ$4,MATCH("f09_fornecedor",'Relatório do SketchUp'!$A$1:$CZ$1,0))&"","")),IF(IFERROR(INDEX('Relatório do SketchUp'!$A$4:$CZ$4,MATCH("Marca",'Relatório do SketchUp'!$A$1:$CZ$1,0))&"",IFERROR(INDEX('Relatório do SketchUp'!$A$4:$CZ$4,MATCH("f01_marca",'Relatório do SketchUp'!$A$1:$CZ$1,0))&"",""))<>"",IFERROR(INDEX('Relatório do SketchUp'!$A$4:$CZ$4,MATCH("Marca",'Relatório do SketchUp'!$A$1:$CZ$1,0))&"",IFERROR(INDEX('Relatório do SketchUp'!$A$4:$CZ$4,MATCH("f01_marca",'Relatório do SketchUp'!$A$1:$CZ$1,0))&"","")),"")) | O7: =_xlfn.TEXTJOIN(" · ",TRUE,IFERROR(INDEX('Relatório do SketchUp'!$A$4:$CZ$4,MATCH("WhatsApp",'Relatório do SketchUp'!$A$1:$CZ$1,0))&"",IFERROR(INDEX('Relatório do SketchUp'!$A$4:$CZ$4,MATCH("f11_whatsapp",'Relatório do SketchUp'!$A$1:$CZ$1,0))&"","")),IFERROR(INDEX('Relatório do SketchUp'!$A$4:$CZ$4,MATCH("Telefone",'Relatório do SketchUp'!$A$1:$CZ$1,0))&"",IFERROR(INDEX('Relatório do SketchUp'!$A$4:$CZ$4,MATCH("f10_telefone",'Relatório do SketchUp'!$A$1:$CZ$1,0))&"","")),IFERROR(INDEX('Relatório do SketchUp'!$A$4:$CZ$4,MATCH("E-mail",'Relatório do SketchUp'!$A$1:$CZ$1,0))&"",IFERROR(INDEX('Relatório do SketchUp'!$A$4:$CZ$4,MATCH("f12_email",'Relatório do SketchUp'!$A$1:$CZ$1,0))&"",""))) | P7: =IFERROR(INDEX('Relatório do SketchUp'!$A$4:$CZ$4,MATCH("Página do produto",'Relatório do SketchUp'!$A$1:$CZ$1,0))&"",IFERROR(INDEX('Relatório do SketchUp'!$A$4:$CZ$4,MATCH("f15_link_produto",'Relatório do SketchUp'!$A$1:$CZ$1,0))&"",IFERROR(INDEX('Relatório do SketchUp'!$A$4:$CZ$4,MATCH("Onde comprar",'Relatório do SketchUp'!$A$1:$CZ$1,0))&"",IFERROR(INDEX('Relatório do SketchUp'!$A$4:$CZ$4,MATCH("f14_onde_comprar",'Relatório do SketchUp'!$A$1:$CZ$1,0))&"",IFERROR(INDEX('Relatório do SketchUp'!$A$4:$CZ$4,MATCH("Site",'Relatório do SketchUp'!$A$1:$CZ$1,0))&"",IFERROR(INDEX('Relatório do SketchUp'!$A$4:$CZ$4,MATCH("f13_site",'Relatório do SketchUp'!$A$1:$CZ$1,0))&"","")))))) | U7: =IF(OR(T7="",Q7=""),"",T7+Q7)
C8: =IFERROR(INDEX('Relatório do SketchUp'!$A$5:$CZ$5,MATCH("Produto",'Relatório do SketchUp'!$A$1:$CZ$1,0))&"",IFERROR(INDEX('Relatório do SketchUp'!$A$5:$CZ$5,MATCH("f02_produto",'Relatório do SketchUp'!$A$1:$CZ$1,0))&"",IFERROR(INDEX('Relatório do SketchUp'!$A$5:$CZ$5,MATCH("Definition Name",'Relatório do SketchUp'!$A$1:$CZ$1,0))&"",IFERROR(INDEX('Relatório do SketchUp'!$A$5:$CZ$5,MATCH("Nome da definição",'Relatório do SketchUp'!$A$1:$CZ$1,0))&"","")))) | D8: =IFERROR(INDEX('Relatório do SketchUp'!$A$5:$CZ$5,MATCH("Marca",'Relatório do SketchUp'!$A$1:$CZ$1,0))&"",IFERROR(INDEX('Relatório do SketchUp'!$A$5:$CZ$5,MATCH("f01_marca",'Relatório do SketchUp'!$A$1:$CZ$1,0))&"","")) | E8: =IFERROR(INDEX('Relatório do SketchUp'!$A$5:$CZ$5,MATCH("Linha",'Relatório do SketchUp'!$A$1:$CZ$1,0))&"",IFERROR(INDEX('Relatório do SketchUp'!$A$5:$CZ$5,MATCH("f04_linha",'Relatório do SketchUp'!$A$1:$CZ$1,0))&"","")) | F8: =IFERROR(INDEX('Relatório do SketchUp'!$A$5:$CZ$5,MATCH("Código do produto",'Relatório do SketchUp'!$A$1:$CZ$1,0))&"",IFERROR(INDEX('Relatório do SketchUp'!$A$5:$CZ$5,MATCH("f03_codigo",'Relatório do SketchUp'!$A$1:$CZ$1,0))&"","")) | G8: =IFERROR(INDEX('Relatório do SketchUp'!$A$5:$CZ$5,MATCH("Dimensões",'Relatório do SketchUp'!$A$1:$CZ$1,0))&"",IFERROR(INDEX('Relatório do SketchUp'!$A$5:$CZ$5,MATCH("f06_dimensoes",'Relatório do SketchUp'!$A$1:$CZ$1,0))&"","")) | H8: =IFERROR(INDEX('Relatório do SketchUp'!$A$5:$CZ$5,MATCH("Acabamento",'Relatório do SketchUp'!$A$1:$CZ$1,0))&"",IFERROR(INDEX('Relatório do SketchUp'!$A$5:$CZ$5,MATCH("f07_acabamento",'Relatório do SketchUp'!$A$1:$CZ$1,0))&"","")) | I8: =IF(C8="","",IFERROR(VALUE(IFERROR(INDEX('Relatório do SketchUp'!$A$5:$CZ$5,MATCH("Quantity",'Relatório do SketchUp'!$A$1:$CZ$1,0))&"",IFERROR(INDEX('Relatório do SketchUp'!$A$5:$CZ$5,MATCH("Quantidade",'Relatório do SketchUp'!$A$1:$CZ$1,0))&"",IFERROR(INDEX('Relatório do SketchUp'!$A$5:$CZ$5,MATCH("Qtd",'Relatório do SketchUp'!$A$1:$CZ$1,0))&"",IFERROR(INDEX('Relatório do SketchUp'!$A$5:$CZ$5,MATCH("Count",'Relatório do SketchUp'!$A$1:$CZ$1,0))&"",""))))),1)) | K8: =IFERROR(INDEX('Relatório do SketchUp'!$A$5:$CZ$5,MATCH("Preço estimado",'Relatório do SketchUp'!$A$1:$CZ$1,0))&"",IFERROR(INDEX('Relatório do SketchUp'!$A$5:$CZ$5,MATCH("f16_preco",'Relatório do SketchUp'!$A$1:$CZ$1,0))&"","")) | M8: =IF(OR(I8="",L8=""),"",I8*L8) | N8: =IF(IFERROR(INDEX('Relatório do SketchUp'!$A$5:$CZ$5,MATCH("Fornecedor",'Relatório do SketchUp'!$A$1:$CZ$1,0))&"",IFERROR(INDEX('Relatório do SketchUp'!$A$5:$CZ$5,MATCH("f09_fornecedor",'Relatório do SketchUp'!$A$1:$CZ$1,0))&"",""))<>"",IFERROR(INDEX('Relatório do SketchUp'!$A$5:$CZ$5,MATCH("Fornecedor",'Relatório do SketchUp'!$A$1:$CZ$1,0))&"",IFERROR(INDEX('Relatório do SketchUp'!$A$5:$CZ$5,MATCH("f09_fornecedor",'Relatório do SketchUp'!$A$1:$CZ$1,0))&"","")),IF(IFERROR(INDEX('Relatório do SketchUp'!$A$5:$CZ$5,MATCH("Marca",'Relatório do SketchUp'!$A$1:$CZ$1,0))&"",IFERROR(INDEX('Relatório do SketchUp'!$A$5:$CZ$5,MATCH("f01_marca",'Relatório do SketchUp'!$A$1:$CZ$1,0))&"",""))<>"",IFERROR(INDEX('Relatório do SketchUp'!$A$5:$CZ$5,MATCH("Marca",'Relatório do SketchUp'!$A$1:$CZ$1,0))&"",IFERROR(INDEX('Relatório do SketchUp'!$A$5:$CZ$5,MATCH("f01_marca",'Relatório do SketchUp'!$A$1:$CZ$1,0))&"","")),"")) | O8: =_xlfn.TEXTJOIN(" · ",TRUE,IFERROR(INDEX('Relatório do SketchUp'!$A$5:$CZ$5,MATCH("WhatsApp",'Relatório do SketchUp'!$A$1:$CZ$1,0))&"",IFERROR(INDEX('Relatório do SketchUp'!$A$5:$CZ$5,MATCH("f11_whatsapp",'Relatório do SketchUp'!$A$1:$CZ$1,0))&"","")),IFERROR(INDEX('Relatório do SketchUp'!$A$5:$CZ$5,MATCH("Telefone",'Relatório do SketchUp'!$A$1:$CZ$1,0))&"",IFERROR(INDEX('Relatório do SketchUp'!$A$5:$CZ$5,MATCH("f10_telefone",'Relatório do SketchUp'!$A$1:$CZ$1,0))&"","")),IFERROR(INDEX('Relatório do SketchUp'!$A$5:$CZ$5,MATCH("E-mail",'Relatório do SketchUp'!$A$1:$CZ$1,0))&"",IFERROR(INDEX('Relatório do SketchUp'!$A$5:$CZ$5,MATCH("f12_email",'Relatório do SketchUp'!$A$1:$CZ$1,0))&"",""))) | P8: =IFERROR(INDEX('Relatório do SketchUp'!$A$5:$CZ$5,MATCH("Página do produto",'Relatório do SketchUp'!$A$1:$CZ$1,0))&"",IFERROR(INDEX('Relatório do SketchUp'!$A$5:$CZ$5,MATCH("f15_link_produto",'Relatório do SketchUp'!$A$1:$CZ$1,0))&"",IFERROR(INDEX('Relatório do SketchUp'!$A$5:$CZ$5,MATCH("Onde comprar",'Relatório do SketchUp'!$A$1:$CZ$1,0))&"",IFERROR(INDEX('Relatório do SketchUp'!$A$5:$CZ$5,MATCH("f14_onde_comprar",'Relatório do SketchUp'!$A$1:$CZ$1,0))&"",IFERROR(INDEX('Relatório do SketchUp'!$A$5:$CZ$5,MATCH("Site",'Relatório do SketchUp'!$A$1:$CZ$1,0))&"",IFERROR(INDEX('Relatório do SketchUp'!$A$5:$CZ$5,MATCH("f13_site",'Relatório do SketchUp'!$A$1:$CZ$1,0))&"","")))))) | U8: =IF(OR(T8="",Q8=""),"",T8+Q8)
C9: =IFERROR(INDEX('Relatório do SketchUp'!$A$6:$CZ$6,MATCH("Produto",'Relatório do SketchUp'!$A$1:$CZ$1,0))&"",IFERROR(INDEX('Relatório do SketchUp'!$A$6:$CZ$6,MATCH("f02_produto",'Relatório do SketchUp'!$A$1:$CZ$1,0))&"",IFERROR(INDEX('Relatório do SketchUp'!$A$6:$CZ$6,MATCH("Definition Name",'Relatório do SketchUp'!$A$1:$CZ$1,0))&"",IFERROR(INDEX('Relatório do SketchUp'!$A$6:$CZ$6,MATCH("Nome da definição",'Relatório do SketchUp'!$A$1:$CZ$1,0))&"","")))) | D9: =IFERROR(INDEX('Relatório do SketchUp'!$A$6:$CZ$6,MATCH("Marca",'Relatório do SketchUp'!$A$1:$CZ$1,0))&"",IFERROR(INDEX('Relatório do SketchUp'!$A$6:$CZ$6,MATCH("f01_marca",'Relatório do SketchUp'!$A$1:$CZ$1,0))&"","")) | E9: =IFERROR(INDEX('Relatório do SketchUp'!$A$6:$CZ$6,MATCH("Linha",'Relatório do SketchUp'!$A$1:$CZ$1,0))&"",IFERROR(INDEX('Relatório do SketchUp'!$A$6:$CZ$6,MATCH("f04_linha",'Relatório do SketchUp'!$A$1:$CZ$1,0))&"","")) | F9: =IFERROR(INDEX('Relatório do SketchUp'!$A$6:$CZ$6,MATCH("Código do produto",'Relatório do SketchUp'!$A$1:$CZ$1,0))&"",IFERROR(INDEX('Relatório do SketchUp'!$A$6:$CZ$6,MATCH("f03_codigo",'Relatório do SketchUp'!$A$1:$CZ$1,0))&"","")) | G9: =IFERROR(INDEX('Relatório do SketchUp'!$A$6:$CZ$6,MATCH("Dimensões",'Relatório do SketchUp'!$A$1:$CZ$1,0))&"",IFERROR(INDEX('Relatório do SketchUp'!$A$6:$CZ$6,MATCH("f06_dimensoes",'Relatório do SketchUp'!$A$1:$CZ$1,0))&"","")) | H9: =IFERROR(INDEX('Relatório do SketchUp'!$A$6:$CZ$6,MATCH("Acabamento",'Relatório do SketchUp'!$A$1:$CZ$1,0))&"",IFERROR(INDEX('Relatório do SketchUp'!$A$6:$CZ$6,MATCH("f07_acabamento",'Relatório do SketchUp'!$A$1:$CZ$1,0))&"","")) | I9: =IF(C9="","",IFERROR(VALUE(IFERROR(INDEX('Relatório do SketchUp'!$A$6:$CZ$6,MATCH("Quantity",'Relatório do SketchUp'!$A$1:$CZ$1,0))&"",IFERROR(INDEX('Relatório do SketchUp'!$A$6:$CZ$6,MATCH("Quantidade",'Relatório do SketchUp'!$A$1:$CZ$1,0))&"",IFERROR(INDEX('Relatório do SketchUp'!$A$6:$CZ$6,MATCH("Qtd",'Relatório do SketchUp'!$A$1:$CZ$1,0))&"",IFERROR(INDEX('Relatório do SketchUp'!$A$6:$CZ$6,MATCH("Count",'Relatório do SketchUp'!$A$1:$CZ$1,0))&"",""))))),1)) | K9: =IFERROR(INDEX('Relatório do SketchUp'!$A$6:$CZ$6,MATCH("Preço estimado",'Relatório do SketchUp'!$A$1:$CZ$1,0))&"",IFERROR(INDEX('Relatório do SketchUp'!$A$6:$CZ$6,MATCH("f16_preco",'Relatório do SketchUp'!$A$1:$CZ$1,0))&"","")) | M9: =IF(OR(I9="",L9=""),"",I9*L9) | N9: =IF(IFERROR(INDEX('Relatório do SketchUp'!$A$6:$CZ$6,MATCH("Fornecedor",'Relatório do SketchUp'!$A$1:$CZ$1,0))&"",IFERROR(INDEX('Relatório do SketchUp'!$A$6:$CZ$6,MATCH("f09_fornecedor",'Relatório do SketchUp'!$A$1:$CZ$1,0))&"",""))<>"",IFERROR(INDEX('Relatório do SketchUp'!$A$6:$CZ$6,MATCH("Fornecedor",'Relatório do SketchUp'!$A$1:$CZ$1,0))&"",IFERROR(INDEX('Relatório do SketchUp'!$A$6:$CZ$6,MATCH("f09_fornecedor",'Relatório do SketchUp'!$A$1:$CZ$1,0))&"","")),IF(IFERROR(INDEX('Relatório do SketchUp'!$A$6:$CZ$6,MATCH("Marca",'Relatório do SketchUp'!$A$1:$CZ$1,0))&"",IFERROR(INDEX('Relatório do SketchUp'!$A$6:$CZ$6,MATCH("f01_marca",'Relatório do SketchUp'!$A$1:$CZ$1,0))&"",""))<>"",IFERROR(INDEX('Relatório do SketchUp'!$A$6:$CZ$6,MATCH("Marca",'Relatório do SketchUp'!$A$1:$CZ$1,0))&"",IFERROR(INDEX('Relatório do SketchUp'!$A$6:$CZ$6,MATCH("f01_marca",'Relatório do SketchUp'!$A$1:$CZ$1,0))&"","")),"")) | O9: =_xlfn.TEXTJOIN(" · ",TRUE,IFERROR(INDEX('Relatório do SketchUp'!$A$6:$CZ$6,MATCH("WhatsApp",'Relatório do SketchUp'!$A$1:$CZ$1,0))&"",IFERROR(INDEX('Relatório do SketchUp'!$A$6:$CZ$6,MATCH("f11_whatsapp",'Relatório do SketchUp'!$A$1:$CZ$1,0))&"","")),IFERROR(INDEX('Relatório do SketchUp'!$A$6:$CZ$6,MATCH("Telefone",'Relatório do SketchUp'!$A$1:$CZ$1,0))&"",IFERROR(INDEX('Relatório do SketchUp'!$A$6:$CZ$6,MATCH("f10_telefone",'Relatório do SketchUp'!$A$1:$CZ$1,0))&"","")),IFERROR(INDEX('Relatório do SketchUp'!$A$6:$CZ$6,MATCH("E-mail",'Relatório do SketchUp'!$A$1:$CZ$1,0))&"",IFERROR(INDEX('Relatório do SketchUp'!$A$6:$CZ$6,MATCH("f12_email",'Relatório do SketchUp'!$A$1:$CZ$1,0))&"",""))) | P9: =IFERROR(INDEX('Relatório do SketchUp'!$A$6:$CZ$6,MATCH("Página do produto",'Relatório do SketchUp'!$A$1:$CZ$1,0))&"",IFERROR(INDEX('Relatório do SketchUp'!$A$6:$CZ$6,MATCH("f15_link_produto",'Relatório do SketchUp'!$A$1:$CZ$1,0))&"",IFERROR(INDEX('Relatório do SketchUp'!$A$6:$CZ$6,MATCH("Onde comprar",'Relatório do SketchUp'!$A$1:$CZ$1,0))&"",IFERROR(INDEX('Relatório do SketchUp'!$A$6:$CZ$6,MATCH("f14_onde_comprar",'Relatório do SketchUp'!$A$1:$CZ$1,0))&"",IFERROR(INDEX('Relatório do SketchUp'!$A$6:$CZ$6,MATCH("Site",'Relatório do SketchUp'!$A$1:$CZ$1,0))&"",IFERROR(INDEX('Relatório do SketchUp'!$A$6:$CZ$6,MATCH("f13_site",'Relatório do SketchUp'!$A$1:$CZ$1,0))&"","")))))) | U9: =IF(OR(T9="",Q9=""),"",T9+Q9)
C10: =IFERROR(INDEX('Relatório do SketchUp'!$A$7:$CZ$7,MATCH("Produto",'Relatório do SketchUp'!$A$1:$CZ$1,0))&"",IFERROR(INDEX('Relatório do SketchUp'!$A$7:$CZ$7,MATCH("f02_produto",'Relatório do SketchUp'!$A$1:$CZ$1,0))&"",IFERROR(INDEX('Relatório do SketchUp'!$A$7:$CZ$7,MATCH("Definition Name",'Relatório do SketchUp'!$A$1:$CZ$1,0))&"",IFERROR(INDEX('Relatório do SketchUp'!$A$7:$CZ$7,MATCH("Nome da definição",'Relatório do SketchUp'!$A$1:$CZ$1,0))&"","")))) | D10: =IFERROR(INDEX('Relatório do SketchUp'!$A$7:$CZ$7,MATCH("Marca",'Relatório do SketchUp'!$A$1:$CZ$1,0))&"",IFERROR(INDEX('Relatório do SketchUp'!$A$7:$CZ$7,MATCH("f01_marca",'Relatório do SketchUp'!$A$1:$CZ$1,0))&"","")) | E10: =IFERROR(INDEX('Relatório do SketchUp'!$A$7:$CZ$7,MATCH("Linha",'Relatório do SketchUp'!$A$1:$CZ$1,0))&"",IFERROR(INDEX('Relatório do SketchUp'!$A$7:$CZ$7,MATCH("f04_linha",'Relatório do SketchUp'!$A$1:$CZ$1,0))&"","")) | F10: =IFERROR(INDEX('Relatório do SketchUp'!$A$7:$CZ$7,MATCH("Código do produto",'Relatório do SketchUp'!$A$1:$CZ$1,0))&"",IFERROR(INDEX('Relatório do SketchUp'!$A$7:$CZ$7,MATCH("f03_codigo",'Relatório do SketchUp'!$A$1:$CZ$1,0))&"","")) | G10: =IFERROR(INDEX('Relatório do SketchUp'!$A$7:$CZ$7,MATCH("Dimensões",'Relatório do SketchUp'!$A$1:$CZ$1,0))&"",IFERROR(INDEX('Relatório do SketchUp'!$A$7:$CZ$7,MATCH("f06_dimensoes",'Relatório do SketchUp'!$A$1:$CZ$1,0))&"","")) | H10: =IFERROR(INDEX('Relatório do SketchUp'!$A$7:$CZ$7,MATCH("Acabamento",'Relatório do SketchUp'!$A$1:$CZ$1,0))&"",IFERROR(INDEX('Relatório do SketchUp'!$A$7:$CZ$7,MATCH("f07_acabamento",'Relatório do SketchUp'!$A$1:$CZ$1,0))&"","")) | I10: =IF(C10="","",IFERROR(VALUE(IFERROR(INDEX('Relatório do SketchUp'!$A$7:$CZ$7,MATCH("Quantity",'Relatório do SketchUp'!$A$1:$CZ$1,0))&"",IFERROR(INDEX('Relatório do SketchUp'!$A$7:$CZ$7,MATCH("Quantidade",'Relatório do SketchUp'!$A$1:$CZ$1,0))&"",IFERROR(INDEX('Relatório do SketchUp'!$A$7:$CZ$7,MATCH("Qtd",'Relatório do SketchUp'!$A$1:$CZ$1,0))&"",IFERROR(INDEX('Relatório do SketchUp'!$A$7:$CZ$7,MATCH("Count",'Relatório do SketchUp'!$A$1:$CZ$1,0))&"",""))))),1)) | K10: =IFERROR(INDEX('Relatório do SketchUp'!$A$7:$CZ$7,MATCH("Preço estimado",'Relatório do SketchUp'!$A$1:$CZ$1,0))&"",IFERROR(INDEX('Relatório do SketchUp'!$A$7:$CZ$7,MATCH("f16_preco",'Relatório do SketchUp'!$A$1:$CZ$1,0))&"","")) | M10: =IF(OR(I10="",L10=""),"",I10*L10) | N10: =IF(IFERROR(INDEX('Relatório do SketchUp'!$A$7:$CZ$7,MATCH("Fornecedor",'Relatório do SketchUp'!$A$1:$CZ$1,0))&"",IFERROR(INDEX('Relatório do SketchUp'!$A$7:$CZ$7,MATCH("f09_fornecedor",'Relatório do SketchUp'!$A$1:$CZ$1,0))&"",""))<>"",IFERROR(INDEX('Relatório do SketchUp'!$A$7:$CZ$7,MATCH("Fornecedor",'Relatório do SketchUp'!$A$1:$CZ$1,0))&"",IFERROR(INDEX('Relatório do SketchUp'!$A$7:$CZ$7,MATCH("f09_fornecedor",'Relatório do SketchUp'!$A$1:$CZ$1,0))&"","")),IF(IFERROR(INDEX('Relatório do SketchUp'!$A$7:$CZ$7,MATCH("Marca",'Relatório do SketchUp'!$A$1:$CZ$1,0))&"",IFERROR(INDEX('Relatório do SketchUp'!$A$7:$CZ$7,MATCH("f01_marca",'Relatório do SketchUp'!$A$1:$CZ$1,0))&"",""))<>"",IFERROR(INDEX('Relatório do SketchUp'!$A$7:$CZ$7,MATCH("Marca",'Relatório do SketchUp'!$A$1:$CZ$1,0))&"",IFERROR(INDEX('Relatório do SketchUp'!$A$7:$CZ$7,MATCH("f01_marca",'Relatório do SketchUp'!$A$1:$CZ$1,0))&"","")),"")) | O10: =_xlfn.TEXTJOIN(" · ",TRUE,IFERROR(INDEX('Relatório do SketchUp'!$A$7:$CZ$7,MATCH("WhatsApp",'Relatório do SketchUp'!$A$1:$CZ$1,0))&"",IFERROR(INDEX('Relatório do SketchUp'!$A$7:$CZ$7,MATCH("f11_whatsapp",'Relatório do SketchUp'!$A$1:$CZ$1,0))&"","")),IFERROR(INDEX('Relatório do SketchUp'!$A$7:$CZ$7,MATCH("Telefone",'Relatório do SketchUp'!$A$1:$CZ$1,0))&"",IFERROR(INDEX('Relatório do SketchUp'!$A$7:$CZ$7,MATCH("f10_telefone",'Relatório do SketchUp'!$A$1:$CZ$1,0))&"","")),IFERROR(INDEX('Relatório do SketchUp'!$A$7:$CZ$7,MATCH("E-mail",'Relatório do SketchUp'!$A$1:$CZ$1,0))&"",IFERROR(INDEX('Relatório do SketchUp'!$A$7:$CZ$7,MATCH("f12_email",'Relatório do SketchUp'!$A$1:$CZ$1,0))&"",""))) | P10: =IFERROR(INDEX('Relatório do SketchUp'!$A$7:$CZ$7,MATCH("Página do produto",'Relatório do SketchUp'!$A$1:$CZ$1,0))&"",IFERROR(INDEX('Relatório do SketchUp'!$A$7:$CZ$7,MATCH("f15_link_produto",'Relatório do SketchUp'!$A$1:$CZ$1,0))&"",IFERROR(INDEX('Relatório do SketchUp'!$A$7:$CZ$7,MATCH("Onde comprar",'Relatório do SketchUp'!$A$1:$CZ$1,0))&"",IFERROR(INDEX('Relatório do SketchUp'!$A$7:$CZ$7,MATCH("f14_onde_comprar",'Relatório do SketchUp'!$A$1:$CZ$1,0))&"",IFERROR(INDEX('Relatório do SketchUp'!$A$7:$CZ$7,MATCH("Site",'Relatório do SketchUp'!$A$1:$CZ$1,0))&"",IFERROR(INDEX('Relatório do SketchUp'!$A$7:$CZ$7,MATCH("f13_site",'Relatório do SketchUp'!$A$1:$CZ$1,0))&"","")))))) | U10: =IF(OR(T10="",Q10=""),"",T10+Q10)
C11: =IFERROR(INDEX('Relatório do SketchUp'!$A$8:$CZ$8,MATCH("Produto",'Relatório do SketchUp'!$A$1:$CZ$1,0))&"",IFERROR(INDEX('Relatório do SketchUp'!$A$8:$CZ$8,MATCH("f02_produto",'Relatório do SketchUp'!$A$1:$CZ$1,0))&"",IFERROR(INDEX('Relatório do SketchUp'!$A$8:$CZ$8,MATCH("Definition Name",'Relatório do SketchUp'!$A$1:$CZ$1,0))&"",IFERROR(INDEX('Relatório do SketchUp'!$A$8:$CZ$8,MATCH("Nome da definição",'Relatório do SketchUp'!$A$1:$CZ$1,0))&"","")))) | D11: =IFERROR(INDEX('Relatório do SketchUp'!$A$8:$CZ$8,MATCH("Marca",'Relatório do SketchUp'!$A$1:$CZ$1,0))&"",IFERROR(INDEX('Relatório do SketchUp'!$A$8:$CZ$8,MATCH("f01_marca",'Relatório do SketchUp'!$A$1:$CZ$1,0))&"","")) | E11: =IFERROR(INDEX('Relatório do SketchUp'!$A$8:$CZ$8,MATCH("Linha",'Relatório do SketchUp'!$A$1:$CZ$1,0))&"",IFERROR(INDEX('Relatório do SketchUp'!$A$8:$CZ$8,MATCH("f04_linha",'Relatório do SketchUp'!$A$1:$CZ$1,0))&"","")) | F11: =IFERROR(INDEX('Relatório do SketchUp'!$A$8:$CZ$8,MATCH("Código do produto",'Relatório do SketchUp'!$A$1:$CZ$1,0))&"",IFERROR(INDEX('Relatório do SketchUp'!$A$8:$CZ$8,MATCH("f03_codigo",'Relatório do SketchUp'!$A$1:$CZ$1,0))&"","")) | G11: =IFERROR(INDEX('Relatório do SketchUp'!$A$8:$CZ$8,MATCH("Dimensões",'Relatório do SketchUp'!$A$1:$CZ$1,0))&"",IFERROR(INDEX('Relatório do SketchUp'!$A$8:$CZ$8,MATCH("f06_dimensoes",'Relatório do SketchUp'!$A$1:$CZ$1,0))&"","")) | H11: =IFERROR(INDEX('Relatório do SketchUp'!$A$8:$CZ$8,MATCH("Acabamento",'Relatório do SketchUp'!$A$1:$CZ$1,0))&"",IFERROR(INDEX('Relatório do SketchUp'!$A$8:$CZ$8,MATCH("f07_acabamento",'Relatório do SketchUp'!$A$1:$CZ$1,0))&"","")) | I11: =IF(C11="","",IFERROR(VALUE(IFERROR(INDEX('Relatório do SketchUp'!$A$8:$CZ$8,MATCH("Quantity",'Relatório do SketchUp'!$A$1:$CZ$1,0))&"",IFERROR(INDEX('Relatório do SketchUp'!$A$8:$CZ$8,MATCH("Quantidade",'Relatório do SketchUp'!$A$1:$CZ$1,0))&"",IFERROR(INDEX('Relatório do SketchUp'!$A$8:$CZ$8,MATCH("Qtd",'Relatório do SketchUp'!$A$1:$CZ$1,0))&"",IFERROR(INDEX('Relatório do SketchUp'!$A$8:$CZ$8,MATCH("Count",'Relatório do SketchUp'!$A$1:$CZ$1,0))&"",""))))),1)) | K11: =IFERROR(INDEX('Relatório do SketchUp'!$A$8:$CZ$8,MATCH("Preço estimado",'Relatório do SketchUp'!$A$1:$CZ$1,0))&"",IFERROR(INDEX('Relatório do SketchUp'!$A$8:$CZ$8,MATCH("f16_preco",'Relatório do SketchUp'!$A$1:$CZ$1,0))&"","")) | M11: =IF(OR(I11="",L11=""),"",I11*L11) | N11: =IF(IFERROR(INDEX('Relatório do SketchUp'!$A$8:$CZ$8,MATCH("Fornecedor",'Relatório do SketchUp'!$A$1:$CZ$1,0))&"",IFERROR(INDEX('Relatório do SketchUp'!$A$8:$CZ$8,MATCH("f09_fornecedor",'Relatório do SketchUp'!$A$1:$CZ$1,0))&"",""))<>"",IFERROR(INDEX('Relatório do SketchUp'!$A$8:$CZ$8,MATCH("Fornecedor",'Relatório do SketchUp'!$A$1:$CZ$1,0))&"",IFERROR(INDEX('Relatório do SketchUp'!$A$8:$CZ$8,MATCH("f09_fornecedor",'Relatório do SketchUp'!$A$1:$CZ$1,0))&"","")),IF(IFERROR(INDEX('Relatório do SketchUp'!$A$8:$CZ$8,MATCH("Marca",'Relatório do SketchUp'!$A$1:$CZ$1,0))&"",IFERROR(INDEX('Relatório do SketchUp'!$A$8:$CZ$8,MATCH("f01_marca",'Relatório do SketchUp'!$A$1:$CZ$1,0))&"",""))<>"",IFERROR(INDEX('Relatório do SketchUp'!$A$8:$CZ$8,MATCH("Marca",'Relatório do SketchUp'!$A$1:$CZ$1,0))&"",IFERROR(INDEX('Relatório do SketchUp'!$A$8:$CZ$8,MATCH("f01_marca",'Relatório do SketchUp'!$A$1:$CZ$1,0))&"","")),"")) | O11: =_xlfn.TEXTJOIN(" · ",TRUE,IFERROR(INDEX('Relatório do SketchUp'!$A$8:$CZ$8,MATCH("WhatsApp",'Relatório do SketchUp'!$A$1:$CZ$1,0))&"",IFERROR(INDEX('Relatório do SketchUp'!$A$8:$CZ$8,MATCH("f11_whatsapp",'Relatório do SketchUp'!$A$1:$CZ$1,0))&"","")),IFERROR(INDEX('Relatório do SketchUp'!$A$8:$CZ$8,MATCH("Telefone",'Relatório do SketchUp'!$A$1:$CZ$1,0))&"",IFERROR(INDEX('Relatório do SketchUp'!$A$8:$CZ$8,MATCH("f10_telefone",'Relatório do SketchUp'!$A$1:$CZ$1,0))&"","")),IFERROR(INDEX('Relatório do SketchUp'!$A$8:$CZ$8,MATCH("E-mail",'Relatório do SketchUp'!$A$1:$CZ$1,0))&"",IFERROR(INDEX('Relatório do SketchUp'!$A$8:$CZ$8,MATCH("f12_email",'Relatório do SketchUp'!$A$1:$CZ$1,0))&"",""))) | P11: =IFERROR(INDEX('Relatório do SketchUp'!$A$8:$CZ$8,MATCH("Página do produto",'Relatório do SketchUp'!$A$1:$CZ$1,0))&"",IFERROR(INDEX('Relatório do SketchUp'!$A$8:$CZ$8,MATCH("f15_link_produto",'Relatório do SketchUp'!$A$1:$CZ$1,0))&"",IFERROR(INDEX('Relatório do SketchUp'!$A$8:$CZ$8,MATCH("Onde comprar",'Relatório do SketchUp'!$A$1:$CZ$1,0))&"",IFERROR(INDEX('Relatório do SketchUp'!$A$8:$CZ$8,MATCH("f14_onde_comprar",'Relatório do SketchUp'!$A$1:$CZ$1,0))&"",IFERROR(INDEX('Relatório do SketchUp'!$A$8:$CZ$8,MATCH("Site",'Relatório do SketchUp'!$A$1:$CZ$1,0))&"",IFERROR(INDEX('Relatório do SketchUp'!$A$8:$CZ$8,MATCH("f13_site",'Relatório do SketchUp'!$A$1:$CZ$1,0))&"","")))))) | U11: =IF(OR(T11="",Q11=""),"",T11+Q11)
C12: =IFERROR(INDEX('Relatório do SketchUp'!$A$9:$CZ$9,MATCH("Produto",'Relatório do SketchUp'!$A$1:$CZ$1,0))&"",IFERROR(INDEX('Relatório do SketchUp'!$A$9:$CZ$9,MATCH("f02_produto",'Relatório do SketchUp'!$A$1:$CZ$1,0))&"",IFERROR(INDEX('Relatório do SketchUp'!$A$9:$CZ$9,MATCH("Definition Name",'Relatório do SketchUp'!$A$1:$CZ$1,0))&"",IFERROR(INDEX('Relatório do SketchUp'!$A$9:$CZ$9,MATCH("Nome da definição",'Relatório do SketchUp'!$A$1:$CZ$1,0))&"","")))) | D12: =IFERROR(INDEX('Relatório do SketchUp'!$A$9:$CZ$9,MATCH("Marca",'Relatório do SketchUp'!$A$1:$CZ$1,0))&"",IFERROR(INDEX('Relatório do SketchUp'!$A$9:$CZ$9,MATCH("f01_marca",'Relatório do SketchUp'!$A$1:$CZ$1,0))&"","")) | E12: =IFERROR(INDEX('Relatório do SketchUp'!$A$9:$CZ$9,MATCH("Linha",'Relatório do SketchUp'!$A$1:$CZ$1,0))&"",IFERROR(INDEX('Relatório do SketchUp'!$A$9:$CZ$9,MATCH("f04_linha",'Relatório do SketchUp'!$A$1:$CZ$1,0))&"","")) | F12: =IFERROR(INDEX('Relatório do SketchUp'!$A$9:$CZ$9,MATCH("Código do produto",'Relatório do SketchUp'!$A$1:$CZ$1,0))&"",IFERROR(INDEX('Relatório do SketchUp'!$A$9:$CZ$9,MATCH("f03_codigo",'Relatório do SketchUp'!$A$1:$CZ$1,0))&"","")) | G12: =IFERROR(INDEX('Relatório do SketchUp'!$A$9:$CZ$9,MATCH("Dimensões",'Relatório do SketchUp'!$A$1:$CZ$1,0))&"",IFERROR(INDEX('Relatório do SketchUp'!$A$9:$CZ$9,MATCH("f06_dimensoes",'Relatório do SketchUp'!$A$1:$CZ$1,0))&"","")) | H12: =IFERROR(INDEX('Relatório do SketchUp'!$A$9:$CZ$9,MATCH("Acabamento",'Relatório do SketchUp'!$A$1:$CZ$1,0))&"",IFERROR(INDEX('Relatório do SketchUp'!$A$9:$CZ$9,MATCH("f07_acabamento",'Relatório do SketchUp'!$A$1:$CZ$1,0))&"","")) | I12: =IF(C12="","",IFERROR(VALUE(IFERROR(INDEX('Relatório do SketchUp'!$A$9:$CZ$9,MATCH("Quantity",'Relatório do SketchUp'!$A$1:$CZ$1,0))&"",IFERROR(INDEX('Relatório do SketchUp'!$A$9:$CZ$9,MATCH("Quantidade",'Relatório do SketchUp'!$A$1:$CZ$1,0))&"",IFERROR(INDEX('Relatório do SketchUp'!$A$9:$CZ$9,MATCH("Qtd",'Relatório do SketchUp'!$A$1:$CZ$1,0))&"",IFERROR(INDEX('Relatório do SketchUp'!$A$9:$CZ$9,MATCH("Count",'Relatório do SketchUp'!$A$1:$CZ$1,0))&"",""))))),1)) | K12: =IFERROR(INDEX('Relatório do SketchUp'!$A$9:$CZ$9,MATCH("Preço estimado",'Relatório do SketchUp'!$A$1:$CZ$1,0))&"",IFERROR(INDEX('Relatório do SketchUp'!$A$9:$CZ$9,MATCH("f16_preco",'Relatório do SketchUp'!$A$1:$CZ$1,0))&"","")) | M12: =IF(OR(I12="",L12=""),"",I12*L12) | N12: =IF(IFERROR(INDEX('Relatório do SketchUp'!$A$9:$CZ$9,MATCH("Fornecedor",'Relatório do SketchUp'!$A$1:$CZ$1,0))&"",IFERROR(INDEX('Relatório do SketchUp'!$A$9:$CZ$9,MATCH("f09_fornecedor",'Relatório do SketchUp'!$A$1:$CZ$1,0))&"",""))<>"",IFERROR(INDEX('Relatório do SketchUp'!$A$9:$CZ$9,MATCH("Fornecedor",'Relatório do SketchUp'!$A$1:$CZ$1,0))&"",IFERROR(INDEX('Relatório do SketchUp'!$A$9:$CZ$9,MATCH("f09_fornecedor",'Relatório do SketchUp'!$A$1:$CZ$1,0))&"","")),IF(IFERROR(INDEX('Relatório do SketchUp'!$A$9:$CZ$9,MATCH("Marca",'Relatório do SketchUp'!$A$1:$CZ$1,0))&"",IFERROR(INDEX('Relatório do SketchUp'!$A$9:$CZ$9,MATCH("f01_marca",'Relatório do SketchUp'!$A$1:$CZ$1,0))&"",""))<>"",IFERROR(INDEX('Relatório do SketchUp'!$A$9:$CZ$9,MATCH("Marca",'Relatório do SketchUp'!$A$1:$CZ$1,0))&"",IFERROR(INDEX('Relatório do SketchUp'!$A$9:$CZ$9,MATCH("f01_marca",'Relatório do SketchUp'!$A$1:$CZ$1,0))&"","")),"")) | O12: =_xlfn.TEXTJOIN(" · ",TRUE,IFERROR(INDEX('Relatório do SketchUp'!$A$9:$CZ$9,MATCH("WhatsApp",'Relatório do SketchUp'!$A$1:$CZ$1,0))&"",IFERROR(INDEX('Relatório do SketchUp'!$A$9:$CZ$9,MATCH("f11_whatsapp",'Relatório do SketchUp'!$A$1:$CZ$1,0))&"","")),IFERROR(INDEX('Relatório do SketchUp'!$A$9:$CZ$9,MATCH("Telefone",'Relatório do SketchUp'!$A$1:$CZ$1,0))&"",IFERROR(INDEX('Relatório do SketchUp'!$A$9:$CZ$9,MATCH("f10_telefone",'Relatório do SketchUp'!$A$1:$CZ$1,0))&"","")),IFERROR(INDEX('Relatório do SketchUp'!$A$9:$CZ$9,MATCH("E-mail",'Relatório do SketchUp'!$A$1:$CZ$1,0))&"",IFERROR(INDEX('Relatório do SketchUp'!$A$9:$CZ$9,MATCH("f12_email",'Relatório do SketchUp'!$A$1:$CZ$1,0))&"",""))) | P12: =IFERROR(INDEX('Relatório do SketchUp'!$A$9:$CZ$9,MATCH("Página do produto",'Relatório do SketchUp'!$A$1:$CZ$1,0))&"",IFERROR(INDEX('Relatório do SketchUp'!$A$9:$CZ$9,MATCH("f15_link_produto",'Relatório do SketchUp'!$A$1:$CZ$1,0))&"",IFERROR(INDEX('Relatório do SketchUp'!$A$9:$CZ$9,MATCH("Onde comprar",'Relatório do SketchUp'!$A$1:$CZ$1,0))&"",IFERROR(INDEX('Relatório do SketchUp'!$A$9:$CZ$9,MATCH("f14_onde_comprar",'Relatório do SketchUp'!$A$1:$CZ$1,0))&"",IFERROR(INDEX('Relatório do SketchUp'!$A$9:$CZ$9,MATCH("Site",'Relatório do SketchUp'!$A$1:$CZ$1,0))&"",IFERROR(INDEX('Relatório do SketchUp'!$A$9:$CZ$9,MATCH("f13_site",'Relatório do SketchUp'!$A$1:$CZ$1,0))&"","")))))) | U12: =IF(OR(T12="",Q12=""),"",T12+Q12)
C13: =IFERROR(INDEX('Relatório do SketchUp'!$A$10:$CZ$10,MATCH("Produto",'Relatório do SketchUp'!$A$1:$CZ$1,0))&"",IFERROR(INDEX('Relatório do SketchUp'!$A$10:$CZ$10,MATCH("f02_produto",'Relatório do SketchUp'!$A$1:$CZ$1,0))&"",IFERROR(INDEX('Relatório do SketchUp'!$A$10:$CZ$10,MATCH("Definition Name",'Relatório do SketchUp'!$A$1:$CZ$1,0))&"",IFERROR(INDEX('Relatório do SketchUp'!$A$10:$CZ$10,MATCH("Nome da definição",'Relatório do SketchUp'!$A$1:$CZ$1,0))&"","")))) | D13: =IFERROR(INDEX('Relatório do SketchUp'!$A$10:$CZ$10,MATCH("Marca",'Relatório do SketchUp'!$A$1:$CZ$1,0))&"",IFERROR(INDEX('Relatório do SketchUp'!$A$10:$CZ$10,MATCH("f01_marca",'Relatório do SketchUp'!$A$1:$CZ$1,0))&"","")) | E13: =IFERROR(INDEX('Relatório do SketchUp'!$A$10:$CZ$10,MATCH("Linha",'Relatório do SketchUp'!$A$1:$CZ$1,0))&"",IFERROR(INDEX('Relatório do SketchUp'!$A$10:$CZ$10,MATCH("f04_linha",'Relatório do SketchUp'!$A$1:$CZ$1,0))&"","")) | F13: =IFERROR(INDEX('Relatório do SketchUp'!$A$10:$CZ$10,MATCH("Código do produto",'Relatório do SketchUp'!$A$1:$CZ$1,0))&"",IFERROR(INDEX('Relatório do SketchUp'!$A$10:$CZ$10,MATCH("f03_codigo",'Relatório do SketchUp'!$A$1:$CZ$1,0))&"","")) | G13: =IFERROR(INDEX('Relatório do SketchUp'!$A$10:$CZ$10,MATCH("Dimensões",'Relatório do SketchUp'!$A$1:$CZ$1,0))&"",IFERROR(INDEX('Relatório do SketchUp'!$A$10:$CZ$10,MATCH("f06_dimensoes",'Relatório do SketchUp'!$A$1:$CZ$1,0))&"","")) | H13: =IFERROR(INDEX('Relatório do SketchUp'!$A$10:$CZ$10,MATCH("Acabamento",'Relatório do SketchUp'!$A$1:$CZ$1,0))&"",IFERROR(INDEX('Relatório do SketchUp'!$A$10:$CZ$10,MATCH("f07_acabamento",'Relatório do SketchUp'!$A$1:$CZ$1,0))&"","")) | I13: =IF(C13="","",IFERROR(VALUE(IFERROR(INDEX('Relatório do SketchUp'!$A$10:$CZ$10,MATCH("Quantity",'Relatório do SketchUp'!$A$1:$CZ$1,0))&"",IFERROR(INDEX('Relatório do SketchUp'!$A$10:$CZ$10,MATCH("Quantidade",'Relatório do SketchUp'!$A$1:$CZ$1,0))&"",IFERROR(INDEX('Relatório do SketchUp'!$A$10:$CZ$10,MATCH("Qtd",'Relatório do SketchUp'!$A$1:$CZ$1,0))&"",IFERROR(INDEX('Relatório do SketchUp'!$A$10:$CZ$10,MATCH("Count",'Relatório do SketchUp'!$A$1:$CZ$1,0))&"",""))))),1)) | K13: =IFERROR(INDEX('Relatório do SketchUp'!$A$10:$CZ$10,MATCH("Preço estimado",'Relatório do SketchUp'!$A$1:$CZ$1,0))&"",IFERROR(INDEX('Relatório do SketchUp'!$A$10:$CZ$10,MATCH("f16_preco",'Relatório do SketchUp'!$A$1:$CZ$1,0))&"","")) | M13: =IF(OR(I13="",L13=""),"",I13*L13) | N13: =IF(IFERROR(INDEX('Relatório do SketchUp'!$A$10:$CZ$10,MATCH("Fornecedor",'Relatório do SketchUp'!$A$1:$CZ$1,0))&"",IFERROR(INDEX('Relatório do SketchUp'!$A$10:$CZ$10,MATCH("f09_fornecedor",'Relatório do SketchUp'!$A$1:$CZ$1,0))&"",""))<>"",IFERROR(INDEX('Relatório do SketchUp'!$A$10:$CZ$10,MATCH("Fornecedor",'Relatório do SketchUp'!$A$1:$CZ$1,0))&"",IFERROR(INDEX('Relatório do SketchUp'!$A$10:$CZ$10,MATCH("f09_fornecedor",'Relatório do SketchUp'!$A$1:$CZ$1,0))&"","")),IF(IFERROR(INDEX('Relatório do SketchUp'!$A$10:$CZ$10,MATCH("Marca",'Relatório do SketchUp'!$A$1:$CZ$1,0))&"",IFERROR(INDEX('Relatório do SketchUp'!$A$10:$CZ$10,MATCH("f01_marca",'Relatório do SketchUp'!$A$1:$CZ$1,0))&"",""))<>"",IFERROR(INDEX('Relatório do SketchUp'!$A$10:$CZ$10,MATCH("Marca",'Relatório do SketchUp'!$A$1:$CZ$1,0))&"",IFERROR(INDEX('Relatório do SketchUp'!$A$10:$CZ$10,MATCH("f01_marca",'Relatório do SketchUp'!$A$1:$CZ$1,0))&"","")),"")) | O13: =_xlfn.TEXTJOIN(" · ",TRUE,IFERROR(INDEX('Relatório do SketchUp'!$A$10:$CZ$10,MATCH("WhatsApp",'Relatório do SketchUp'!$A$1:$CZ$1,0))&"",IFERROR(INDEX('Relatório do SketchUp'!$A$10:$CZ$10,MATCH("f11_whatsapp",'Relatório do SketchUp'!$A$1:$CZ$1,0))&"","")),IFERROR(INDEX('Relatório do SketchUp'!$A$10:$CZ$10,MATCH("Telefone",'Relatório do SketchUp'!$A$1:$CZ$1,0))&"",IFERROR(INDEX('Relatório do SketchUp'!$A$10:$CZ$10,MATCH("f10_telefone",'Relatório do SketchUp'!$A$1:$CZ$1,0))&"","")),IFERROR(INDEX('Relatório do SketchUp'!$A$10:$CZ$10,MATCH("E-mail",'Relatório do SketchUp'!$A$1:$CZ$1,0))&"",IFERROR(INDEX('Relatório do SketchUp'!$A$10:$CZ$10,MATCH("f12_email",'Relatório do SketchUp'!$A$1:$CZ$1,0))&"",""))) | P13: =IFERROR(INDEX('Relatório do SketchUp'!$A$10:$CZ$10,MATCH("Página do produto",'Relatório do SketchUp'!$A$1:$CZ$1,0))&"",IFERROR(INDEX('Relatório do SketchUp'!$A$10:$CZ$10,MATCH("f15_link_produto",'Relatório do SketchUp'!$A$1:$CZ$1,0))&"",IFERROR(INDEX('Relatório do SketchUp'!$A$10:$CZ$10,MATCH("Onde comprar",'Relatório do SketchUp'!$A$1:$CZ$1,0))&"",IFERROR(INDEX('Relatório do SketchUp'!$A$10:$CZ$10,MATCH("f14_onde_comprar",'Relatório do SketchUp'!$A$1:$CZ$1,0))&"",IFERROR(INDEX('Relatório do SketchUp'!$A$10:$CZ$10,MATCH("Site",'Relatório do SketchUp'!$A$1:$CZ$1,0))&"",IFERROR(INDEX('Relatório do SketchUp'!$A$10:$CZ$10,MATCH("f13_site",'Relatório do SketchUp'!$A$1:$CZ$1,0))&"","")))))) | U13: =IF(OR(T13="",Q13=""),"",T13+Q13)
C14: =IFERROR(INDEX('Relatório do SketchUp'!$A$11:$CZ$11,MATCH("Produto",'Relatório do SketchUp'!$A$1:$CZ$1,0))&"",IFERROR(INDEX('Relatório do SketchUp'!$A$11:$CZ$11,MATCH("f02_produto",'Relatório do SketchUp'!$A$1:$CZ$1,0))&"",IFERROR(INDEX('Relatório do SketchUp'!$A$11:$CZ$11,MATCH("Definition Name",'Relatório do SketchUp'!$A$1:$CZ$1,0))&"",IFERROR(INDEX('Relatório do SketchUp'!$A$11:$CZ$11,MATCH("Nome da definição",'Relatório do SketchUp'!$A$1:$CZ$1,0))&"","")))) | D14: =IFERROR(INDEX('Relatório do SketchUp'!$A$11:$CZ$11,MATCH("Marca",'Relatório do SketchUp'!$A$1:$CZ$1,0))&"",IFERROR(INDEX('Relatório do SketchUp'!$A$11:$CZ$11,MATCH("f01_marca",'Relatório do SketchUp'!$A$1:$CZ$1,0))&"","")) | E14: =IFERROR(INDEX('Relatório do SketchUp'!$A$11:$CZ$11,MATCH("Linha",'Relatório do SketchUp'!$A$1:$CZ$1,0))&"",IFERROR(INDEX('Relatório do SketchUp'!$A$11:$CZ$11,MATCH("f04_linha",'Relatório do SketchUp'!$A$1:$CZ$1,0))&"","")) | F14: =IFERROR(INDEX('Relatório do SketchUp'!$A$11:$CZ$11,MATCH("Código do produto",'Relatório do SketchUp'!$A$1:$CZ$1,0))&"",IFERROR(INDEX('Relatório do SketchUp'!$A$11:$CZ$11,MATCH("f03_codigo",'Relatório do SketchUp'!$A$1:$CZ$1,0))&"","")) | G14: =IFERROR(INDEX('Relatório do SketchUp'!$A$11:$CZ$11,MATCH("Dimensões",'Relatório do SketchUp'!$A$1:$CZ$1,0))&"",IFERROR(INDEX('Relatório do SketchUp'!$A$11:$CZ$11,MATCH("f06_dimensoes",'Relatório do SketchUp'!$A$1:$CZ$1,0))&"","")) | H14: =IFERROR(INDEX('Relatório do SketchUp'!$A$11:$CZ$11,MATCH("Acabamento",'Relatório do SketchUp'!$A$1:$CZ$1,0))&"",IFERROR(INDEX('Relatório do SketchUp'!$A$11:$CZ$11,MATCH("f07_acabamento",'Relatório do SketchUp'!$A$1:$CZ$1,0))&"","")) | I14: =IF(C14="","",IFERROR(VALUE(IFERROR(INDEX('Relatório do SketchUp'!$A$11:$CZ$11,MATCH("Quantity",'Relatório do SketchUp'!$A$1:$CZ$1,0))&"",IFERROR(INDEX('Relatório do SketchUp'!$A$11:$CZ$11,MATCH("Quantidade",'Relatório do SketchUp'!$A$1:$CZ$1,0))&"",IFERROR(INDEX('Relatório do SketchUp'!$A$11:$CZ$11,MATCH("Qtd",'Relatório do SketchUp'!$A$1:$CZ$1,0))&"",IFERROR(INDEX('Relatório do SketchUp'!$A$11:$CZ$11,MATCH("Count",'Relatório do SketchUp'!$A$1:$CZ$1,0))&"",""))))),1)) | K14: =IFERROR(INDEX('Relatório do SketchUp'!$A$11:$CZ$11,MATCH("Preço estimado",'Relatório do SketchUp'!$A$1:$CZ$1,0))&"",IFERROR(INDEX('Relatório do SketchUp'!$A$11:$CZ$11,MATCH("f16_preco",'Relatório do SketchUp'!$A$1:$CZ$1,0))&"","")) | M14: =IF(OR(I14="",L14=""),"",I14*L14) | N14: =IF(IFERROR(INDEX('Relatório do SketchUp'!$A$11:$CZ$11,MATCH("Fornecedor",'Relatório do SketchUp'!$A$1:$CZ$1,0))&"",IFERROR(INDEX('Relatório do SketchUp'!$A$11:$CZ$11,MATCH("f09_fornecedor",'Relatório do SketchUp'!$A$1:$CZ$1,0))&"",""))<>"",IFERROR(INDEX('Relatório do SketchUp'!$A$11:$CZ$11,MATCH("Fornecedor",'Relatório do SketchUp'!$A$1:$CZ$1,0))&"",IFERROR(INDEX('Relatório do SketchUp'!$A$11:$CZ$11,MATCH("f09_fornecedor",'Relatório do SketchUp'!$A$1:$CZ$1,0))&"","")),IF(IFERROR(INDEX('Relatório do SketchUp'!$A$11:$CZ$11,MATCH("Marca",'Relatório do SketchUp'!$A$1:$CZ$1,0))&"",IFERROR(INDEX('Relatório do SketchUp'!$A$11:$CZ$11,MATCH("f01_marca",'Relatório do SketchUp'!$A$1:$CZ$1,0))&"",""))<>"",IFERROR(INDEX('Relatório do SketchUp'!$A$11:$CZ$11,MATCH("Marca",'Relatório do SketchUp'!$A$1:$CZ$1,0))&"",IFERROR(INDEX('Relatório do SketchUp'!$A$11:$CZ$11,MATCH("f01_marca",'Relatório do SketchUp'!$A$1:$CZ$1,0))&"","")),"")) | O14: =_xlfn.TEXTJOIN(" · ",TRUE,IFERROR(INDEX('Relatório do SketchUp'!$A$11:$CZ$11,MATCH("WhatsApp",'Relatório do SketchUp'!$A$1:$CZ$1,0))&"",IFERROR(INDEX('Relatório do SketchUp'!$A$11:$CZ$11,MATCH("f11_whatsapp",'Relatório do SketchUp'!$A$1:$CZ$1,0))&"","")),IFERROR(INDEX('Relatório do SketchUp'!$A$11:$CZ$11,MATCH("Telefone",'Relatório do SketchUp'!$A$1:$CZ$1,0))&"",IFERROR(INDEX('Relatório do SketchUp'!$A$11:$CZ$11,MATCH("f10_telefone",'Relatório do SketchUp'!$A$1:$CZ$1,0))&"","")),IFERROR(INDEX('Relatório do SketchUp'!$A$11:$CZ$11,MATCH("E-mail",'Relatório do SketchUp'!$A$1:$CZ$1,0))&"",IFERROR(INDEX('Relatório do SketchUp'!$A$11:$CZ$11,MATCH("f12_email",'Relatório do SketchUp'!$A$1:$CZ$1,0))&"",""))) | P14: =IFERROR(INDEX('Relatório do SketchUp'!$A$11:$CZ$11,MATCH("Página do produto",'Relatório do SketchUp'!$A$1:$CZ$1,0))&"",IFERROR(INDEX('Relatório do SketchUp'!$A$11:$CZ$11,MATCH("f15_link_produto",'Relatório do SketchUp'!$A$1:$CZ$1,0))&"",IFERROR(INDEX('Relatório do SketchUp'!$A$11:$CZ$11,MATCH("Onde comprar",'Relatório do SketchUp'!$A$1:$CZ$1,0))&"",IFERROR(INDEX('Relatório do SketchUp'!$A$11:$CZ$11,MATCH("f14_onde_comprar",'Relatório do SketchUp'!$A$1:$CZ$1,0))&"",IFERROR(INDEX('Relatório do SketchUp'!$A$11:$CZ$11,MATCH("Site",'Relatório do SketchUp'!$A$1:$CZ$1,0))&"",IFERROR(INDEX('Relatório do SketchUp'!$A$11:$CZ$11,MATCH("f13_site",'Relatório do SketchUp'!$A$1:$CZ$1,0))&"","")))))) | U14: =IF(OR(T14="",Q14=""),"",T14+Q14)
C15: =IFERROR(INDEX('Relatório do SketchUp'!$A$12:$CZ$12,MATCH("Produto",'Relatório do SketchUp'!$A$1:$CZ$1,0))&"",IFERROR(INDEX('Relatório do SketchUp'!$A$12:$CZ$12,MATCH("f02_produto",'Relatório do SketchUp'!$A$1:$CZ$1,0))&"",IFERROR(INDEX('Relatório do SketchUp'!$A$12:$CZ$12,MATCH("Definition Name",'Relatório do SketchUp'!$A$1:$CZ$1,0))&"",IFERROR(INDEX('Relatório do SketchUp'!$A$12:$CZ$12,MATCH("Nome da definição",'Relatório do SketchUp'!$A$1:$CZ$1,0))&"","")))) | D15: =IFERROR(INDEX('Relatório do SketchUp'!$A$12:$CZ$12,MATCH("Marca",'Relatório do SketchUp'!$A$1:$CZ$1,0))&"",IFERROR(INDEX('Relatório do SketchUp'!$A$12:$CZ$12,MATCH("f01_marca",'Relatório do SketchUp'!$A$1:$CZ$1,0))&"","")) | E15: =IFERROR(INDEX('Relatório do SketchUp'!$A$12:$CZ$12,MATCH("Linha",'Relatório do SketchUp'!$A$1:$CZ$1,0))&"",IFERROR(INDEX('Relatório do SketchUp'!$A$12:$CZ$12,MATCH("f04_linha",'Relatório do SketchUp'!$A$1:$CZ$1,0))&"","")) | F15: =IFERROR(INDEX('Relatório do SketchUp'!$A$12:$CZ$12,MATCH("Código do produto",'Relatório do SketchUp'!$A$1:$CZ$1,0))&"",IFERROR(INDEX('Relatório do SketchUp'!$A$12:$CZ$12,MATCH("f03_codigo",'Relatório do SketchUp'!$A$1:$CZ$1,0))&"","")) | G15: =IFERROR(INDEX('Relatório do SketchUp'!$A$12:$CZ$12,MATCH("Dimensões",'Relatório do SketchUp'!$A$1:$CZ$1,0))&"",IFERROR(INDEX('Relatório do SketchUp'!$A$12:$CZ$12,MATCH("f06_dimensoes",'Relatório do SketchUp'!$A$1:$CZ$1,0))&"","")) | H15: =IFERROR(INDEX('Relatório do SketchUp'!$A$12:$CZ$12,MATCH("Acabamento",'Relatório do SketchUp'!$A$1:$CZ$1,0))&"",IFERROR(INDEX('Relatório do SketchUp'!$A$12:$CZ$12,MATCH("f07_acabamento",'Relatório do SketchUp'!$A$1:$CZ$1,0))&"","")) | I15: =IF(C15="","",IFERROR(VALUE(IFERROR(INDEX('Relatório do SketchUp'!$A$12:$CZ$12,MATCH("Quantity",'Relatório do SketchUp'!$A$1:$CZ$1,0))&"",IFERROR(INDEX('Relatório do SketchUp'!$A$12:$CZ$12,MATCH("Quantidade",'Relatório do SketchUp'!$A$1:$CZ$1,0))&"",IFERROR(INDEX('Relatório do SketchUp'!$A$12:$CZ$12,MATCH("Qtd",'Relatório do SketchUp'!$A$1:$CZ$1,0))&"",IFERROR(INDEX('Relatório do SketchUp'!$A$12:$CZ$12,MATCH("Count",'Relatório do SketchUp'!$A$1:$CZ$1,0))&"",""))))),1)) | K15: =IFERROR(INDEX('Relatório do SketchUp'!$A$12:$CZ$12,MATCH("Preço estimado",'Relatório do SketchUp'!$A$1:$CZ$1,0))&"",IFERROR(INDEX('Relatório do SketchUp'!$A$12:$CZ$12,MATCH("f16_preco",'Relatório do SketchUp'!$A$1:$CZ$1,0))&"","")) | M15: =IF(OR(I15="",L15=""),"",I15*L15) | N15: =IF(IFERROR(INDEX('Relatório do SketchUp'!$A$12:$CZ$12,MATCH("Fornecedor",'Relatório do SketchUp'!$A$1:$CZ$1,0))&"",IFERROR(INDEX('Relatório do SketchUp'!$A$12:$CZ$12,MATCH("f09_fornecedor",'Relatório do SketchUp'!$A$1:$CZ$1,0))&"",""))<>"",IFERROR(INDEX('Relatório do SketchUp'!$A$12:$CZ$12,MATCH("Fornecedor",'Relatório do SketchUp'!$A$1:$CZ$1,0))&"",IFERROR(INDEX('Relatório do SketchUp'!$A$12:$CZ$12,MATCH("f09_fornecedor",'Relatório do SketchUp'!$A$1:$CZ$1,0))&"","")),IF(IFERROR(INDEX('Relatório do SketchUp'!$A$12:$CZ$12,MATCH("Marca",'Relatório do SketchUp'!$A$1:$CZ$1,0))&"",IFERROR(INDEX('Relatório do SketchUp'!$A$12:$CZ$12,MATCH("f01_marca",'Relatório do SketchUp'!$A$1:$CZ$1,0))&"",""))<>"",IFERROR(INDEX('Relatório do SketchUp'!$A$12:$CZ$12,MATCH("Marca",'Relatório do SketchUp'!$A$1:$CZ$1,0))&"",IFERROR(INDEX('Relatório do SketchUp'!$A$12:$CZ$12,MATCH("f01_marca",'Relatório do SketchUp'!$A$1:$CZ$1,0))&"","")),"")) | O15: =_xlfn.TEXTJOIN(" · ",TRUE,IFERROR(INDEX('Relatório do SketchUp'!$A$12:$CZ$12,MATCH("WhatsApp",'Relatório do SketchUp'!$A$1:$CZ$1,0))&"",IFERROR(INDEX('Relatório do SketchUp'!$A$12:$CZ$12,MATCH("f11_whatsapp",'Relatório do SketchUp'!$A$1:$CZ$1,0))&"","")),IFERROR(INDEX('Relatório do SketchUp'!$A$12:$CZ$12,MATCH("Telefone",'Relatório do SketchUp'!$A$1:$CZ$1,0))&"",IFERROR(INDEX('Relatório do SketchUp'!$A$12:$CZ$12,MATCH("f10_telefone",'Relatório do SketchUp'!$A$1:$CZ$1,0))&"","")),IFERROR(INDEX('Relatório do SketchUp'!$A$12:$CZ$12,MATCH("E-mail",'Relatório do SketchUp'!$A$1:$CZ$1,0))&"",IFERROR(INDEX('Relatório do SketchUp'!$A$12:$CZ$12,MATCH("f12_email",'Relatório do SketchUp'!$A$1:$CZ$1,0))&"",""))) | P15: =IFERROR(INDEX('Relatório do SketchUp'!$A$12:$CZ$12,MATCH("Página do produto",'Relatório do SketchUp'!$A$1:$CZ$1,0))&"",IFERROR(INDEX('Relatório do SketchUp'!$A$12:$CZ$12,MATCH("f15_link_produto",'Relatório do SketchUp'!$A$1:$CZ$1,0))&"",IFERROR(INDEX('Relatório do SketchUp'!$A$12:$CZ$12,MATCH("Onde comprar",'Relatório do SketchUp'!$A$1:$CZ$1,0))&"",IFERROR(INDEX('Relatório do SketchUp'!$A$12:$CZ$12,MATCH("f14_onde_comprar",'Relatório do SketchUp'!$A$1:$CZ$1,0))&"",IFERROR(INDEX('Relatório do SketchUp'!$A$12:$CZ$12,MATCH("Site",'Relatório do SketchUp'!$A$1:$CZ$1,0))&"",IFERROR(INDEX('Relatório do SketchUp'!$A$12:$CZ$12,MATCH("f13_site",'Relatório do SketchUp'!$A$1:$CZ$1,0))&"","")))))) | U15: =IF(OR(T15="",Q15=""),"",T15+Q15)
C16: =IFERROR(INDEX('Relatório do SketchUp'!$A$13:$CZ$13,MATCH("Produto",'Relatório do SketchUp'!$A$1:$CZ$1,0))&"",IFERROR(INDEX('Relatório do SketchUp'!$A$13:$CZ$13,MATCH("f02_produto",'Relatório do SketchUp'!$A$1:$CZ$1,0))&"",IFERROR(INDEX('Relatório do SketchUp'!$A$13:$CZ$13,MATCH("Definition Name",'Relatório do SketchUp'!$A$1:$CZ$1,0))&"",IFERROR(INDEX('Relatório do SketchUp'!$A$13:$CZ$13,MATCH("Nome da definição",'Relatório do SketchUp'!$A$1:$CZ$1,0))&"","")))) | D16: =IFERROR(INDEX('Relatório do SketchUp'!$A$13:$CZ$13,MATCH("Marca",'Relatório do SketchUp'!$A$1:$CZ$1,0))&"",IFERROR(INDEX('Relatório do SketchUp'!$A$13:$CZ$13,MATCH("f01_marca",'Relatório do SketchUp'!$A$1:$CZ$1,0))&"","")) | E16: =IFERROR(INDEX('Relatório do SketchUp'!$A$13:$CZ$13,MATCH("Linha",'Relatório do SketchUp'!$A$1:$CZ$1,0))&"",IFERROR(INDEX('Relatório do SketchUp'!$A$13:$CZ$13,MATCH("f04_linha",'Relatório do SketchUp'!$A$1:$CZ$1,0))&"","")) | F16: =IFERROR(INDEX('Relatório do SketchUp'!$A$13:$CZ$13,MATCH("Código do produto",'Relatório do SketchUp'!$A$1:$CZ$1,0))&"",IFERROR(INDEX('Relatório do SketchUp'!$A$13:$CZ$13,MATCH("f03_codigo",'Relatório do SketchUp'!$A$1:$CZ$1,0))&"","")) | G16: =IFERROR(INDEX('Relatório do SketchUp'!$A$13:$CZ$13,MATCH("Dimensões",'Relatório do SketchUp'!$A$1:$CZ$1,0))&"",IFERROR(INDEX('Relatório do SketchUp'!$A$13:$CZ$13,MATCH("f06_dimensoes",'Relatório do SketchUp'!$A$1:$CZ$1,0))&"","")) | H16: =IFERROR(INDEX('Relatório do SketchUp'!$A$13:$CZ$13,MATCH("Acabamento",'Relatório do SketchUp'!$A$1:$CZ$1,0))&"",IFERROR(INDEX('Relatório do SketchUp'!$A$13:$CZ$13,MATCH("f07_acabamento",'Relatório do SketchUp'!$A$1:$CZ$1,0))&"","")) | I16: =IF(C16="","",IFERROR(VALUE(IFERROR(INDEX('Relatório do SketchUp'!$A$13:$CZ$13,MATCH("Quantity",'Relatório do SketchUp'!$A$1:$CZ$1,0))&"",IFERROR(INDEX('Relatório do SketchUp'!$A$13:$CZ$13,MATCH("Quantidade",'Relatório do SketchUp'!$A$1:$CZ$1,0))&"",IFERROR(INDEX('Relatório do SketchUp'!$A$13:$CZ$13,MATCH("Qtd",'Relatório do SketchUp'!$A$1:$CZ$1,0))&"",IFERROR(INDEX('Relatório do SketchUp'!$A$13:$CZ$13,MATCH("Count",'Relatório do SketchUp'!$A$1:$CZ$1,0))&"",""))))),1)) | K16: =IFERROR(INDEX('Relatório do SketchUp'!$A$13:$CZ$13,MATCH("Preço estimado",'Relatório do SketchUp'!$A$1:$CZ$1,0))&"",IFERROR(INDEX('Relatório do SketchUp'!$A$13:$CZ$13,MATCH("f16_preco",'Relatório do SketchUp'!$A$1:$CZ$1,0))&"","")) | M16: =IF(OR(I16="",L16=""),"",I16*L16) | N16: =IF(IFERROR(INDEX('Relatório do SketchUp'!$A$13:$CZ$13,MATCH("Fornecedor",'Relatório do SketchUp'!$A$1:$CZ$1,0))&"",IFERROR(INDEX('Relatório do SketchUp'!$A$13:$CZ$13,MATCH("f09_fornecedor",'Relatório do SketchUp'!$A$1:$CZ$1,0))&"",""))<>"",IFERROR(INDEX('Relatório do SketchUp'!$A$13:$CZ$13,MATCH("Fornecedor",'Relatório do SketchUp'!$A$1:$CZ$1,0))&"",IFERROR(INDEX('Relatório do SketchUp'!$A$13:$CZ$13,MATCH("f09_fornecedor",'Relatório do SketchUp'!$A$1:$CZ$1,0))&"","")),IF(IFERROR(INDEX('Relatório do SketchUp'!$A$13:$CZ$13,MATCH("Marca",'Relatório do SketchUp'!$A$1:$CZ$1,0))&"",IFERROR(INDEX('Relatório do SketchUp'!$A$13:$CZ$13,MATCH("f01_marca",'Relatório do SketchUp'!$A$1:$CZ$1,0))&"",""))<>"",IFERROR(INDEX('Relatório do SketchUp'!$A$13:$CZ$13,MATCH("Marca",'Relatório do SketchUp'!$A$1:$CZ$1,0))&"",IFERROR(INDEX('Relatório do SketchUp'!$A$13:$CZ$13,MATCH("f01_marca",'Relatório do SketchUp'!$A$1:$CZ$1,0))&"","")),"")) | O16: =_xlfn.TEXTJOIN(" · ",TRUE,IFERROR(INDEX('Relatório do SketchUp'!$A$13:$CZ$13,MATCH("WhatsApp",'Relatório do SketchUp'!$A$1:$CZ$1,0))&"",IFERROR(INDEX('Relatório do SketchUp'!$A$13:$CZ$13,MATCH("f11_whatsapp",'Relatório do SketchUp'!$A$1:$CZ$1,0))&"","")),IFERROR(INDEX('Relatório do SketchUp'!$A$13:$CZ$13,MATCH("Telefone",'Relatório do SketchUp'!$A$1:$CZ$1,0))&"",IFERROR(INDEX('Relatório do SketchUp'!$A$13:$CZ$13,MATCH("f10_telefone",'Relatório do SketchUp'!$A$1:$CZ$1,0))&"","")),IFERROR(INDEX('Relatório do SketchUp'!$A$13:$CZ$13,MATCH("E-mail",'Relatório do SketchUp'!$A$1:$CZ$1,0))&"",IFERROR(INDEX('Relatório do SketchUp'!$A$13:$CZ$13,MATCH("f12_email",'Relatório do SketchUp'!$A$1:$CZ$1,0))&"",""))) | P16: =IFERROR(INDEX('Relatório do SketchUp'!$A$13:$CZ$13,MATCH("Página do produto",'Relatório do SketchUp'!$A$1:$CZ$1,0))&"",IFERROR(INDEX('Relatório do SketchUp'!$A$13:$CZ$13,MATCH("f15_link_produto",'Relatório do SketchUp'!$A$1:$CZ$1,0))&"",IFERROR(INDEX('Relatório do SketchUp'!$A$13:$CZ$13,MATCH("Onde comprar",'Relatório do SketchUp'!$A$1:$CZ$1,0))&"",IFERROR(INDEX('Relatório do SketchUp'!$A$13:$CZ$13,MATCH("f14_onde_comprar",'Relatório do SketchUp'!$A$1:$CZ$1,0))&"",IFERROR(INDEX('Relatório do SketchUp'!$A$13:$CZ$13,MATCH("Site",'Relatório do SketchUp'!$A$1:$CZ$1,0))&"",IFERROR(INDEX('Relatório do SketchUp'!$A$13:$CZ$13,MATCH("f13_site",'Relatório do SketchUp'!$A$1:$CZ$1,0))&"","")))))) | U16: =IF(OR(T16="",Q16=""),"",T16+Q16)
