Workbook

Sheet Como usar
B2: fluio.
B3: MATERIAIS DE APOIO · 03
B5: Ficha de especificação de produtos
B6: A lista de compras do projeto: monta-se a partir do relatório do SketchUp e acompanha cotação, pedido, entrega e conferência de cada item.
B8: Uma linha por produto, com o código que aparece na planta (M01 para mobiliário, IL01 para iluminação, R01 para revestimento). É a lista que vai para o cliente aprovar, para o orçamento e para a obra conferir o que chegou.
B9: Os blocos do Fluio. entram no SketchUp com marca, produto, código, dimensões, acabamento, fornecedor, contato e preço estimado gravados no próprio componente. Na planilha do Excel, cole o relatório do SketchUp e a lista se monta sozinha, com a quantidade de cada item. O que não veio do Fluio. você digita na mesma lista.
B10: Quem renderiza para escritórios pode entregar esta lista junto com as imagens: é o registro do que foi usado na cena.
B12: Como montar a lista a partir do SketchUp
B13: 1. Crie o modelo de relatório uma vez. No SketchUp, abra Arquivo › Gerar relatório e crie um modelo com a quantidade e os atributos do componente: Marca, Produto, Código do produto, Linha, Dimensões, Acabamento, Fornecedor, Telefone, WhatsApp, E-mail, Onde comprar, Página do produto e Preço estimado. Agrupe por definição de componente e salve o modelo para usar em todos os projetos.
B14: 2. Gere o relatório do projeto. Com o modelo pronto, gere o relatório do modelo inteiro (ou só do que estiver selecionado) e baixe o arquivo CSV.
B15: 3. Cole na planilha. Abra o CSV, selecione tudo, copie e cole na célula A1 da aba "Relatório do SketchUp". A aba "Especificação" se preenche linha a linha com o que veio do modelo.
B16: 4. Complete o que é do projeto. Escreva o código da planta e o ambiente de cada item. Apague as linhas que não são produto (paredes, grupos de obra) e acrescente embaixo o que não está no modelo.
... B29: 4. Relatório do SketchUp

Sheet Dados
A1: Dados
A4: Projeto
A5: Projeto
A6: Cliente
A7: Responsável pela especificação
A8: Revisão e data

Sheet Especificação
A1: Lista de especificação
A2: As colunas em cinza vêm do relatório do SketchUp (aba laranja); dá para escrever por cima. As amarelas são do projeto: código da planta, ambiente, preço cotado, pedido e entrega.
A4: Cód. no projeto | B4: Ambiente | C4: Produto | D4: Marca | E4: Linha | F4: Código do produto | G4: Dimensões | H4: Acabamento | I4: Qtd | J4: Unid. | K4: Preço estimado (referência) | L4: Preço cotado unit. (R$) | M4: Total (R$) | N4: Fornecedor | O4: Contato | P4: Onde comprar | Q4: Prazo (dias) | R4: Status | S4: Nº do pedido | T4: Data da compra | U4: Previsão de entrega | V4: Entregue em | W4: Conferência | X4: Observações
C5: =IFERROR(INDEX('Relatório do SketchUp'!$A$2:$CZ$2,MATCH("Produto",'Relatório do SketchUp'!$A$1:$CZ$1,0))&"",IFERROR(INDEX('Relatório do SketchUp'!$A$2:$CZ$2,MATCH("f02_produto",'Relatório do SketchUp'!$A$1:$CZ$1,0))&"",IFERROR(INDEX('Relatório do SketchUp'!$A$2:$CZ$2,MATCH("Definition Name",'Relatório do SketchUp'!$A$1:$CZ$1,0))&"",IFERROR(INDEX('Relatório do SketchUp'!$A$2:$CZ$2,MATCH("Nome da definição",'Relatório do SketchUp'!$A$1:$CZ$1,0))&"","")))) | D5: =IFERROR(INDEX('Relatório do SketchUp'!$A$2:$CZ$2,MATCH("Marca",'Relatório do SketchUp'!$A$1:$CZ$1,0))&"",IFERROR(INDEX('Relatório do SketchUp'!$A$2:$CZ$2,MATCH("f01_marca",'Relatório do SketchUp'!$A$1:$CZ$1,0))&"","")) | E5: =IFERROR(INDEX('Relatório do SketchUp'!$A$2:$CZ$2,MATCH("Linha",'Relatório do SketchUp'!$A$1:$CZ$1,0))&"",IFERROR(INDEX('Relatório do SketchUp'!$A$2:$CZ$2,MATCH("f04_linha",'Relatório do SketchUp'!$A$1:$CZ$1,0))&"","")) | F5: =IFERROR(INDEX('Relatório do SketchUp'!$A$2:$CZ$2,MATCH("Código do produto",'Relatório do SketchUp'!$A$1:$CZ$1,0))&"",IFERROR(INDEX('Relatório do SketchUp'!$A$2:$CZ$2,MATCH("f03_codigo",'Relatório do SketchUp'!$A$1:$CZ$1,0))&"","")) | G5: =IFERROR(INDEX('Relatório do SketchUp'!$A$2:$CZ$2,MATCH("Dimensões",'Relatório do SketchUp'!$A$1:$CZ$1,0))&"",IFERROR(INDEX('Relatório do SketchUp'!$A$2:$CZ$2,MATCH("f06_dimensoes",'Relatório do SketchUp'!$A$1:$CZ$1,0))&"","")) | H5: =IFERROR(INDEX('Relatório do SketchUp'!$A$2:$CZ$2,MATCH("Acabamento",'Relatório do SketchUp'!$A$1:$CZ$1,0))&"",IFERROR(INDEX('Relatório do SketchUp'!$A$2:$CZ$2,MATCH("f07_acabamento",'Relatório do SketchUp'!$A$1:$CZ$1,0))&"","")) | I5: =IF(C5="","",IFERROR(VALUE(IFERROR(INDEX('Relatório do SketchUp'!$A$2:$CZ$2,MATCH("Quantity",'Relatório do SketchUp'!$A$1:$CZ$1,0))&"",IFERROR(INDEX('Relatório do SketchUp'!$A$2:$CZ$2,MATCH("Quantidade",'Relatório do SketchUp'!$A$1:$CZ$1,0))&"",IFERROR(INDEX('Relatório do SketchUp'!$A$2:$CZ$2,MATCH("Qtd",'Relatório do SketchUp'!$A$1:$CZ$1,0))&"",IFERROR(INDEX('Relatório do SketchUp'!$A$2:$CZ$2,MATCH("Count",'Relatório do SketchUp'!$A$1:$CZ$1,0))&"",""))))),1)) | K5: =IFERROR(INDEX('Relatório do SketchUp'!$A$2:$CZ$2,MATCH("Preço estimado",'Relatório do SketchUp'!$A$1:$CZ$1,0))&"",IFERROR(INDEX('Relatório do SketchUp'!$A$2:$CZ$2,MATCH("f16_preco",'Relatório do SketchUp'!$A$1:$CZ$1,0))&"","")) | M5: =IF(OR(I5="",L5=""),"",I5*L5) | N5: =IF(IFERROR(INDEX('Relatório do SketchUp'!$A$2:$CZ$2,MATCH("Fornecedor",'Relatório do SketchUp'!$A$1:$CZ$1,0))&"",IFERROR(INDEX('Relatório do SketchUp'!$A$2:$CZ$2,MATCH("f09_fornecedor",'Relatório do SketchUp'!$A$1:$CZ$1,0))&"",""))<>"",IFERROR(INDEX('Relatório do SketchUp'!$A$2:$CZ$2,MATCH("Fornecedor",'Relatório do SketchUp'!$A$1:$CZ$1,0))&"",IFERROR(INDEX('Relatório do SketchUp'!$A$2:$CZ$2,MATCH("f09_fornecedor",'Relatório do SketchUp'!$A$1:$CZ$1,0))&"","")),IF(IFERROR(INDEX('Relatório do SketchUp'!$A$2:$CZ$2,MATCH("Marca",'Relatório do SketchUp'!$A$1:$CZ$1,0))&"",IFERROR(INDEX('Relatório do SketchUp'!$A$2:$CZ$2,MATCH("f01_marca",'Relatório do SketchUp'!$A$1:$CZ$1,0))&"",""))<>"",IFERROR(INDEX('Relatório do SketchUp'!$A$2:$CZ$2,MATCH("Marca",'Relatório do SketchUp'!$A$1:$CZ$1,0))&"",IFERROR(INDEX('Relatório do SketchUp'!$A$2:$CZ$2,MATCH("f01_marca",'Relatório do SketchUp'!$A$1:$CZ$1,0))&"","")),"")) | O5: =_xlfn.TEXTJOIN(" · ",TRUE,IFERROR(INDEX('Relatório do SketchUp'!$A$2:$CZ$2,MATCH("WhatsApp",'Relatório do SketchUp'!$A$1:$CZ$1,0))&"",IFERROR(INDEX('Relatório do SketchUp'!$A$2:$CZ$2,MATCH("f11_whatsapp",'Relatório do SketchUp'!$A$1:$CZ$1,0))&"","")),IFERROR(INDEX('Relatório do SketchUp'!$A$2:$CZ$2,MATCH("Telefone",'Relatório do SketchUp'!$A$1:$CZ$1,0))&"",IFERROR(INDEX('Relatório do SketchUp'!$A$2:$CZ$2,MATCH("f10_telefone",'Relatório do SketchUp'!$A$1:$CZ$1,0))&"","")),IFERROR(INDEX('Relatório do SketchUp'!$A$2:$CZ$2,MATCH("E-mail",'Relatório do SketchUp'!$A$1:$CZ$1,0))&"",IFERROR(INDEX('Relatório do SketchUp'!$A$2:$CZ$2,MATCH("f12_email",'Relatório do SketchUp'!$A$1:$CZ$1,0))&"",""))) | P5: =IFERROR(INDEX('Relatório do SketchUp'!$A$2:$CZ$2,MATCH("Página do produto",'Relatório do SketchUp'!$A$1:$CZ$1,0))&"",IFERROR(INDEX('Relatório do SketchUp'!$A$2:$CZ$2,MATCH("f15_link_produto",'Relatório do SketchUp'!$A$1:$CZ$1,0))&"",IFERROR(INDEX('Relatório do SketchUp'!$A$2:$CZ$2,MATCH("Onde comprar",'Relatório do SketchUp'!$A$1:$CZ$1,0))&"",IFERROR(INDEX('Relatório do SketchUp'!$A$2:$CZ$2,MATCH("f14_onde_comprar",'Relatório do SketchUp'!$A$1:$CZ$1,0))&"",IFERROR(INDEX('Relatório do SketchUp'!$A$2:$CZ$2,MATCH("Site",'Relatório do SketchUp'!$A$1:$CZ$1,0))&"",IFERROR(INDEX('Relatório do SketchUp'!$A$2:$CZ$2,MATCH("f13_site",'Relatório do SketchUp'!$A$1:$CZ$1,0))&"","")))))) | U5: =IF(OR(T5="",Q5=""),"",T5+Q5)
C6: =IFERROR(INDEX('Relatório do SketchUp'!$A$3:$CZ$3,MATCH("Produto",'Relatório do SketchUp'!$A$1:$CZ$1,0))&"",IFERROR(INDEX('Relatório do SketchUp'!$A$3:$CZ$3,MATCH("f02_produto",'Relatório do SketchUp'!$A$1:$CZ$1,0))&"",IFERROR(INDEX('Relatório do SketchUp'!$A$3:$CZ$3,MATCH("Definition Name",'Relatório do SketchUp'!$A$1:$CZ$1,0))&"",IFERROR(INDEX('Relatório do SketchUp'!$A$3:$CZ$3,MATCH("Nome da definição",'Relatório do SketchUp'!$A$1:$CZ$1,0))&"","")))) | D6: =IFERROR(INDEX('Relatório do SketchUp'!$A$3:$CZ$3,MATCH("Marca",'Relatório do SketchUp'!$A$1:$CZ$1,0))&"",IFERROR(INDEX('Relatório do SketchUp'!$A$3:$CZ$3,MATCH("f01_marca",'Relatório do SketchUp'!$A$1:$CZ$1,0))&"","")) | E6: =IFERROR(INDEX('Relatório do SketchUp'!$A$3:$CZ$3,MATCH("Linha",'Relatório do SketchUp'!$A$1:$CZ$1,0))&"",IFERROR(INDEX('Relatório do SketchUp'!$A$3:$CZ$3,MATCH("f04_linha",'Relatório do SketchUp'!$A$1:$CZ$1,0))&"","")) | F6: =IFERROR(INDEX('Relatório do SketchUp'!$A$3:$CZ$3,MATCH("Código do produto",'Relatório do SketchUp'!$A$1:$CZ$1,0))&"",IFERROR(INDEX('Relatório do SketchUp'!$A$3:$CZ$3,MATCH("f03_codigo",'Relatório do SketchUp'!$A$1:$CZ$1,0))&"","")) | G6: =IFERROR(INDEX('Relatório do SketchUp'!$A$3:$CZ$3,MATCH("Dimensões",'Relatório do SketchUp'!$A$1:$CZ$1,0))&"",IFERROR(INDEX('Relatório do SketchUp'!$A$3:$CZ$3,MATCH("f06_dimensoes",'Relatório do SketchUp'!$A$1:$CZ$1,0))&"","")) | H6: =IFERROR(INDEX('Relatório do SketchUp'!$A$3:$CZ$3,MATCH("Acabamento",'Relatório do SketchUp'!$A$1:$CZ$1,0))&"",IFERROR(INDEX('Relatório do SketchUp'!$A$3:$CZ$3,MATCH("f07_acabamento",'Relatório do SketchUp'!$A$1:$CZ$1,0))&"","")) | I6: =IF(C6="","",IFERROR(VALUE(IFERROR(INDEX('Relatório do SketchUp'!$A$3:$CZ$3,MATCH("Quantity",'Relatório do SketchUp'!$A$1:$CZ$1,0))&"",IFERROR(INDEX('Relatório do SketchUp'!$A$3:$CZ$3,MATCH("Quantidade",'Relatório do SketchUp'!$A$1:$CZ$1,0))&"",IFERROR(INDEX('Relatório do SketchUp'!$A$3:$CZ$3,MATCH("Qtd",'Relatório do SketchUp'!$A$1:$CZ$1,0))&"",IFERROR(INDEX('Relatório do SketchUp'!$A$3:$CZ$3,MATCH("Count",'Relatório do SketchUp'!$A$1:$CZ$1,0))&"",""))))),1)) | K6: =IFERROR(INDEX('Relatório do SketchUp'!$A$3:$CZ$3,MATCH("Preço estimado",'Relatório do SketchUp'!$A$1:$CZ$1,0))&"",IFERROR(INDEX('Relatório do SketchUp'!$A$3:$CZ$3,MATCH("f16_preco",'Relatório do SketchUp'!$A$1:$CZ$1,0))&"","")) | M6: =IF(OR(I6="",L6=""),"",I6*L6) | N6: =IF(IFERROR(INDEX('Relatório do SketchUp'!$A$3:$CZ$3,MATCH("Fornecedor",'Relatório do SketchUp'!$A$1:$CZ$1,0))&"",IFERROR(INDEX('Relatório do SketchUp'!$A$3:$CZ$3,MATCH("f09_fornecedor",'Relatório do SketchUp'!$A$1:$CZ$1,0))&"",""))<>"",IFERROR(INDEX('Relatório do SketchUp'!$A$3:$CZ$3,MATCH("Fornecedor",'Relatório do SketchUp'!$A$1:$CZ$1,0))&"",IFERROR(INDEX('Relatório do SketchUp'!$A$3:$CZ$3,MATCH("f09_fornecedor",'Relatório do SketchUp'!$A$1:$CZ$1,0))&"","")),IF(IFERROR(INDEX('Relatório do SketchUp'!$A$3:$CZ$3,MATCH("Marca",'Relatório do SketchUp'!$A$1:$CZ$1,0))&"",IFERROR(INDEX('Relatório do SketchUp'!$A$3:$CZ$3,MATCH("f01_marca",'Relatório do SketchUp'!$A$1:$CZ$1,0))&"",""))<>"",IFERROR(INDEX('Relatório do SketchUp'!$A$3:$CZ$3,MATCH("Marca",'Relatório do SketchUp'!$A$1:$CZ$1,0))&"",IFERROR(INDEX('Relatório do SketchUp'!$A$3:$CZ$3,MATCH("f01_marca",'Relatório do SketchUp'!$A$1:$CZ$1,0))&"","")),"")) | O6: =_xlfn.TEXTJOIN(" · ",TRUE,IFERROR(INDEX('Relatório do SketchUp'!$A$3:$CZ$3,MATCH("WhatsApp",'Relatório do SketchUp'!$A$1:$CZ$1,0))&"",IFERROR(INDEX('Relatório do SketchUp'!$A$3:$CZ$3,MATCH("f11_whatsapp",'Relatório do SketchUp'!$A$1:$CZ$1,0))&"","")),IFERROR(INDEX('Relatório do SketchUp'!$A$3:$CZ$3,MATCH("Telefone",'Relatório do SketchUp'!$A$1:$CZ$1,0))&"",IFERROR(INDEX('Relatório do SketchUp'!$A$3:$CZ$3,MATCH("f10_telefone",'Relatório do SketchUp'!$A$1:$CZ$1,0))&"","")),IFERROR(INDEX('Relatório do SketchUp'!$A$3:$CZ$3,MATCH("E-mail",'Relatório do SketchUp'!$A$1:$CZ$1,0))&"",IFERROR(INDEX('Relatório do SketchUp'!$A$3:$CZ$3,MATCH("f12_email",'Relatório do SketchUp'!$A$1:$CZ$1,0))&"",""))) | P6: =IFERROR(INDEX('Relatório do SketchUp'!$A$3:$CZ$3,MATCH("Página do produto",'Relatório do SketchUp'!$A$1:$CZ$1,0))&"",IFERROR(INDEX('Relatório do SketchUp'!$A$3:$CZ$3,MATCH("f15_link_produto",'Relatório do SketchUp'!$A$1:$CZ$1,0))&"",IFERROR(INDEX('Relatório do SketchUp'!$A$3:$CZ$3,MATCH("Onde comprar",'Relatório do SketchUp'!$A$1:$CZ$1,0))&"",IFERROR(INDEX('Relatório do SketchUp'!$A$3:$CZ$3,MATCH("f14_onde_comprar",'Relatório do SketchUp'!$A$1:$CZ$1,0))&"",IFERROR(INDEX('Relatório do SketchUp'!$A$3:$CZ$3,MATCH("Site",'Relatório do SketchUp'!$A$1:$CZ$1,0))&"",IFERROR(INDEX('Relatório do SketchUp'!$A$3:$CZ$3,MATCH("f13_site",'Relatório do SketchUp'!$A$1:$CZ$1,0))&"","")))))) | U6: =IF(OR(T6="",Q6=""),"",T6+Q6)
C7: =IFERROR(INDEX('Relatório do SketchUp'!$A$4:$CZ$4,MATCH("Produto",'Relatório do SketchUp'!$A$1:$CZ$1,0))&"",IFERROR(INDEX('Relatório do SketchUp'!$A$4:$CZ$4,MATCH("f02_produto",'Relatório do SketchUp'!$A$1:$CZ$1,0))&"",IFERROR(INDEX('Relatório do SketchUp'!$A$4:$CZ$4,MATCH("Definition Name",'Relatório do SketchUp'!$A$1:$CZ$1,0))&"",IFERROR(INDEX('Relatório do SketchUp'!$A$4:$CZ$4,MATCH("Nome da definição",'Relatório do SketchUp'!$A$1:$CZ$1,0))&"","")))) | D7: =IFERROR(INDEX('Relatório do SketchUp'!$A$4:$CZ$4,MATCH("Marca",'Relatório do SketchUp'!$A$1:$CZ$1,0))&"",IFERROR(INDEX('Relatório do SketchUp'!$A$4:$CZ$4,MATCH("f01_marca",'Relatório do SketchUp'!$A$1:$CZ$1,0))&"","")) | E7: =IFERROR(INDEX('Relatório do SketchUp'!$A$4:$CZ$4,MATCH("Linha",'Relatório do SketchUp'!$A$1:$CZ$1,0))&"",IFERROR(INDEX('Relatório do SketchUp'!$A$4:$CZ$4,MATCH("f04_linha",'Relatório do SketchUp'!$A$1:$CZ$1,0))&"","")) | F7: =IFERROR(INDEX('Relatório do SketchUp'!$A$4:$CZ$4,MATCH("Código do produto",'Relatório do SketchUp'!$A$1:$CZ$1,0))&"",IFERROR(INDEX('Relatório do SketchUp'!$A$4:$CZ$4,MATCH("f03_codigo",'Relatório do SketchUp'!$A$1:$CZ$1,0))&"","")) | G7: =IFERROR(INDEX('Relatório do SketchUp'!$A$4:$CZ$4,MATCH("Dimensões",'Relatório do SketchUp'!$A$1:$CZ$1,0))&"",IFERROR(INDEX('Relatório do SketchUp'!$A$4:$CZ$4,MATCH("f06_dimensoes",'Relatório do SketchUp'!$A$1:$CZ$1,0))&"","")) | H7: =IFERROR(INDEX('Relatório do SketchUp'!$A$4:$CZ$4,MATCH("Acabamento",'Relatório do SketchUp'!$A$1:$CZ$1,0))&"",IFERROR(INDEX('Relatório do SketchUp'!$A$4:$CZ$4,MATCH("f07_acabamento",'Relatório do SketchUp'!$A$1:$CZ$1,0))&"","")) | I7: =IF(C7="","",IFERROR(VALUE(IFERROR(INDEX('Relatório do SketchUp'!$A$4:$CZ$4,MATCH("Quantity",'Relatório do SketchUp'!$A$1:$CZ$1,0))&"",IFERROR(INDEX('Relatório do SketchUp'!$A$4:$CZ$4,MATCH("Quantidade",'Relatório do SketchUp'!$A$1:$CZ$1,0))&"",IFERROR(INDEX('Relatório do SketchUp'!$A$4:$CZ$4,MATCH("Qtd",'Relatório do SketchUp'!$A$1:$CZ$1,0))&"",IFERROR(INDEX('Relatório do SketchUp'!$A$4:$CZ$4,MATCH("Count",'Relatório do SketchUp'!$A$1:$CZ$1,0))&"",""))))),1)) | K7: =IFERROR(INDEX('Relatório do SketchUp'!$A$4:$CZ$4,MATCH("Preço estimado",'Relatório do SketchUp'!$A$1:$CZ$1,0))&"",IFERROR(INDEX('Relatório do SketchUp'!$A$4:$CZ$4,MATCH("f16_preco",'Relatório do SketchUp'!$A$1:$CZ$1,0))&"","")) | M7: =IF(OR(I7="",L7=""),"",I7*L7) | N7: =IF(IFERROR(INDEX('Relatório do SketchUp'!$A$4:$CZ$4,MATCH("Fornecedor",'Relatório do SketchUp'!$A$1:$CZ$1,0))&"",IFERROR(INDEX('Relatório do SketchUp'!$A$4:$CZ$4,MATCH("f09_fornecedor",'Relatório do SketchUp'!$A$1:$CZ$1,0))&"",""))<>"",IFERROR(INDEX('Relatório do SketchUp'!$A$4:$CZ$4,MATCH("Fornecedor",'Relatório do SketchUp'!$A$1:$CZ$1,0))&"",IFERROR(INDEX('Relatório do SketchUp'!$A$4:$CZ$4,MATCH("f09_fornecedor",'Relatório do SketchUp'!$A$1:$CZ$1,0))&"","")),IF(IFERROR(INDEX('Relatório do SketchUp'!$A$4:$CZ$4,MATCH("Marca",'Relatório do SketchUp'!$A$1:$CZ$1,0))&"",IFERROR(INDEX('Relatório do SketchUp'!$A$4:$CZ$4,MATCH("f01_marca",'Relatório do SketchUp'!$A$1:$CZ$1,0))&"",""))<>"",IFERROR(INDEX('Relatório do SketchUp'!$A$4:$CZ$4,MATCH("Marca",'Relatório do SketchUp'!$A$1:$CZ$1,0))&"",IFERROR(INDEX('Relatório do SketchUp'!$A$4:$CZ$4,MATCH("f01_marca",'Relatório do SketchUp'!$A$1:$CZ$1,0))&"","")),"")) | O7: =_xlfn.TEXTJOIN(" · ",TRUE,IFERROR(INDEX('Relatório do SketchUp'!$A$4:$CZ$4,MATCH("WhatsApp",'Relatório do SketchUp'!$A$1:$CZ$1,0))&"",IFERROR(INDEX('Relatório do SketchUp'!$A$4:$CZ$4,MATCH("f11_whatsapp",'Relatório do SketchUp'!$A$1:$CZ$1,0))&"","")),IFERROR(INDEX('Relatório do SketchUp'!$A$4:$CZ$4,MATCH("Telefone",'Relatório do SketchUp'!$A$1:$CZ$1,0))&"",IFERROR(INDEX('Relatório do SketchUp'!$A$4:$CZ$4,MATCH("f10_telefone",'Relatório do SketchUp'!$A$1:$CZ$1,0))&"","")),IFERROR(INDEX('Relatório do SketchUp'!$A$4:$CZ$4,MATCH("E-mail",'Relatório do SketchUp'!$A$1:$CZ$1,0))&"",IFERROR(INDEX('Relatório do SketchUp'!$A$4:$CZ$4,MATCH("f12_email",'Relatório do SketchUp'!$A$1:$CZ$1,0))&"",""))) | P7: =IFERROR(INDEX('Relatório do SketchUp'!$A$4:$CZ$4,MATCH("Página do produto",'Relatório do SketchUp'!$A$1:$CZ$1,0))&"",IFERROR(INDEX('Relatório do SketchUp'!$A$4:$CZ$4,MATCH("f15_link_produto",'Relatório do SketchUp'!$A$1:$CZ$1,0))&"",IFERROR(INDEX('Relatório do SketchUp'!$A$4:$CZ$4,MATCH("Onde comprar",'Relatório do SketchUp'!$A$1:$CZ$1,0))&"",IFERROR(INDEX('Relatório do SketchUp'!$A$4:$CZ$4,MATCH("f14_onde_comprar",'Relatório do SketchUp'!$A$1:$CZ$1,0))&"",IFERROR(INDEX('Relatório do SketchUp'!$A$4:$CZ$4,MATCH("Site",'Relatório do SketchUp'!$A$1:$CZ$1,0))&"",IFERROR(INDEX('Relatório do SketchUp'!$A$4:$CZ$4,MATCH("f13_site",'Relatório do SketchUp'!$A$1:$CZ$1,0))&"","")))))) | U7: =IF(OR(T7="",Q7=""),"",T7+Q7)
C8: =IFERROR(INDEX('Relatório do SketchUp'!$A$5:$CZ$5,MATCH("Produto",'Relatório do SketchUp'!$A$1:$CZ$1,0))&"",IFERROR(INDEX('Relatório do SketchUp'!$A$5:$CZ$5,MATCH("f02_produto",'Relatório do SketchUp'!$A$1:$CZ$1,0))&"",IFERROR(INDEX('Relatório do SketchUp'!$A$5:$CZ$5,MATCH("Definition Name",'Relatório do SketchUp'!$A$1:$CZ$1,0))&"",IFERROR(INDEX('Relatório do SketchUp'!$A$5:$CZ$5,MATCH("Nome da definição",'Relatório do SketchUp'!$A$1:$CZ$1,0))&"","")))) | D8: =IFERROR(INDEX('Relatório do SketchUp'!$A$5:$CZ$5,MATCH("Marca",'Relatório do SketchUp'!$A$1:$CZ$1,0))&"",IFERROR(INDEX('Relatório do SketchUp'!$A$5:$CZ$5,MATCH("f01_marca",'Relatório do SketchUp'!$A$1:$CZ$1,0))&"","")) | E8: =IFERROR(INDEX('Relatório do SketchUp'!$A$5:$CZ$5,MATCH("Linha",'Relatório do SketchUp'!$A$1:$CZ$1,0))&"",IFERROR(INDEX('Relatório do SketchUp'!$A$5:$CZ$5,MATCH("f04_linha",'Relatório do SketchUp'!$A$1:$CZ$1,0))&"","")) | F8: =IFERROR(INDEX('Relatório do SketchUp'!$A$5:$CZ$5,MATCH("Código do produto",'Relatório do SketchUp'!$A$1:$CZ$1,0))&"",IFERROR(INDEX('Relatório do SketchUp'!$A$5:$CZ$5,MATCH("f03_codigo",'Relatório do SketchUp'!$A$1:$CZ$1,0))&"","")) | G8: =IFERROR(INDEX('Relatório do SketchUp'!$A$5:$CZ$5,MATCH("Dimensões",'Relatório do SketchUp'!$A$1:$CZ$1,0))&"",IFERROR(INDEX('Relatório do SketchUp'!$A$5:$CZ$5,MATCH("f06_dimensoes",'Relatório do SketchUp'!$A$1:$CZ$1,0))&"","")) | H8: =IFERROR(INDEX('Relatório do SketchUp'!$A$5:$CZ$5,MATCH("Acabamento",'Relatório do SketchUp'!$A$1:$CZ$1,0))&"",IFERROR(INDEX('Relatório do SketchUp'!$A$5:$CZ$5,MATCH("f07_acabamento",'Relatório do SketchUp'!$A$1:$CZ$1,0))&"","")) | I8: =IF(C8="","",IFERROR(VALUE(IFERROR(INDEX('Relatório do SketchUp'!$A$5:$CZ$5,MATCH("Quantity",'Relatório do SketchUp'!$A$1:$CZ$1,0))&"",IFERROR(INDEX('Relatório do SketchUp'!$A$5:$CZ$5,MATCH("Quantidade",'Relatório do SketchUp'!$A$1:$CZ$1,0))&"",IFERROR(INDEX('Relatório do SketchUp'!$A$5:$CZ$5,MATCH("Qtd",'Relatório do SketchUp'!$A$1:$CZ$1,0))&"",IFERROR(INDEX('Relatório do SketchUp'!$A$5:$CZ$5,MATCH("Count",'Relatório do SketchUp'!$A$1:$CZ$1,0))&"",""))))),1)) | K8: =IFERROR(INDEX('Relatório do SketchUp'!$A$5:$CZ$5,MATCH("Preço estimado",'Relatório do SketchUp'!$A$1:$CZ$1,0))&"",IFERROR(INDEX('Relatório do SketchUp'!$A$5:$CZ$5,MATCH("f16_preco",'Relatório do SketchUp'!$A$1:$CZ$1,0))&"","")) | M8: =IF(OR(I8="",L8=""),"",I8*L8) | N8: =IF(IFERROR(INDEX('Relatório do SketchUp'!$A$5:$CZ$5,MATCH("Fornecedor",'Relatório do SketchUp'!$A$1:$CZ$1,0))&"",IFERROR(INDEX('Relatório do SketchUp'!$A$5:$CZ$5,MATCH("f09_fornecedor",'Relatório do SketchUp'!$A$1:$CZ$1,0))&"",""))<>"",IFERROR(INDEX('Relatório do SketchUp'!$A$5:$CZ$5,MATCH("Fornecedor",'Relatório do SketchUp'!$A$1:$CZ$1,0))&"",IFERROR(INDEX('Relatório do SketchUp'!$A$5:$CZ$5,MATCH("f09_fornecedor",'Relatório do SketchUp'!$A$1:$CZ$1,0))&"","")),IF(IFERROR(INDEX('Relatório do SketchUp'!$A$5:$CZ$5,MATCH("Marca",'Relatório do SketchUp'!$A$1:$CZ$1,0))&"",IFERROR(INDEX('Relatório do SketchUp'!$A$5:$CZ$5,MATCH("f01_marca",'Relatório do SketchUp'!$A$1:$CZ$1,0))&"",""))<>"",IFERROR(INDEX('Relatório do SketchUp'!$A$5:$CZ$5,MATCH("Marca",'Relatório do SketchUp'!$A$1:$CZ$1,0))&"",IFERROR(INDEX('Relatório do SketchUp'!$A$5:$CZ$5,MATCH("f01_marca",'Relatório do SketchUp'!$A$1:$CZ$1,0))&"","")),"")) | O8: =_xlfn.TEXTJOIN(" · ",TRUE,IFERROR(INDEX('Relatório do SketchUp'!$A$5:$CZ$5,MATCH("WhatsApp",'Relatório do SketchUp'!$A$1:$CZ$1,0))&"",IFERROR(INDEX('Relatório do SketchUp'!$A$5:$CZ$5,MATCH("f11_whatsapp",'Relatório do SketchUp'!$A$1:$CZ$1,0))&"","")),IFERROR(INDEX('Relatório do SketchUp'!$A$5:$CZ$5,MATCH("Telefone",'Relatório do SketchUp'!$A$1:$CZ$1,0))&"",IFERROR(INDEX('Relatório do SketchUp'!$A$5:$CZ$5,MATCH("f10_telefone",'Relatório do SketchUp'!$A$1:$CZ$1,0))&"","")),IFERROR(INDEX('Relatório do SketchUp'!$A$5:$CZ$5,MATCH("E-mail",'Relatório do SketchUp'!$A$1:$CZ$1,0))&"",IFERROR(INDEX('Relatório do SketchUp'!$A$5:$CZ$5,MATCH("f12_email",'Relatório do SketchUp'!$A$1:$CZ$1,0))&"",""))) | P8: =IFERROR(INDEX('Relatório do SketchUp'!$A$5:$CZ$5,MATCH("Página do produto",'Relatório do SketchUp'!$A$1:$CZ$1,0))&"",IFERROR(INDEX('Relatório do SketchUp'!$A$5:$CZ$5,MATCH("f15_link_produto",'Relatório do SketchUp'!$A$1:$CZ$1,0))&"",IFERROR(INDEX('Relatório do SketchUp'!$A$5:$CZ$5,MATCH("Onde comprar",'Relatório do SketchUp'!$A$1:$CZ$1,0))&"",IFERROR(INDEX('Relatório do SketchUp'!$A$5:$CZ$5,MATCH("f14_onde_comprar",'Relatório do SketchUp'!$A$1:$CZ$1,0))&"",IFERROR(INDEX('Relatório do SketchUp'!$A$5:$CZ$5,MATCH("Site",'Relatório do SketchUp'!$A$1:$CZ$1,0))&"",IFERROR(INDEX('Relatório do SketchUp'!$A$5:$CZ$5,MATCH("f13_site",'Relatório do SketchUp'!$A$1:$CZ$1,0))&"","")))))) | U8: =IF(OR(T8="",Q8=""),"",T8+Q8)
C9: =IFERROR(INDEX('Relatório do SketchUp'!$A$6:$CZ$6,MATCH("Produto",'Relatório do SketchUp'!$A$1:$CZ$1,0))&"",IFERROR(INDEX('Relatório do SketchUp'!$A$6:$CZ$6,MATCH("f02_produto",'Relatório do SketchUp'!$A$1:$CZ$1,0))&"",IFERROR(INDEX('Relatório do SketchUp'!$A$6:$CZ$6,MATCH("Definition Name",'Relatório do SketchUp'!$A$1:$CZ$1,0))&"",IFERROR(INDEX('Relatório do SketchUp'!$A$6:$CZ$6,MATCH("Nome da definição",'Relatório do SketchUp'!$A$1:$CZ$1,0))&"","")))) | D9: =IFERROR(INDEX('Relatório do SketchUp'!$A$6:$CZ$6,MATCH("Marca",'Relatório do SketchUp'!$A$1:$CZ$1,0))&"",IFERROR(INDEX('Relatório do SketchUp'!$A$6:$CZ$6,MATCH("f01_marca",'Relatório do SketchUp'!$A$1:$CZ$1,0))&"","")) | E9: =IFERROR(INDEX('Relatório do SketchUp'!$A$6:$CZ$6,MATCH("Linha",'Relatório do SketchUp'!$A$1:$CZ$1,0))&"",IFERROR(INDEX('Relatório do SketchUp'!$A$6:$CZ$6,MATCH("f04_linha",'Relatório do SketchUp'!$A$1:$CZ$1,0))&"","")) | F9: =IFERROR(INDEX('Relatório do SketchUp'!$A$6:$CZ$6,MATCH("Código do produto",'Relatório do SketchUp'!$A$1:$CZ$1,0))&"",IFERROR(INDEX('Relatório do SketchUp'!$A$6:$CZ$6,MATCH("f03_codigo",'Relatório do SketchUp'!$A$1:$CZ$1,0))&"","")) | G9: =IFERROR(INDEX('Relatório do SketchUp'!$A$6:$CZ$6,MATCH("Dimensões",'Relatório do SketchUp'!$A$1:$CZ$1,0))&"",IFERROR(INDEX('Relatório do SketchUp'!$A$6:$CZ$6,MATCH("f06_dimensoes",'Relatório do SketchUp'!$A$1:$CZ$1,0))&"","")) | H9: =IFERROR(INDEX('Relatório do SketchUp'!$A$6:$CZ$6,MATCH("Acabamento",'Relatório do SketchUp'!$A$1:$CZ$1,0))&"",IFERROR(INDEX('Relatório do SketchUp'!$A$6:$CZ$6,MATCH("f07_acabamento",'Relatório do SketchUp'!$A$1:$CZ$1,0))&"","")) | I9: =IF(C9="","",IFERROR(VALUE(IFERROR(INDEX('Relatório do SketchUp'!$A$6:$CZ$6,MATCH("Quantity",'Relatório do SketchUp'!$A$1:$CZ$1,0))&"",IFERROR(INDEX('Relatório do SketchUp'!$A$6:$CZ$6,MATCH("Quantidade",'Relatório do SketchUp'!$A$1:$CZ$1,0))&"",IFERROR(INDEX('Relatório do SketchUp'!$A$6:$CZ$6,MATCH("Qtd",'Relatório do SketchUp'!$A$1:$CZ$1,0))&"",IFERROR(INDEX('Relatório do SketchUp'!$A$6:$CZ$6,MATCH("Count",'Relatório do SketchUp'!$A$1:$CZ$1,0))&"",""))))),1)) | K9: =IFERROR(INDEX('Relatório do SketchUp'!$A$6:$CZ$6,MATCH("Preço estimado",'Relatório do SketchUp'!$A$1:$CZ$1,0))&"",IFERROR(INDEX('Relatório do SketchUp'!$A$6:$CZ$6,MATCH("f16_preco",'Relatório do SketchUp'!$A$1:$CZ$1,0))&"","")) | M9: =IF(OR(I9="",L9=""),"",I9*L9) | N9: =IF(IFERROR(INDEX('Relatório do SketchUp'!$A$6:$CZ$6,MATCH("Fornecedor",'Relatório do SketchUp'!$A$1:$CZ$1,0))&"",IFERROR(INDEX('Relatório do SketchUp'!$A$6:$CZ$6,MATCH("f09_fornecedor",'Relatório do SketchUp'!$A$1:$CZ$1,0))&"",""))<>"",IFERROR(INDEX('Relatório do SketchUp'!$A$6:$CZ$6,MATCH("Fornecedor",'Relatório do SketchUp'!$A$1:$CZ$1,0))&"",IFERROR(INDEX('Relatório do SketchUp'!$A$6:$CZ$6,MATCH("f09_fornecedor",'Relatório do SketchUp'!$A$1:$CZ$1,0))&"","")),IF(IFERROR(INDEX('Relatório do SketchUp'!$A$6:$CZ$6,MATCH("Marca",'Relatório do SketchUp'!$A$1:$CZ$1,0))&"",IFERROR(INDEX('Relatório do SketchUp'!$A$6:$CZ$6,MATCH("f01_marca",'Relatório do SketchUp'!$A$1:$CZ$1,0))&"",""))<>"",IFERROR(INDEX('Relatório do SketchUp'!$A$6:$CZ$6,MATCH("Marca",'Relatório do SketchUp'!$A$1:$CZ$1,0))&"",IFERROR(INDEX('Relatório do SketchUp'!$A$6:$CZ$6,MATCH("f01_marca",'Relatório do SketchUp'!$A$1:$CZ$1,0))&"","")),"")) | O9: =_xlfn.TEXTJOIN(" · ",TRUE,IFERROR(INDEX('Relatório do SketchUp'!$A$6:$CZ$6,MATCH("WhatsApp",'Relatório do SketchUp'!$A$1:$CZ$1,0))&"",IFERROR(INDEX('Relatório do SketchUp'!$A$6:$CZ$6,MATCH("f11_whatsapp",'Relatório do SketchUp'!$A$1:$CZ$1,0))&"","")),IFERROR(INDEX('Relatório do SketchUp'!$A$6:$CZ$6,MATCH("Telefone",'Relatório do SketchUp'!$A$1:$CZ$1,0))&"",IFERROR(INDEX('Relatório do SketchUp'!$A$6:$CZ$6,MATCH("f10_telefone",'Relatório do SketchUp'!$A$1:$CZ$1,0))&"","")),IFERROR(INDEX('Relatório do SketchUp'!$A$6:$CZ$6,MATCH("E-mail",'Relatório do SketchUp'!$A$1:$CZ$1,0))&"",IFERROR(INDEX('Relatório do SketchUp'!$A$6:$CZ$6,MATCH("f12_email",'Relatório do SketchUp'!$A$1:$CZ$1,0))&"",""))) | P9: =IFERROR(INDEX('Relatório do SketchUp'!$A$6:$CZ$6,MATCH("Página do produto",'Relatório do SketchUp'!$A$1:$CZ$1,0))&"",IFERROR(INDEX('Relatório do SketchUp'!$A$6:$CZ$6,MATCH("f15_link_produto",'Relatório do SketchUp'!$A$1:$CZ$1,0))&"",IFERROR(INDEX('Relatório do SketchUp'!$A$6:$CZ$6,MATCH("Onde comprar",'Relatório do SketchUp'!$A$1:$CZ$1,0))&"",IFERROR(INDEX('Relatório do SketchUp'!$A$6:$CZ$6,MATCH("f14_onde_comprar",'Relatório do SketchUp'!$A$1:$CZ$1,0))&"",IFERROR(INDEX('Relatório do SketchUp'!$A$6:$CZ$6,MATCH("Site",'Relatório do SketchUp'!$A$1:$CZ$1,0))&"",IFERROR(INDEX('Relatório do SketchUp'!$A$6:$CZ$6,MATCH("f13_site",'Relatório do SketchUp'!$A$1:$CZ$1,0))&"","")))))) | U9: =IF(OR(T9="",Q9=""),"",T9+Q9)
C10: =IFERROR(INDEX('Relatório do SketchUp'!$A$7:$CZ$7,MATCH("Produto",'Relatório do SketchUp'!$A$1:$CZ$1,0))&"",IFERROR(INDEX('Relatório do SketchUp'!$A$7:$CZ$7,MATCH("f02_produto",'Relatório do SketchUp'!$A$1:$CZ$1,0))&"",IFERROR(INDEX('Relatório do SketchUp'!$A$7:$CZ$7,MATCH("Definition Name",'Relatório do SketchUp'!$A$1:$CZ$1,0))&"",IFERROR(INDEX('Relatório do SketchUp'!$A$7:$CZ$7,MATCH("Nome da definição",'Relatório do SketchUp'!$A$1:$CZ$1,0))&"","")))) | D10: =IFERROR(INDEX('Relatório do SketchUp'!$A$7:$CZ$7,MATCH("Marca",'Relatório do SketchUp'!$A$1:$CZ$1,0))&"",IFERROR(INDEX('Relatório do SketchUp'!$A$7:$CZ$7,MATCH("f01_marca",'Relatório do SketchUp'!$A$1:$CZ$1,0))&"","")) | E10: =IFERROR(INDEX('Relatório do SketchUp'!$A$7:$CZ$7,MATCH("Linha",'Relatório do SketchUp'!$A$1:$CZ$1,0))&"",IFERROR(INDEX('Relatório do SketchUp'!$A$7:$CZ$7,MATCH("f04_linha",'Relatório do SketchUp'!$A$1:$CZ$1,0))&"","")) | F10: =IFERROR(INDEX('Relatório do SketchUp'!$A$7:$CZ$7,MATCH("Código do produto",'Relatório do SketchUp'!$A$1:$CZ$1,0))&"",IFERROR(INDEX('Relatório do SketchUp'!$A$7:$CZ$7,MATCH("f03_codigo",'Relatório do SketchUp'!$A$1:$CZ$1,0))&"","")) | G10: =IFERROR(INDEX('Relatório do SketchUp'!$A$7:$CZ$7,MATCH("Dimensões",'Relatório do SketchUp'!$A$1:$CZ$1,0))&"",IFERROR(INDEX('Relatório do SketchUp'!$A$7:$CZ$7,MATCH("f06_dimensoes",'Relatório do SketchUp'!$A$1:$CZ$1,0))&"","")) | H10: =IFERROR(INDEX('Relatório do SketchUp'!$A$7:$CZ$7,MATCH("Acabamento",'Relatório do SketchUp'!$A$1:$CZ$1,0))&"",IFERROR(INDEX('Relatório do SketchUp'!$A$7:$CZ$7,MATCH("f07_acabamento",'Relatório do SketchUp'!$A$1:$CZ$1,0))&"","")) | I10: =IF(C10="","",IFERROR(VALUE(IFERROR(INDEX('Relatório do SketchUp'!$A$7:$CZ$7,MATCH("Quantity",'Relatório do SketchUp'!$A$1:$CZ$1,0))&"",IFERROR(INDEX('Relatório do SketchUp'!$A$7:$CZ$7,MATCH("Quantidade",'Relatório do SketchUp'!$A$1:$CZ$1,0))&"",IFERROR(INDEX('Relatório do SketchUp'!$A$7:$CZ$7,MATCH("Qtd",'Relatório do SketchUp'!$A$1:$CZ$1,0))&"",IFERROR(INDEX('Relatório do SketchUp'!$A$7:$CZ$7,MATCH("Count",'Relatório do SketchUp'!$A$1:$CZ$1,0))&"",""))))),1)) | K10: =IFERROR(INDEX('Relatório do SketchUp'!$A$7:$CZ$7,MATCH("Preço estimado",'Relatório do SketchUp'!$A$1:$CZ$1,0))&"",IFERROR(INDEX('Relatório do SketchUp'!$A$7:$CZ$7,MATCH("f16_preco",'Relatório do SketchUp'!$A$1:$CZ$1,0))&"","")) | M10: =IF(OR(I10="",L10=""),"",I10*L10) | N10: =IF(IFERROR(INDEX('Relatório do SketchUp'!$A$7:$CZ$7,MATCH("Fornecedor",'Relatório do SketchUp'!$A$1:$CZ$1,0))&"",IFERROR(INDEX('Relatório do SketchUp'!$A$7:$CZ$7,MATCH("f09_fornecedor",'Relatório do SketchUp'!$A$1:$CZ$1,0))&"",""))<>"",IFERROR(INDEX('Relatório do SketchUp'!$A$7:$CZ$7,MATCH("Fornecedor",'Relatório do SketchUp'!$A$1:$CZ$1,0))&"",IFERROR(INDEX('Relatório do SketchUp'!$A$7:$CZ$7,MATCH("f09_fornecedor",'Relatório do SketchUp'!$A$1:$CZ$1,0))&"","")),IF(IFERROR(INDEX('Relatório do SketchUp'!$A$7:$CZ$7,MATCH("Marca",'Relatório do SketchUp'!$A$1:$CZ$1,0))&"",IFERROR(INDEX('Relatório do SketchUp'!$A$7:$CZ$7,MATCH("f01_marca",'Relatório do SketchUp'!$A$1:$CZ$1,0))&"",""))<>"",IFERROR(INDEX('Relatório do SketchUp'!$A$7:$CZ$7,MATCH("Marca",'Relatório do SketchUp'!$A$1:$CZ$1,0))&"",IFERROR(INDEX('Relatório do SketchUp'!$A$7:$CZ$7,MATCH("f01_marca",'Relatório do SketchUp'!$A$1:$CZ$1,0))&"","")),"")) | O10: =_xlfn.TEXTJOIN(" · ",TRUE,IFERROR(INDEX('Relatório do SketchUp'!$A$7:$CZ$7,MATCH("WhatsApp",'Relatório do SketchUp'!$A$1:$CZ$1,0))&"",IFERROR(INDEX('Relatório do SketchUp'!$A$7:$CZ$7,MATCH("f11_whatsapp",'Relatório do SketchUp'!$A$1:$CZ$1,0))&"","")),IFERROR(INDEX('Relatório do SketchUp'!$A$7:$CZ$7,MATCH("Telefone",'Relatório do SketchUp'!$A$1:$CZ$1,0))&"",IFERROR(INDEX('Relatório do SketchUp'!$A$7:$CZ$7,MATCH("f10_telefone",'Relatório do SketchUp'!$A$1:$CZ$1,0))&"","")),IFERROR(INDEX('Relatório do SketchUp'!$A$7:$CZ$7,MATCH("E-mail",'Relatório do SketchUp'!$A$1:$CZ$1,0))&"",IFERROR(INDEX('Relatório do SketchUp'!$A$7:$CZ$7,MATCH("f12_email",'Relatório do SketchUp'!$A$1:$CZ$1,0))&"",""))) | P10: =IFERROR(INDEX('Relatório do SketchUp'!$A$7:$CZ$7,MATCH("Página do produto",'Relatório do SketchUp'!$A$1:$CZ$1,0))&"",IFERROR(INDEX('Relatório do SketchUp'!$A$7:$CZ$7,MATCH("f15_link_produto",'Relatório do SketchUp'!$A$1:$CZ$1,0))&"",IFERROR(INDEX('Relatório do SketchUp'!$A$7:$CZ$7,MATCH("Onde comprar",'Relatório do SketchUp'!$A$1:$CZ$1,0))&"",IFERROR(INDEX('Relatório do SketchUp'!$A$7:$CZ$7,MATCH("f14_onde_comprar",'Relatório do SketchUp'!$A$1:$CZ$1,0))&"",IFERROR(INDEX('Relatório do SketchUp'!$A$7:$CZ$7,MATCH("Site",'Relatório do SketchUp'!$A$1:$CZ$1,0))&"",IFERROR(INDEX('Relatório do SketchUp'!$A$7:$CZ$7,MATCH("f13_site",'Relatório do SketchUp'!$A$1:$CZ$1,0))&"","")))))) | U10: =IF(OR(T10="",Q10=""),"",T10+Q10)
C11: =IFERROR(INDEX('Relatório do SketchUp'!$A$8:$CZ$8,MATCH("Produto",'Relatório do SketchUp'!$A$1:$CZ$1,0))&"",IFERROR(INDEX('Relatório do SketchUp'!$A$8:$CZ$8,MATCH("f02_produto",'Relatório do SketchUp'!$A$1:$CZ$1,0))&"",IFERROR(INDEX('Relatório do SketchUp'!$A$8:$CZ$8,MATCH("Definition Name",'Relatório do SketchUp'!$A$1:$CZ$1,0))&"",IFERROR(INDEX('Relatório do SketchUp'!$A$8:$CZ$8,MATCH("Nome da definição",'Relatório do SketchUp'!$A$1:$CZ$1,0))&"","")))) | D11: =IFERROR(INDEX('Relatório do SketchUp'!$A$8:$CZ$8,MATCH("Marca",'Relatório do SketchUp'!$A$1:$CZ$1,0))&"",IFERROR(INDEX('Relatório do SketchUp'!$A$8:$CZ$8,MATCH("f01_marca",'Relatório do SketchUp'!$A$1:$CZ$1,0))&"","")) | E11: =IFERROR(INDEX('Relatório do SketchUp'!$A$8:$CZ$8,MATCH("Linha",'Relatório do SketchUp'!$A$1:$CZ$1,0))&"",IFERROR(INDEX('Relatório do SketchUp'!$A$8:$CZ$8,MATCH("f04_linha",'Relatório do SketchUp'!$A$1:$CZ$1,0))&"","")) | F11: =IFERROR(INDEX('Relatório do SketchUp'!$A$8:$CZ$8,MATCH("Código do produto",'Relatório do SketchUp'!$A$1:$CZ$1,0))&"",IFERROR(INDEX('Relatório do SketchUp'!$A$8:$CZ$8,MATCH("f03_codigo",'Relatório do SketchUp'!$A$1:$CZ$1,0))&"","")) | G11: =IFERROR(INDEX('Relatório do SketchUp'!$A$8:$CZ$8,MATCH("Dimensões",'Relatório do SketchUp'!$A$1:$CZ$1,0))&"",IFERROR(INDEX('Relatório do SketchUp'!$A$8:$CZ$8,MATCH("f06_dimensoes",'Relatório do SketchUp'!$A$1:$CZ$1,0))&"","")) | H11: =IFERROR(INDEX('Relatório do SketchUp'!$A$8:$CZ$8,MATCH("Acabamento",'Relatório do SketchUp'!$A$1:$CZ$1,0))&"",IFERROR(INDEX('Relatório do SketchUp'!$A$8:$CZ$8,MATCH("f07_acabamento",'Relatório do SketchUp'!$A$1:$CZ$1,0))&"","")) | I11: =IF(C11="","",IFERROR(VALUE(IFERROR(INDEX('Relatório do SketchUp'!$A$8:$CZ$8,MATCH("Quantity",'Relatório do SketchUp'!$A$1:$CZ$1,0))&"",IFERROR(INDEX('Relatório do SketchUp'!$A$8:$CZ$8,MATCH("Quantidade",'Relatório do SketchUp'!$A$1:$CZ$1,0))&"",IFERROR(INDEX('Relatório do SketchUp'!$A$8:$CZ$8,MATCH("Qtd",'Relatório do SketchUp'!$A$1:$CZ$1,0))&"",IFERROR(INDEX('Relatório do SketchUp'!$A$8:$CZ$8,MATCH("Count",'Relatório do SketchUp'!$A$1:$CZ$1,0))&"",""))))),1)) | K11: =IFERROR(INDEX('Relatório do SketchUp'!$A$8:$CZ$8,MATCH("Preço estimado",'Relatório do SketchUp'!$A$1:$CZ$1,0))&"",IFERROR(INDEX('Relatório do SketchUp'!$A$8:$CZ$8,MATCH("f16_preco",'Relatório do SketchUp'!$A$1:$CZ$1,0))&"","")) | M11: =IF(OR(I11="",L11=""),"",I11*L11) | N11: =IF(IFERROR(INDEX('Relatório do SketchUp'!$A$8:$CZ$8,MATCH("Fornecedor",'Relatório do SketchUp'!$A$1:$CZ$1,0))&"",IFERROR(INDEX('Relatório do SketchUp'!$A$8:$CZ$8,MATCH("f09_fornecedor",'Relatório do SketchUp'!$A$1:$CZ$1,0))&"",""))<>"",IFERROR(INDEX('Relatório do SketchUp'!$A$8:$CZ$8,MATCH("Fornecedor",'Relatório do SketchUp'!$A$1:$CZ$1,0))&"",IFERROR(INDEX('Relatório do SketchUp'!$A$8:$CZ$8,MATCH("f09_fornecedor",'Relatório do SketchUp'!$A$1:$CZ$1,0))&"","")),IF(IFERROR(INDEX('Relatório do SketchUp'!$A$8:$CZ$8,MATCH("Marca",'Relatório do SketchUp'!$A$1:$CZ$1,0))&"",IFERROR(INDEX('Relatório do SketchUp'!$A$8:$CZ$8,MATCH("f01_marca",'Relatório do SketchUp'!$A$1:$CZ$1,0))&"",""))<>"",IFERROR(INDEX('Relatório do SketchUp'!$A$8:$CZ$8,MATCH("Marca",'Relatório do SketchUp'!$A$1:$CZ$1,0))&"",IFERROR(INDEX('Relatório do SketchUp'!$A$8:$CZ$8,MATCH("f01_marca",'Relatório do SketchUp'!$A$1:$CZ$1,0))&"","")),"")) | O11: =_xlfn.TEXTJOIN(" · ",TRUE,IFERROR(INDEX('Relatório do SketchUp'!$A$8:$CZ$8,MATCH("WhatsApp",'Relatório do SketchUp'!$A$1:$CZ$1,0))&"",IFERROR(INDEX('Relatório do SketchUp'!$A$8:$CZ$8,MATCH("f11_whatsapp",'Relatório do SketchUp'!$A$1:$CZ$1,0))&"","")),IFERROR(INDEX('Relatório do SketchUp'!$A$8:$CZ$8,MATCH("Telefone",'Relatório do SketchUp'!$A$1:$CZ$1,0))&"",IFERROR(INDEX('Relatório do SketchUp'!$A$8:$CZ$8,MATCH("f10_telefone",'Relatório do SketchUp'!$A$1:$CZ$1,0))&"","")),IFERROR(INDEX('Relatório do SketchUp'!$A$8:$CZ$8,MATCH("E-mail",'Relatório do SketchUp'!$A$1:$CZ$1,0))&"",IFERROR(INDEX('Relatório do SketchUp'!$A$8:$CZ$8,MATCH("f12_email",'Relatório do SketchUp'!$A$1:$CZ$1,0))&"",""))) | P11: =IFERROR(INDEX('Relatório do SketchUp'!$A$8:$CZ$8,MATCH("Página do produto",'Relatório do SketchUp'!$A$1:$CZ$1,0))&"",IFERROR(INDEX('Relatório do SketchUp'!$A$8:$CZ$8,MATCH("f15_link_produto",'Relatório do SketchUp'!$A$1:$CZ$1,0))&"",IFERROR(INDEX('Relatório do SketchUp'!$A$8:$CZ$8,MATCH("Onde comprar",'Relatório do SketchUp'!$A$1:$CZ$1,0))&"",IFERROR(INDEX('Relatório do SketchUp'!$A$8:$CZ$8,MATCH("f14_onde_comprar",'Relatório do SketchUp'!$A$1:$CZ$1,0))&"",IFERROR(INDEX('Relatório do SketchUp'!$A$8:$CZ$8,MATCH("Site",'Relatório do SketchUp'!$A$1:$CZ$1,0))&"",IFERROR(INDEX('Relatório do SketchUp'!$A$8:$CZ$8,MATCH("f13_site",'Relatório do SketchUp'!$A$1:$CZ$1,0))&"","")))))) | U11: =IF(OR(T11="",Q11=""),"",T11+Q11)
C12: =IFERROR(INDEX('Relatório do SketchUp'!$A$9:$CZ$9,MATCH("Produto",'Relatório do SketchUp'!$A$1:$CZ$1,0))&"",IFERROR(INDEX('Relatório do SketchUp'!$A$9:$CZ$9,MATCH("f02_produto",'Relatório do SketchUp'!$A$1:$CZ$1,0))&"",IFERROR(INDEX('Relatório do SketchUp'!$A$9:$CZ$9,MATCH("Definition Name",'Relatório do SketchUp'!$A$1:$CZ$1,0))&"",IFERROR(INDEX('Relatório do SketchUp'!$A$9:$CZ$9,MATCH("Nome da definição",'Relatório do SketchUp'!$A$1:$CZ$1,0))&"","")))) | D12: =IFERROR(INDEX('Relatório do SketchUp'!$A$9:$CZ$9,MATCH("Marca",'Relatório do SketchUp'!$A$1:$CZ$1,0))&"",IFERROR(INDEX('Relatório do SketchUp'!$A$9:$CZ$9,MATCH("f01_marca",'Relatório do SketchUp'!$A$1:$CZ$1,0))&"","")) | E12: =IFERROR(INDEX('Relatório do SketchUp'!$A$9:$CZ$9,MATCH("Linha",'Relatório do SketchUp'!$A$1:$CZ$1,0))&"",IFERROR(INDEX('Relatório do SketchUp'!$A$9:$CZ$9,MATCH("f04_linha",'Relatório do SketchUp'!$A$1:$CZ$1,0))&"","")) | F12: =IFERROR(INDEX('Relatório do SketchUp'!$A$9:$CZ$9,MATCH("Código do produto",'Relatório do SketchUp'!$A$1:$CZ$1,0))&"",IFERROR(INDEX('Relatório do SketchUp'!$A$9:$CZ$9,MATCH("f03_codigo",'Relatório do SketchUp'!$A$1:$CZ$1,0))&"","")) | G12: =IFERROR(INDEX('Relatório do SketchUp'!$A$9:$CZ$9,MATCH("Dimensões",'Relatório do SketchUp'!$A$1:$CZ$1,0))&"",IFERROR(INDEX('Relatório do SketchUp'!$A$9:$CZ$9,MATCH("f06_dimensoes",'Relatório do SketchUp'!$A$1:$CZ$1,0))&"","")) | H12: =IFERROR(INDEX('Relatório do SketchUp'!$A$9:$CZ$9,MATCH("Acabamento",'Relatório do SketchUp'!$A$1:$CZ$1,0))&"",IFERROR(INDEX('Relatório do SketchUp'!$A$9:$CZ$9,MATCH("f07_acabamento",'Relatório do SketchUp'!$A$1:$CZ$1,0))&"","")) | I12: =IF(C12="","",IFERROR(VALUE(IFERROR(INDEX('Relatório do SketchUp'!$A$9:$CZ$9,MATCH("Quantity",'Relatório do SketchUp'!$A$1:$CZ$1,0))&"",IFERROR(INDEX('Relatório do SketchUp'!$A$9:$CZ$9,MATCH("Quantidade",'Relatório do SketchUp'!$A$1:$CZ$1,0))&"",IFERROR(INDEX('Relatório do SketchUp'!$A$9:$CZ$9,MATCH("Qtd",'Relatório do SketchUp'!$A$1:$CZ$1,0))&"",IFERROR(INDEX('Relatório do SketchUp'!$A$9:$CZ$9,MATCH("Count",'Relatório do SketchUp'!$A$1:$CZ$1,0))&"",""))))),1)) | K12: =IFERROR(INDEX('Relatório do SketchUp'!$A$9:$CZ$9,MATCH("Preço estimado",'Relatório do SketchUp'!$A$1:$CZ$1,0))&"",IFERROR(INDEX('Relatório do SketchUp'!$A$9:$CZ$9,MATCH("f16_preco",'Relatório do SketchUp'!$A$1:$CZ$1,0))&"","")) | M12: =IF(OR(I12="",L12=""),"",I12*L12) | N12: =IF(IFERROR(INDEX('Relatório do SketchUp'!$A$9:$CZ$9,MATCH("Fornecedor",'Relatório do SketchUp'!$A$1:$CZ$1,0))&"",IFERROR(INDEX('Relatório do SketchUp'!$A$9:$CZ$9,MATCH("f09_fornecedor",'Relatório do SketchUp'!$A$1:$CZ$1,0))&"",""))<>"",IFERROR(INDEX('Relatório do SketchUp'!$A$9:$CZ$9,MATCH("Fornecedor",'Relatório do SketchUp'!$A$1:$CZ$1,0))&"",IFERROR(INDEX('Relatório do SketchUp'!$A$9:$CZ$9,MATCH("f09_fornecedor",'Relatório do SketchUp'!$A$1:$CZ$1,0))&"","")),IF(IFERROR(INDEX('Relatório do SketchUp'!$A$9:$CZ$9,MATCH("Marca",'Relatório do SketchUp'!$A$1:$CZ$1,0))&"",IFERROR(INDEX('Relatório do SketchUp'!$A$9:$CZ$9,MATCH("f01_marca",'Relatório do SketchUp'!$A$1:$CZ$1,0))&"",""))<>"",IFERROR(INDEX('Relatório do SketchUp'!$A$9:$CZ$9,MATCH("Marca",'Relatório do SketchUp'!$A$1:$CZ$1,0))&"",IFERROR(INDEX('Relatório do SketchUp'!$A$9:$CZ$9,MATCH("f01_marca",'Relatório do SketchUp'!$A$1:$CZ$1,0))&"","")),"")) | O12: =_xlfn.TEXTJOIN(" · ",TRUE,IFERROR(INDEX('Relatório do SketchUp'!$A$9:$CZ$9,MATCH("WhatsApp",'Relatório do SketchUp'!$A$1:$CZ$1,0))&"",IFERROR(INDEX('Relatório do SketchUp'!$A$9:$CZ$9,MATCH("f11_whatsapp",'Relatório do SketchUp'!$A$1:$CZ$1,0))&"","")),IFERROR(INDEX('Relatório do SketchUp'!$A$9:$CZ$9,MATCH("Telefone",'Relatório do SketchUp'!$A$1:$CZ$1,0))&"",IFERROR(INDEX('Relatório do SketchUp'!$A$9:$CZ$9,MATCH("f10_telefone",'Relatório do SketchUp'!$A$1:$CZ$1,0))&"","")),IFERROR(INDEX('Relatório do SketchUp'!$A$9:$CZ$9,MATCH("E-mail",'Relatório do SketchUp'!$A$1:$CZ$1,0))&"",IFERROR(INDEX('Relatório do SketchUp'!$A$9:$CZ$9,MATCH("f12_email",'Relatório do SketchUp'!$A$1:$CZ$1,0))&"",""))) | P12: =IFERROR(INDEX('Relatório do SketchUp'!$A$9:$CZ$9,MATCH("Página do produto",'Relatório do SketchUp'!$A$1:$CZ$1,0))&"",IFERROR(INDEX('Relatório do SketchUp'!$A$9:$CZ$9,MATCH("f15_link_produto",'Relatório do SketchUp'!$A$1:$CZ$1,0))&"",IFERROR(INDEX('Relatório do SketchUp'!$A$9:$CZ$9,MATCH("Onde comprar",'Relatório do SketchUp'!$A$1:$CZ$1,0))&"",IFERROR(INDEX('Relatório do SketchUp'!$A$9:$CZ$9,MATCH("f14_onde_comprar",'Relatório do SketchUp'!$A$1:$CZ$1,0))&"",IFERROR(INDEX('Relatório do SketchUp'!$A$9:$CZ$9,MATCH("Site",'Relatório do SketchUp'!$A$1:$CZ$1,0))&"",IFERROR(INDEX('Relatório do SketchUp'!$A$9:$CZ$9,MATCH("f13_site",'Relatório do SketchUp'!$A$1:$CZ$1,0))&"","")))))) | U12: =IF(OR(T12="",Q12=""),"",T12+Q12)
C13: =IFERROR(INDEX('Relatório do SketchUp'!$A$10:$CZ$10,MATCH("Produto",'Relatório do SketchUp'!$A$1:$CZ$1,0))&"",IFERROR(INDEX('Relatório do SketchUp'!$A$10:$CZ$10,MATCH("f02_produto",'Relatório do SketchUp'!$A$1:$CZ$1,0))&"",IFERROR(INDEX('Relatório do SketchUp'!$A$10:$CZ$10,MATCH("Definition Name",'Relatório do SketchUp'!$A$1:$CZ$1,0))&"",IFERROR(INDEX('Relatório do SketchUp'!$A$10:$CZ$10,MATCH("Nome da definição",'Relatório do SketchUp'!$A$1:$CZ$1,0))&"","")))) | D13: =IFERROR(INDEX('Relatório do SketchUp'!$A$10:$CZ$10,MATCH("Marca",'Relatório do SketchUp'!$A$1:$CZ$1,0))&"",IFERROR(INDEX('Relatório do SketchUp'!$A$10:$CZ$10,MATCH("f01_marca",'Relatório do SketchUp'!$A$1:$CZ$1,0))&"","")) | E13: =IFERROR(INDEX('Relatório do SketchUp'!$A$10:$CZ$10,MATCH("Linha",'Relatório do SketchUp'!$A$1:$CZ$1,0))&"",IFERROR(INDEX('Relatório do SketchUp'!$A$10:$CZ$10,MATCH("f04_linha",'Relatório do SketchUp'!$A$1:$CZ$1,0))&"","")) | F13: =IFERROR(INDEX('Relatório do SketchUp'!$A$10:$CZ$10,MATCH("Código do produto",'Relatório do SketchUp'!$A$1:$CZ$1,0))&"",IFERROR(INDEX('Relatório do SketchUp'!$A$10:$CZ$10,MATCH("f03_codigo",'Relatório do SketchUp'!$A$1:$CZ$1,0))&"","")) | G13: =IFERROR(INDEX('Relatório do SketchUp'!$A$10:$CZ$10,MATCH("Dimensões",'Relatório do SketchUp'!$A$1:$CZ$1,0))&"",IFERROR(INDEX('Relatório do SketchUp'!$A$10:$CZ$10,MATCH("f06_dimensoes",'Relatório do SketchUp'!$A$1:$CZ$1,0))&"","")) | H13: =IFERROR(INDEX('Relatório do SketchUp'!$A$10:$CZ$10,MATCH("Acabamento",'Relatório do SketchUp'!$A$1:$CZ$1,0))&"",IFERROR(INDEX('Relatório do SketchUp'!$A$10:$CZ$10,MATCH("f07_acabamento",'Relatório do SketchUp'!$A$1:$CZ$1,0))&"","")) | I13: =IF(C13="","",IFERROR(VALUE(IFERROR(INDEX('Relatório do SketchUp'!$A$10:$CZ$10,MATCH("Quantity",'Relatório do SketchUp'!$A$1:$CZ$1,0))&"",IFERROR(INDEX('Relatório do SketchUp'!$A$10:$CZ$10,MATCH("Quantidade",'Relatório do SketchUp'!$A$1:$CZ$1,0))&"",IFERROR(INDEX('Relatório do SketchUp'!$A$10:$CZ$10,MATCH("Qtd",'Relatório do SketchUp'!$A$1:$CZ$1,0))&"",IFERROR(INDEX('Relatório do SketchUp'!$A$10:$CZ$10,MATCH("Count",'Relatório do SketchUp'!$A$1:$CZ$1,0))&"",""))))),1)) | K13: =IFERROR(INDEX('Relatório do SketchUp'!$A$10:$CZ$10,MATCH("Preço estimado",'Relatório do SketchUp'!$A$1:$CZ$1,0))&"",IFERROR(INDEX('Relatório do SketchUp'!$A$10:$CZ$10,MATCH("f16_preco",'Relatório do SketchUp'!$A$1:$CZ$1,0))&"","")) | M13: =IF(OR(I13="",L13=""),"",I13*L13) | N13: =IF(IFERROR(INDEX('Relatório do SketchUp'!$A$10:$CZ$10,MATCH("Fornecedor",'Relatório do SketchUp'!$A$1:$CZ$1,0))&"",IFERROR(INDEX('Relatório do SketchUp'!$A$10:$CZ$10,MATCH("f09_fornecedor",'Relatório do SketchUp'!$A$1:$CZ$1,0))&"",""))<>"",IFERROR(INDEX('Relatório do SketchUp'!$A$10:$CZ$10,MATCH("Fornecedor",'Relatório do SketchUp'!$A$1:$CZ$1,0))&"",IFERROR(INDEX('Relatório do SketchUp'!$A$10:$CZ$10,MATCH("f09_fornecedor",'Relatório do SketchUp'!$A$1:$CZ$1,0))&"","")),IF(IFERROR(INDEX('Relatório do SketchUp'!$A$10:$CZ$10,MATCH("Marca",'Relatório do SketchUp'!$A$1:$CZ$1,0))&"",IFERROR(INDEX('Relatório do SketchUp'!$A$10:$CZ$10,MATCH("f01_marca",'Relatório do SketchUp'!$A$1:$CZ$1,0))&"",""))<>"",IFERROR(INDEX('Relatório do SketchUp'!$A$10:$CZ$10,MATCH("Marca",'Relatório do SketchUp'!$A$1:$CZ$1,0))&"",IFERROR(INDEX('Relatório do SketchUp'!$A$10:$CZ$10,MATCH("f01_marca",'Relatório do SketchUp'!$A$1:$CZ$1,0))&"","")),"")) | O13: =_xlfn.TEXTJOIN(" · ",TRUE,IFERROR(INDEX('Relatório do SketchUp'!$A$10:$CZ$10,MATCH("WhatsApp",'Relatório do SketchUp'!$A$1:$CZ$1,0))&"",IFERROR(INDEX('Relatório do SketchUp'!$A$10:$CZ$10,MATCH("f11_whatsapp",'Relatório do SketchUp'!$A$1:$CZ$1,0))&"","")),IFERROR(INDEX('Relatório do SketchUp'!$A$10:$CZ$10,MATCH("Telefone",'Relatório do SketchUp'!$A$1:$CZ$1,0))&"",IFERROR(INDEX('Relatório do SketchUp'!$A$10:$CZ$10,MATCH("f10_telefone",'Relatório do SketchUp'!$A$1:$CZ$1,0))&"","")),IFERROR(INDEX('Relatório do SketchUp'!$A$10:$CZ$10,MATCH("E-mail",'Relatório do SketchUp'!$A$1:$CZ$1,0))&"",IFERROR(INDEX('Relatório do SketchUp'!$A$10:$CZ$10,MATCH("f12_email",'Relatório do SketchUp'!$A$1:$CZ$1,0))&"",""))) | P13: =IFERROR(INDEX('Relatório do SketchUp'!$A$10:$CZ$10,MATCH("Página do produto",'Relatório do SketchUp'!$A$1:$CZ$1,0))&"",IFERROR(INDEX('Relatório do SketchUp'!$A$10:$CZ$10,MATCH("f15_link_produto",'Relatório do SketchUp'!$A$1:$CZ$1,0))&"",IFERROR(INDEX('Relatório do SketchUp'!$A$10:$CZ$10,MATCH("Onde comprar",'Relatório do SketchUp'!$A$1:$CZ$1,0))&"",IFERROR(INDEX('Relatório do SketchUp'!$A$10:$CZ$10,MATCH("f14_onde_comprar",'Relatório do SketchUp'!$A$1:$CZ$1,0))&"",IFERROR(INDEX('Relatório do SketchUp'!$A$10:$CZ$10,MATCH("Site",'Relatório do SketchUp'!$A$1:$CZ$1,0))&"",IFERROR(INDEX('Relatório do SketchUp'!$A$10:$CZ$10,MATCH("f13_site",'Relatório do SketchUp'!$A$1:$CZ$1,0))&"","")))))) | U13: =IF(OR(T13="",Q13=""),"",T13+Q13)
C14: =IFERROR(INDEX('Relatório do SketchUp'!$A$11:$CZ$11,MATCH("Produto",'Relatório do SketchUp'!$A$1:$CZ$1,0))&"",IFERROR(INDEX('Relatório do SketchUp'!$A$11:$CZ$11,MATCH("f02_produto",'Relatório do SketchUp'!$A$1:$CZ$1,0))&"",IFERROR(INDEX('Relatório do SketchUp'!$A$11:$CZ$11,MATCH("Definition Name",'Relatório do SketchUp'!$A$1:$CZ$1,0))&"",IFERROR(INDEX('Relatório do SketchUp'!$A$11:$CZ$11,MATCH("Nome da definição",'Relatório do SketchUp'!$A$1:$CZ$1,0))&"","")))) | D14: =IFERROR(INDEX('Relatório do SketchUp'!$A$11:$CZ$11,MATCH("Marca",'Relatório do SketchUp'!$A$1:$CZ$1,0))&"",IFERROR(INDEX('Relatório do SketchUp'!$A$11:$CZ$11,MATCH("f01_marca",'Relatório do SketchUp'!$A$1:$CZ$1,0))&"","")) | E14: =IFERROR(INDEX('Relatório do SketchUp'!$A$11:$CZ$11,MATCH("Linha",'Relatório do SketchUp'!$A$1:$CZ$1,0))&"",IFERROR(INDEX('Relatório do SketchUp'!$A$11:$CZ$11,MATCH("f04_linha",'Relatório do SketchUp'!$A$1:$CZ$1,0))&"","")) | F14: =IFERROR(INDEX('Relatório do SketchUp'!$A$11:$CZ$11,MATCH("Código do produto",'Relatório do SketchUp'!$A$1:$CZ$1,0))&"",IFERROR(INDEX('Relatório do SketchUp'!$A$11:$CZ$11,MATCH("f03_codigo",'Relatório do SketchUp'!$A$1:$CZ$1,0))&"","")) | G14: =IFERROR(INDEX('Relatório do SketchUp'!$A$11:$CZ$11,MATCH("Dimensões",'Relatório do SketchUp'!$A$1:$CZ$1,0))&"",IFERROR(INDEX('Relatório do SketchUp'!$A$11:$CZ$11,MATCH("f06_dimensoes",'Relatório do SketchUp'!$A$1:$CZ$1,0))&"","")) | H14: =IFERROR(INDEX('Relatório do SketchUp'!$A$11:$CZ$11,MATCH("Acabamento",'Relatório do SketchUp'!$A$1:$CZ$1,0))&"",IFERROR(INDEX('Relatório do SketchUp'!$A$11:$CZ$11,MATCH("f07_acabamento",'Relatório do SketchUp'!$A$1:$CZ$1,0))&"","")) | I14: =IF(C14="","",IFERROR(VALUE(IFERROR(INDEX('Relatório do SketchUp'!$A$11:$CZ$11,MATCH("Quantity",'Relatório do SketchUp'!$A$1:$CZ$1,0))&"",IFERROR(INDEX('Relatório do SketchUp'!$A$11:$CZ$11,MATCH("Quantidade",'Relatório do SketchUp'!$A$1:$CZ$1,0))&"",IFERROR(INDEX('Relatório do SketchUp'!$A$11:$CZ$11,MATCH("Qtd",'Relatório do SketchUp'!$A$1:$CZ$1,0))&"",IFERROR(INDEX('Relatório do SketchUp'!$A$11:$CZ$11,MATCH("Count",'Relatório do SketchUp'!$A$1:$CZ$1,0))&"",""))))),1)) | K14: =IFERROR(INDEX('Relatório do SketchUp'!$A$11:$CZ$11,MATCH("Preço estimado",'Relatório do SketchUp'!$A$1:$CZ$1,0))&"",IFERROR(INDEX('Relatório do SketchUp'!$A$11:$CZ$11,MATCH("f16_preco",'Relatório do SketchUp'!$A$1:$CZ$1,0))&"","")) | M14: =IF(OR(I14="",L14=""),"",I14*L14) | N14: =IF(IFERROR(INDEX('Relatório do SketchUp'!$A$11:$CZ$11,MATCH("Fornecedor",'Relatório do SketchUp'!$A$1:$CZ$1,0))&"",IFERROR(INDEX('Relatório do SketchUp'!$A$11:$CZ$11,MATCH("f09_fornecedor",'Relatório do SketchUp'!$A$1:$CZ$1,0))&"",""))<>"",IFERROR(INDEX('Relatório do SketchUp'!$A$11:$CZ$11,MATCH("Fornecedor",'Relatório do SketchUp'!$A$1:$CZ$1,0))&"",IFERROR(INDEX('Relatório do SketchUp'!$A$11:$CZ$11,MATCH("f09_fornecedor",'Relatório do SketchUp'!$A$1:$CZ$1,0))&"","")),IF(IFERROR(INDEX('Relatório do SketchUp'!$A$11:$CZ$11,MATCH("Marca",'Relatório do SketchUp'!$A$1:$CZ$1,0))&"",IFERROR(INDEX('Relatório do SketchUp'!$A$11:$CZ$11,MATCH("f01_marca",'Relatório do SketchUp'!$A$1:$CZ$1,0))&"",""))<>"",IFERROR(INDEX('Relatório do SketchUp'!$A$11:$CZ$11,MATCH("Marca",'Relatório do SketchUp'!$A$1:$CZ$1,0))&"",IFERROR(INDEX('Relatório do SketchUp'!$A$11:$CZ$11,MATCH("f01_marca",'Relatório do SketchUp'!$A$1:$CZ$1,0))&"","")),"")) | O14: =_xlfn.TEXTJOIN(" · ",TRUE,IFERROR(INDEX('Relatório do SketchUp'!$A$11:$CZ$11,MATCH("WhatsApp",'Relatório do SketchUp'!$A$1:$CZ$1,0))&"",IFERROR(INDEX('Relatório do SketchUp'!$A$11:$CZ$11,MATCH("f11_whatsapp",'Relatório do SketchUp'!$A$1:$CZ$1,0))&"","")),IFERROR(INDEX('Relatório do SketchUp'!$A$11:$CZ$11,MATCH("Telefone",'Relatório do SketchUp'!$A$1:$CZ$1,0))&"",IFERROR(INDEX('Relatório do SketchUp'!$A$11:$CZ$11,MATCH("f10_telefone",'Relatório do SketchUp'!$A$1:$CZ$1,0))&"","")),IFERROR(INDEX('Relatório do SketchUp'!$A$11:$CZ$11,MATCH("E-mail",'Relatório do SketchUp'!$A$1:$CZ$1,0))&"",IFERROR(INDEX('Relatório do SketchUp'!$A$11:$CZ$11,MATCH("f12_email",'Relatório do SketchUp'!$A$1:$CZ$1,0))&"",""))) | P14: =IFERROR(INDEX('Relatório do SketchUp'!$A$11:$CZ$11,MATCH("Página do produto",'Relatório do SketchUp'!$A$1:$CZ$1,0))&"",IFERROR(INDEX('Relatório do SketchUp'!$A$11:$CZ$11,MATCH("f15_link_produto",'Relatório do SketchUp'!$A$1:$CZ$1,0))&"",IFERROR(INDEX('Relatório do SketchUp'!$A$11:$CZ$11,MATCH("Onde comprar",'Relatório do SketchUp'!$A$1:$CZ$1,0))&"",IFERROR(INDEX('Relatório do SketchUp'!$A$11:$CZ$11,MATCH("f14_onde_comprar",'Relatório do SketchUp'!$A$1:$CZ$1,0))&"",IFERROR(INDEX('Relatório do SketchUp'!$A$11:$CZ$11,MATCH("Site",'Relatório do SketchUp'!$A$1:$CZ$1,0))&"",IFERROR(INDEX('Relatório do SketchUp'!$A$11:$CZ$11,MATCH("f13_site",'Relatório do SketchUp'!$A$1:$CZ$1,0))&"","")))))) | U14: =IF(OR(T14="",Q14=""),"",T14+Q14)
C15: =IFERROR(INDEX('Relatório do SketchUp'!$A$12:$CZ$12,MATCH("Produto",'Relatório do SketchUp'!$A$1:$CZ$1,0))&"",IFERROR(INDEX('Relatório do SketchUp'!$A$12:$CZ$12,MATCH("f02_produto",'Relatório do SketchUp'!$A$1:$CZ$1,0))&"",IFERROR(INDEX('Relatório do SketchUp'!$A$12:$CZ$12,MATCH("Definition Name",'Relatório do SketchUp'!$A$1:$CZ$1,0))&"",IFERROR(INDEX('Relatório do SketchUp'!$A$12:$CZ$12,MATCH("Nome da definição",'Relatório do SketchUp'!$A$1:$CZ$1,0))&"","")))) | D15: =IFERROR(INDEX('Relatório do SketchUp'!$A$12:$CZ$12,MATCH("Marca",'Relatório do SketchUp'!$A$1:$CZ$1,0))&"",IFERROR(INDEX('Relatório do SketchUp'!$A$12:$CZ$12,MATCH("f01_marca",'Relatório do SketchUp'!$A$1:$CZ$1,0))&"","")) | E15: =IFERROR(INDEX('Relatório do SketchUp'!$A$12:$CZ$12,MATCH("Linha",'Relatório do SketchUp'!$A$1:$CZ$1,0))&"",IFERROR(INDEX('Relatório do SketchUp'!$A$12:$CZ$12,MATCH("f04_linha",'Relatório do SketchUp'!$A$1:$CZ$1,0))&"","")) | F15: =IFERROR(INDEX('Relatório do SketchUp'!$A$12:$CZ$12,MATCH("Código do produto",'Relatório do SketchUp'!$A$1:$CZ$1,0))&"",IFERROR(INDEX('Relatório do SketchUp'!$A$12:$CZ$12,MATCH("f03_codigo",'Relatório do SketchUp'!$A$1:$CZ$1,0))&"","")) | G15: =IFERROR(INDEX('Relatório do SketchUp'!$A$12:$CZ$12,MATCH("Dimensões",'Relatório do SketchUp'!$A$1:$CZ$1,0))&"",IFERROR(INDEX('Relatório do SketchUp'!$A$12:$CZ$12,MATCH("f06_dimensoes",'Relatório do SketchUp'!$A$1:$CZ$1,0))&"","")) | H15: =IFERROR(INDEX('Relatório do SketchUp'!$A$12:$CZ$12,MATCH("Acabamento",'Relatório do SketchUp'!$A$1:$CZ$1,0))&"",IFERROR(INDEX('Relatório do SketchUp'!$A$12:$CZ$12,MATCH("f07_acabamento",'Relatório do SketchUp'!$A$1:$CZ$1,0))&"","")) | I15: =IF(C15="","",IFERROR(VALUE(IFERROR(INDEX('Relatório do SketchUp'!$A$12:$CZ$12,MATCH("Quantity",'Relatório do SketchUp'!$A$1:$CZ$1,0))&"",IFERROR(INDEX('Relatório do SketchUp'!$A$12:$CZ$12,MATCH("Quantidade",'Relatório do SketchUp'!$A$1:$CZ$1,0))&"",IFERROR(INDEX('Relatório do SketchUp'!$A$12:$CZ$12,MATCH("Qtd",'Relatório do SketchUp'!$A$1:$CZ$1,0))&"",IFERROR(INDEX('Relatório do SketchUp'!$A$12:$CZ$12,MATCH("Count",'Relatório do SketchUp'!$A$1:$CZ$1,0))&"",""))))),1)) | K15: =IFERROR(INDEX('Relatório do SketchUp'!$A$12:$CZ$12,MATCH("Preço estimado",'Relatório do SketchUp'!$A$1:$CZ$1,0))&"",IFERROR(INDEX('Relatório do SketchUp'!$A$12:$CZ$12,MATCH("f16_preco",'Relatório do SketchUp'!$A$1:$CZ$1,0))&"","")) | M15: =IF(OR(I15="",L15=""),"",I15*L15) | N15: =IF(IFERROR(INDEX('Relatório do SketchUp'!$A$12:$CZ$12,MATCH("Fornecedor",'Relatório do SketchUp'!$A$1:$CZ$1,0))&"",IFERROR(INDEX('Relatório do SketchUp'!$A$12:$CZ$12,MATCH("f09_fornecedor",'Relatório do SketchUp'!$A$1:$CZ$1,0))&"",""))<>"",IFERROR(INDEX('Relatório do SketchUp'!$A$12:$CZ$12,MATCH("Fornecedor",'Relatório do SketchUp'!$A$1:$CZ$1,0))&"",IFERROR(INDEX('Relatório do SketchUp'!$A$12:$CZ$12,MATCH("f09_fornecedor",'Relatório do SketchUp'!$A$1:$CZ$1,0))&"","")),IF(IFERROR(INDEX('Relatório do SketchUp'!$A$12:$CZ$12,MATCH("Marca",'Relatório do SketchUp'!$A$1:$CZ$1,0))&"",IFERROR(INDEX('Relatório do SketchUp'!$A$12:$CZ$12,MATCH("f01_marca",'Relatório do SketchUp'!$A$1:$CZ$1,0))&"",""))<>"",IFERROR(INDEX('Relatório do SketchUp'!$A$12:$CZ$12,MATCH("Marca",'Relatório do SketchUp'!$A$1:$CZ$1,0))&"",IFERROR(INDEX('Relatório do SketchUp'!$A$12:$CZ$12,MATCH("f01_marca",'Relatório do SketchUp'!$A$1:$CZ$1,0))&"","")),"")) | O15: =_xlfn.TEXTJOIN(" · ",TRUE,IFERROR(INDEX('Relatório do SketchUp'!$A$12:$CZ$12,MATCH("WhatsApp",'Relatório do SketchUp'!$A$1:$CZ$1,0))&"",IFERROR(INDEX('Relatório do SketchUp'!$A$12:$CZ$12,MATCH("f11_whatsapp",'Relatório do SketchUp'!$A$1:$CZ$1,0))&"","")),IFERROR(INDEX('Relatório do SketchUp'!$A$12:$CZ$12,MATCH("Telefone",'Relatório do SketchUp'!$A$1:$CZ$1,0))&"",IFERROR(INDEX('Relatório do SketchUp'!$A$12:$CZ$12,MATCH("f10_telefone",'Relatório do SketchUp'!$A$1:$CZ$1,0))&"","")),IFERROR(INDEX('Relatório do SketchUp'!$A$12:$CZ$12,MATCH("E-mail",'Relatório do SketchUp'!$A$1:$CZ$1,0))&"",IFERROR(INDEX('Relatório do SketchUp'!$A$12:$CZ$12,MATCH("f12_email",'Relatório do SketchUp'!$A$1:$CZ$1,0))&"",""))) | P15: =IFERROR(INDEX('Relatório do SketchUp'!$A$12:$CZ$12,MATCH("Página do produto",'Relatório do SketchUp'!$A$1:$CZ$1,0))&"",IFERROR(INDEX('Relatório do SketchUp'!$A$12:$CZ$12,MATCH("f15_link_produto",'Relatório do SketchUp'!$A$1:$CZ$1,0))&"",IFERROR(INDEX('Relatório do SketchUp'!$A$12:$CZ$12,MATCH("Onde comprar",'Relatório do SketchUp'!$A$1:$CZ$1,0))&"",IFERROR(INDEX('Relatório do SketchUp'!$A$12:$CZ$12,MATCH("f14_onde_comprar",'Relatório do SketchUp'!$A$1:$CZ$1,0))&"",IFERROR(INDEX('Relatório do SketchUp'!$A$12:$CZ$12,MATCH("Site",'Relatório do SketchUp'!$A$1:$CZ$1,0))&"",IFERROR(INDEX('Relatório do SketchUp'!$A$12:$CZ$12,MATCH("f13_site",'Relatório do SketchUp'!$A$1:$CZ$1,0))&"","")))))) | U15: =IF(OR(T15="",Q15=""),"",T15+Q15)
C16: =IFERROR(INDEX('Relatório do SketchUp'!$A$13:$CZ$13,MATCH("Produto",'Relatório do SketchUp'!$A$1:$CZ$1,0))&"",IFERROR(INDEX('Relatório do SketchUp'!$A$13:$CZ$13,MATCH("f02_produto",'Relatório do SketchUp'!$A$1:$CZ$1,0))&"",IFERROR(INDEX('Relatório do SketchUp'!$A$13:$CZ$13,MATCH("Definition Name",'Relatório do SketchUp'!$A$1:$CZ$1,0))&"",IFERROR(INDEX('Relatório do SketchUp'!$A$13:$CZ$13,MATCH("Nome da definição",'Relatório do SketchUp'!$A$1:$CZ$1,0))&"","")))) | D16: =IFERROR(INDEX('Relatório do SketchUp'!$A$13:$CZ$13,MATCH("Marca",'Relatório do SketchUp'!$A$1:$CZ$1,0))&"",IFERROR(INDEX('Relatório do SketchUp'!$A$13:$CZ$13,MATCH("f01_marca",'Relatório do SketchUp'!$A$1:$CZ$1,0))&"","")) | E16: =IFERROR(INDEX('Relatório do SketchUp'!$A$13:$CZ$13,MATCH("Linha",'Relatório do SketchUp'!$A$1:$CZ$1,0))&"",IFERROR(INDEX('Relatório do SketchUp'!$A$13:$CZ$13,MATCH("f04_linha",'Relatório do SketchUp'!$A$1:$CZ$1,0))&"","")) | F16: =IFERROR(INDEX('Relatório do SketchUp'!$A$13:$CZ$13,MATCH("Código do produto",'Relatório do SketchUp'!$A$1:$CZ$1,0))&"",IFERROR(INDEX('Relatório do SketchUp'!$A$13:$CZ$13,MATCH("f03_codigo",'Relatório do SketchUp'!$A$1:$CZ$1,0))&"","")) | G16: =IFERROR(INDEX('Relatório do SketchUp'!$A$13:$CZ$13,MATCH("Dimensões",'Relatório do SketchUp'!$A$1:$CZ$1,0))&"",IFERROR(INDEX('Relatório do SketchUp'!$A$13:$CZ$13,MATCH("f06_dimensoes",'Relatório do SketchUp'!$A$1:$CZ$1,0))&"","")) | H16: =IFERROR(INDEX('Relatório do SketchUp'!$A$13:$CZ$13,MATCH("Acabamento",'Relatório do SketchUp'!$A$1:$CZ$1,0))&"",IFERROR(INDEX('Relatório do SketchUp'!$A$13:$CZ$13,MATCH("f07_acabamento",'Relatório do SketchUp'!$A$1:$CZ$1,0))&"","")) | I16: =IF(C16="","",IFERROR(VALUE(IFERROR(INDEX('Relatório do SketchUp'!$A$13:$CZ$13,MATCH("Quantity",'Relatório do SketchUp'!$A$1:$CZ$1,0))&"",IFERROR(INDEX('Relatório do SketchUp'!$A$13:$CZ$13,MATCH("Quantidade",'Relatório do SketchUp'!$A$1:$CZ$1,0))&"",IFERROR(INDEX('Relatório do SketchUp'!$A$13:$CZ$13,MATCH("Qtd",'Relatório do SketchUp'!$A$1:$CZ$1,0))&"",IFERROR(INDEX('Relatório do SketchUp'!$A$13:$CZ$13,MATCH("Count",'Relatório do SketchUp'!$A$1:$CZ$1,0))&"",""))))),1)) | K16: =IFERROR(INDEX('Relatório do SketchUp'!$A$13:$CZ$13,MATCH("Preço estimado",'Relatório do SketchUp'!$A$1:$CZ$1,0))&"",IFERROR(INDEX('Relatório do SketchUp'!$A$13:$CZ$13,MATCH("f16_preco",'Relatório do SketchUp'!$A$1:$CZ$1,0))&"","")) | M16: =IF(OR(I16="",L16=""),"",I16*L16) | N16: =IF(IFERROR(INDEX('Relatório do SketchUp'!$A$13:$CZ$13,MATCH("Fornecedor",'Relatório do SketchUp'!$A$1:$CZ$1,0))&"",IFERROR(INDEX('Relatório do SketchUp'!$A$13:$CZ$13,MATCH("f09_fornecedor",'Relatório do SketchUp'!$A$1:$CZ$1,0))&"",""))<>"",IFERROR(INDEX('Relatório do SketchUp'!$A$13:$CZ$13,MATCH("Fornecedor",'Relatório do SketchUp'!$A$1:$CZ$1,0))&"",IFERROR(INDEX('Relatório do SketchUp'!$A$13:$CZ$13,MATCH("f09_fornecedor",'Relatório do SketchUp'!$A$1:$CZ$1,0))&"","")),IF(IFERROR(INDEX('Relatório do SketchUp'!$A$13:$CZ$13,MATCH("Marca",'Relatório do SketchUp'!$A$1:$CZ$1,0))&"",IFERROR(INDEX('Relatório do SketchUp'!$A$13:$CZ$13,MATCH("f01_marca",'Relatório do SketchUp'!$A$1:$CZ$1,0))&"",""))<>"",IFERROR(INDEX('Relatório do SketchUp'!$A$13:$CZ$13,MATCH("Marca",'Relatório do SketchUp'!$A$1:$CZ$1,0))&"",IFERROR(INDEX('Relatório do SketchUp'!$A$13:$CZ$13,MATCH("f01_marca",'Relatório do SketchUp'!$A$1:$CZ$1,0))&"","")),"")) | O16: =_xlfn.TEXTJOIN(" · ",TRUE,IFERROR(INDEX('Relatório do SketchUp'!$A$13:$CZ$13,MATCH("WhatsApp",'Relatório do SketchUp'!$A$1:$CZ$1,0))&"",IFERROR(INDEX('Relatório do SketchUp'!$A$13:$CZ$13,MATCH("f11_whatsapp",'Relatório do SketchUp'!$A$1:$CZ$1,0))&"","")),IFERROR(INDEX('Relatório do SketchUp'!$A$13:$CZ$13,MATCH("Telefone",'Relatório do SketchUp'!$A$1:$CZ$1,0))&"",IFERROR(INDEX('Relatório do SketchUp'!$A$13:$CZ$13,MATCH("f10_telefone",'Relatório do SketchUp'!$A$1:$CZ$1,0))&"","")),IFERROR(INDEX('Relatório do SketchUp'!$A$13:$CZ$13,MATCH("E-mail",'Relatório do SketchUp'!$A$1:$CZ$1,0))&"",IFERROR(INDEX('Relatório do SketchUp'!$A$13:$CZ$13,MATCH("f12_email",'Relatório do SketchUp'!$A$1:$CZ$1,0))&"",""))) | P16: =IFERROR(INDEX('Relatório do SketchUp'!$A$13:$CZ$13,MATCH("Página do produto",'Relatório do SketchUp'!$A$1:$CZ$1,0))&"",IFERROR(INDEX('Relatório do SketchUp'!$A$13:$CZ$13,MATCH("f15_link_produto",'Relatório do SketchUp'!$A$1:$CZ$1,0))&"",IFERROR(INDEX('Relatório do SketchUp'!$A$13:$CZ$13,MATCH("Onde comprar",'Relatório do SketchUp'!$A$1:$CZ$1,0))&"",IFERROR(INDEX('Relatório do SketchUp'!$A$13:$CZ$13,MATCH("f14_onde_comprar",'Relatório do SketchUp'!$A$1:$CZ$1,0))&"",IFERROR(INDEX('Relatório do SketchUp'!$A$13:$CZ$13,MATCH("Site",'Relatório do SketchUp'!$A$1:$CZ$1,0))&"",IFERROR(INDEX('Relatório do SketchUp'!$A$13:$CZ$13,MATCH("f13_site",'Relatório do SketchUp'!$A$1:$CZ$1,0))&"","")))))) | U16: =IF(OR(T16="",Q16=""),"",T16+Q16)
C17: =IFERROR(INDEX('Relatório do SketchUp'!$A$14:$CZ$14,MATCH("Produto",'Relatório do SketchUp'!$A$1:$CZ$1,0))&"",IFERROR(INDEX('Relatório do SketchUp'!$A$14:$CZ$14,MATCH("f02_produto",'Relatório do SketchUp'!$A$1:$CZ$1,0))&"",IFERROR(INDEX('Relatório do SketchUp'!$A$14:$CZ$14,MATCH("Definition Name",'Relatório do SketchUp'!$A$1:$CZ$1,0))&"",IFERROR(INDEX('Relatório do SketchUp'!$A$14:$CZ$14,MATCH("Nome da definição",'Relatório do SketchUp'!$A$1:$CZ$1,0))&"","")))) | D17: =IFERROR(INDEX('Relatório do SketchUp'!$A$14:$CZ$14,MATCH("Marca",'Relatório do SketchUp'!$A$1:$CZ$1,0))&"",IFERROR(INDEX('Relatório do SketchUp'!$A$14:$CZ$14,MATCH("f01_marca",'Relatório do SketchUp'!$A$1:$CZ$1,0))&"","")) | E17: =IFERROR(INDEX('Relatório do SketchUp'!$A$14:$CZ$14,MATCH("Linha",'Relatório do SketchUp'!$A$1:$CZ$1,0))&"",IFERROR(INDEX('Relatório do SketchUp'!$A$14:$CZ$14,MATCH("f04_linha",'Relatório do SketchUp'!$A$1:$CZ$1,0))&"","")) | F17: =IFERROR(INDEX('Relatório do SketchUp'!$A$14:$CZ$14,MATCH("Código do produto",'Relatório do SketchUp'!$A$1:$CZ$1,0))&"",IFERROR(INDEX('Relatório do SketchUp'!$A$14:$CZ$14,MATCH("f03_codigo",'Relatório do SketchUp'!$A$1:$CZ$1,0))&"","")) | G17: =IFERROR(INDEX('Relatório do SketchUp'!$A$14:$CZ$14,MATCH("Dimensões",'Relatório do SketchUp'!$A$1:$CZ$1,0))&"",IFERROR(INDEX('Relatório do SketchUp'!$A$14:$CZ$14,MATCH("f06_dimensoes",'Relatório do SketchUp'!$A$1:$CZ$1,0))&"","")) | H17: =IFERROR(INDEX('Relatório do SketchUp'!$A$14:$CZ$14,MATCH("Acabamento",'Relatório do SketchUp'!$A$1:$CZ$1,0))&"",IFERROR(INDEX('Relatório do SketchUp'!$A$14:$CZ$14,MATCH("f07_acabamento",'Relatório do SketchUp'!$A$1:$CZ$1,0))&"","")) | I17: =IF(C17="","",IFERROR(VALUE(IFERROR(INDEX('Relatório do SketchUp'!$A$14:$CZ$14,MATCH("Quantity",'Relatório do SketchUp'!$A$1:$CZ$1,0))&"",IFERROR(INDEX('Relatório do SketchUp'!$A$14:$CZ$14,MATCH("Quantidade",'Relatório do SketchUp'!$A$1:$CZ$1,0))&"",IFERROR(INDEX('Relatório do SketchUp'!$A$14:$CZ$14,MATCH("Qtd",'Relatório do SketchUp'!$A$1:$CZ$1,0))&"",IFERROR(INDEX('Relatório do SketchUp'!$A$14:$CZ$14,MATCH("Count",'Relatório do SketchUp'!$A$1:$CZ$1,0))&"",""))))),1)) | K17: =IFERROR(INDEX('Relatório do SketchUp'!$A$14:$CZ$14,MATCH("Preço estimado",'Relatório do SketchUp'!$A$1:$CZ$1,0))&"",IFERROR(INDEX('Relatório do SketchUp'!$A$14:$CZ$14,MATCH("f16_preco",'Relatório do SketchUp'!$A$1:$CZ$1,0))&"","")) | M17: =IF(OR(I17="",L17=""),"",I17*L17) | N17: =IF(IFERROR(INDEX('Relatório do SketchUp'!$A$14:$CZ$14,MATCH("Fornecedor",'Relatório do SketchUp'!$A$1:$CZ$1,0))&"",IFERROR(INDEX('Relatório do SketchUp'!$A$14:$CZ$14,MATCH("f09_fornecedor",'Relatório do SketchUp'!$A$1:$CZ$1,0))&"",""))<>"",IFERROR(INDEX('Relatório do SketchUp'!$A$14:$CZ$14,MATCH("Fornecedor",'Relatório do SketchUp'!$A$1:$CZ$1,0))&"",IFERROR(INDEX('Relatório do SketchUp'!$A$14:$CZ$14,MATCH("f09_fornecedor",'Relatório do SketchUp'!$A$1:$CZ$1,0))&"","")),IF(IFERROR(INDEX('Relatório do SketchUp'!$A$14:$CZ$14,MATCH("Marca",'Relatório do SketchUp'!$A$1:$CZ$1,0))&"",IFERROR(INDEX('Relatório do SketchUp'!$A$14:$CZ$14,MATCH("f01_marca",'Relatório do SketchUp'!$A$1:$CZ$1,0))&"",""))<>"",IFERROR(INDEX('Relatório do SketchUp'!$A$14:$CZ$14,MATCH("Marca",'Relatório do SketchUp'!$A$1:$CZ$1,0))&"",IFERROR(INDEX('Relatório do SketchUp'!$A$14:$CZ$14,MATCH("f01_marca",'Relatório do SketchUp'!$A$1:$CZ$1,0))&"","")),"")) | O17: =_xlfn.TEXTJOIN(" · ",TRUE,IFERROR(INDEX('Relatório do SketchUp'!$A$14:$CZ$14,MATCH("WhatsApp",'Relatório do SketchUp'!$A$1:$CZ$1,0))&"",IFERROR(INDEX('Relatório do SketchUp'!$A$14:$CZ$14,MATCH("f11_whatsapp",'Relatório do SketchUp'!$A$1:$CZ$1,0))&"","")),IFERROR(INDEX('Relatório do SketchUp'!$A$14:$CZ$14,MATCH("Telefone",'Relatório do SketchUp'!$A$1:$CZ$1,0))&"",IFERROR(INDEX('Relatório do SketchUp'!$A$14:$CZ$14,MATCH("f10_telefone",'Relatório do SketchUp'!$A$1:$CZ$1,0))&"","")),IFERROR(INDEX('Relatório do SketchUp'!$A$14:$CZ$14,MATCH("E-mail",'Relatório do SketchUp'!$A$1:$CZ$1,0))&"",IFERROR(INDEX('Relatório do SketchUp'!$A$14:$CZ$14,MATCH("f12_email",'Relatório do SketchUp'!$A$1:$CZ$1,0))&"",""))) | P17: =IFERROR(INDEX('Relatório do SketchUp'!$A$14:$CZ$14,MATCH("Página do produto",'Relatório do SketchUp'!$A$1:$CZ$1,0))&"",IFERROR(INDEX('Relatório do SketchUp'!$A$14:$CZ$14,MATCH("f15_link_produto",'Relatório do SketchUp'!$A$1:$CZ$1,0))&"",IFERROR(INDEX('Relatório do SketchUp'!$A$14:$CZ$14,MATCH("Onde comprar",'Relatório do SketchUp'!$A$1:$CZ$1,0))&"",IFERROR(INDEX('Relatório do SketchUp'!$A$14:$CZ$14,MATCH("f14_onde_comprar",'Relatório do SketchUp'!$A$1:$CZ$1,0))&"",IFERROR(INDEX('Relatório do SketchUp'!$A$14:$CZ$14,MATCH("Site",'Relatório do SketchUp'!$A$1:$CZ$1,0))&"",IFERROR(INDEX('Relatório do SketchUp'!$A$14:$CZ$14,MATCH("f13_site",'Relatório do SketchUp'!$A$1:$CZ$1,0))&"","")))))) | U17: =IF(OR(T17="",Q17=""),"",T17+Q17)
C18: =IFERROR(INDEX('Relatório do SketchUp'!$A$15:$CZ$15,MATCH("Produto",'Relatório do SketchUp'!$A$1:$CZ$1,0))&"",IFERROR(INDEX('Relatório do SketchUp'!$A$15:$CZ$15,MATCH("f02_produto",'Relatório do SketchUp'!$A$1:$CZ$1,0))&"",IFERROR(INDEX('Relatório do SketchUp'!$A$15:$CZ$15,MATCH("Definition Name",'Relatório do SketchUp'!$A$1:$CZ$1,0))&"",IFERROR(INDEX('Relatório do SketchUp'!$A$15:$CZ$15,MATCH("Nome da definição",'Relatório do SketchUp'!$A$1:$CZ$1,0))&"","")))) | D18: =IFERROR(INDEX('Relatório do SketchUp'!$A$15:$CZ$15,MATCH("Marca",'Relatório do SketchUp'!$A$1:$CZ$1,0))&"",IFERROR(INDEX('Relatório do SketchUp'!$A$15:$CZ$15,MATCH("f01_marca",'Relatório do SketchUp'!$A$1:$CZ$1,0))&"","")) | E18: =IFERROR(INDEX('Relatório do SketchUp'!$A$15:$CZ$15,MATCH("Linha",'Relatório do SketchUp'!$A$1:$CZ$1,0))&"",IFERROR(INDEX('Relatório do SketchUp'!$A$15:$CZ$15,MATCH("f04_linha",'Relatório do SketchUp'!$A$1:$CZ$1,0))&"","")) | F18: =IFERROR(INDEX('Relatório do SketchUp'!$A$15:$CZ$15,MATCH("Código do produto",'Relatório do SketchUp'!$A$1:$CZ$1,0))&"",IFERROR(INDEX('Relatório do SketchUp'!$A$15:$CZ$15,MATCH("f03_codigo",'Relatório do SketchUp'!$A$1:$CZ$1,0))&"","")) | G18: =IFERROR(INDEX('Relatório do SketchUp'!$A$15:$CZ$15,MATCH("Dimensões",'Relatório do SketchUp'!$A$1:$CZ$1,0))&"",IFERROR(INDEX('Relatório do SketchUp'!$A$15:$CZ$15,MATCH("f06_dimensoes",'Relatório do SketchUp'!$A$1:$CZ$1,0))&"","")) | H18: =IFERROR(INDEX('Relatório do SketchUp'!$A$15:$CZ$15,MATCH("Acabamento",'Relatório do SketchUp'!$A$1:$CZ$1,0))&"",IFERROR(INDEX('Relatório do SketchUp'!$A$15:$CZ$15,MATCH("f07_acabamento",'Relatório do SketchUp'!$A$1:$CZ$1,0))&"","")) | I18: =IF(C18="","",IFERROR(VALUE(IFERROR(INDEX('Relatório do SketchUp'!$A$15:$CZ$15,MATCH("Quantity",'Relatório do SketchUp'!$A$1:$CZ$1,0))&"",IFERROR(INDEX('Relatório do SketchUp'!$A$15:$CZ$15,MATCH("Quantidade",'Relatório do SketchUp'!$A$1:$CZ$1,0))&"",IFERROR(INDEX('Relatório do SketchUp'!$A$15:$CZ$15,MATCH("Qtd",'Relatório do SketchUp'!$A$1:$CZ$1,0))&"",IFERROR(INDEX('Relatório do SketchUp'!$A$15:$CZ$15,MATCH("Count",'Relatório do SketchUp'!$A$1:$CZ$1,0))&"",""))))),1)) | K18: =IFERROR(INDEX('Relatório do SketchUp'!$A$15:$CZ$15,MATCH("Preço estimado",'Relatório do SketchUp'!$A$1:$CZ$1,0))&"",IFERROR(INDEX('Relatório do SketchUp'!$A$15:$CZ$15,MATCH("f16_preco",'Relatório do SketchUp'!$A$1:$CZ$1,0))&"","")) | M18: =IF(OR(I18="",L18=""),"",I18*L18) | N18: =IF(IFERROR(INDEX('Relatório do SketchUp'!$A$15:$CZ$15,MATCH("Fornecedor",'Relatório do SketchUp'!$A$1:$CZ$1,0))&"",IFERROR(INDEX('Relatório do SketchUp'!$A$15:$CZ$15,MATCH("f09_fornecedor",'Relatório do SketchUp'!$A$1:$CZ$1,0))&"",""))<>"",IFERROR(INDEX('Relatório do SketchUp'!$A$15:$CZ$15,MATCH("Fornecedor",'Relatório do SketchUp'!$A$1:$CZ$1,0))&"",IFERROR(INDEX('Relatório do SketchUp'!$A$15:$CZ$15,MATCH("f09_fornecedor",'Relatório do SketchUp'!$A$1:$CZ$1,0))&"","")),IF(IFERROR(INDEX('Relatório do SketchUp'!$A$15:$CZ$15,MATCH("Marca",'Relatório do SketchUp'!$A$1:$CZ$1,0))&"",IFERROR(INDEX('Relatório do SketchUp'!$A$15:$CZ$15,MATCH("f01_marca",'Relatório do SketchUp'!$A$1:$CZ$1,0))&"",""))<>"",IFERROR(INDEX('Relatório do SketchUp'!$A$15:$CZ$15,MATCH("Marca",'Relatório do SketchUp'!$A$1:$CZ$1,0))&"",IFERROR(INDEX('Relatório do SketchUp'!$A$15:$CZ$15,MATCH("f01_marca",'Relatório do SketchUp'!$A$1:$CZ$1,0))&"","")),"")) | O18: =_xlfn.TEXTJOIN(" · ",TRUE,IFERROR(INDEX('Relatório do SketchUp'!$A$15:$CZ$15,MATCH("WhatsApp",'Relatório do SketchUp'!$A$1:$CZ$1,0))&"",IFERROR(INDEX('Relatório do SketchUp'!$A$15:$CZ$15,MATCH("f11_whatsapp",'Relatório do SketchUp'!$A$1:$CZ$1,0))&"","")),IFERROR(INDEX('Relatório do SketchUp'!$A$15:$CZ$15,MATCH("Telefone",'Relatório do SketchUp'!$A$1:$CZ$1,0))&"",IFERROR(INDEX('Relatório do SketchUp'!$A$15:$CZ$15,MATCH("f10_telefone",'Relatório do SketchUp'!$A$1:$CZ$1,0))&"","")),IFERROR(INDEX('Relatório do SketchUp'!$A$15:$CZ$15,MATCH("E-mail",'Relatório do SketchUp'!$A$1:$CZ$1,0))&"",IFERROR(INDEX('Relatório do SketchUp'!$A$15:$CZ$15,MATCH("f12_email",'Relatório do SketchUp'!$A$1:$CZ$1,0))&"",""))) | P18: =IFERROR(INDEX('Relatório do SketchUp'!$A$15:$CZ$15,MATCH("Página do produto",'Relatório do SketchUp'!$A$1:$CZ$1,0))&"",IFERROR(INDEX('Relatório do SketchUp'!$A$15:$CZ$15,MATCH("f15_link_produto",'Relatório do SketchUp'!$A$1:$CZ$1,0))&"",IFERROR(INDEX('Relatório do SketchUp'!$A$15:$CZ$15,MATCH("Onde comprar",'Relatório do SketchUp'!$A$1:$CZ$1,0))&"",IFERROR(INDEX('Relatório do SketchUp'!$A$15:$CZ$15,MATCH("f14_onde_comprar",'Relatório do SketchUp'!$A$1:$CZ$1,0))&"",IFERROR(INDEX('Relatório do SketchUp'!$A$15:$CZ$15,MATCH("Site",'Relatório do SketchUp'!$A$1:$CZ$1,0))&"",IFERROR(INDEX('Relatório do SketchUp'!$A$15:$CZ$15,MATCH("f13_site",'Relatório do SketchUp'!$A$1:$CZ$1,0))&"","")))))) | U18: =IF(OR(T18="",Q18=""),"",T18+Q18)
C19: =IFERROR(INDEX('Relatório do SketchUp'!$A$16:$CZ$16,MATCH("Produto",'Relatório do SketchUp'!$A$1:$CZ$1,0))&"",IFERROR(INDEX('Relatório do SketchUp'!$A$16:$CZ$16,MATCH("f02_produto",'Relatório do SketchUp'!$A$1:$CZ$1,0))&"",IFERROR(INDEX('Relatório do SketchUp'!$A$16:$CZ$16,MATCH("Definition Name",'Relatório do SketchUp'!$A$1:$CZ$1,0))&"",IFERROR(INDEX('Relatório do SketchUp'!$A$16:$CZ$16,MATCH("Nome da definição",'Relatório do SketchUp'!$A$1:$CZ$1,0))&"","")))) | D19: =IFERROR(INDEX('Relatório do SketchUp'!$A$16:$CZ$16,MATCH("Marca",'Relatório do SketchUp'!$A$1:$CZ$1,0))&"",IFERROR(INDEX('Relatório do SketchUp'!$A$16:$CZ$16,MATCH("f01_marca",'Relatório do SketchUp'!$A$1:$CZ$1,0))&"","")) | E19: =IFERROR(INDEX('Relatório do SketchUp'!$A$16:$CZ$16,MATCH("Linha",'Relatório do SketchUp'!$A$1:$CZ$1,0))&"",IFERROR(INDEX('Relatório do SketchUp'!$A$16:$CZ$16,MATCH("f04_linha",'Relatório do SketchUp'!$A$1:$CZ$1,0))&"","")) | F19: =IFERROR(INDEX('Relatório do SketchUp'!$A$16:$CZ$16,MATCH("Código do produto",'Relatório do SketchUp'!$A$1:$CZ$1,0))&"",IFERROR(INDEX('Relatório do SketchUp'!$A$16:$CZ$16,MATCH("f03_codigo",'Relatório do SketchUp'!$A$1:$CZ$1,0))&"","")) | G19: =IFERROR(INDEX('Relatório do SketchUp'!$A$16:$CZ$16,MATCH("Dimensões",'Relatório do SketchUp'!$A$1:$CZ$1,0))&"",IFERROR(INDEX('Relatório do SketchUp'!$A$16:$CZ$16,MATCH("f06_dimensoes",'Relatório do SketchUp'!$A$1:$CZ$1,0))&"","")) | H19: =IFERROR(INDEX('Relatório do SketchUp'!$A$16:$CZ$16,MATCH("Acabamento",'Relatório do SketchUp'!$A$1:$CZ$1,0))&"",IFERROR(INDEX('Relatório do SketchUp'!$A$16:$CZ$16,MATCH("f07_acabamento",'Relatório do SketchUp'!$A$1:$CZ$1,0))&"","")) | I19: =IF(C19="","",IFERROR(VALUE(IFERROR(INDEX('Relatório do SketchUp'!$A$16:$CZ$16,MATCH("Quantity",'Relatório do SketchUp'!$A$1:$CZ$1,0))&"",IFERROR(INDEX('Relatório do SketchUp'!$A$16:$CZ$16,MATCH("Quantidade",'Relatório do SketchUp'!$A$1:$CZ$1,0))&"",IFERROR(INDEX('Relatório do SketchUp'!$A$16:$CZ$16,MATCH("Qtd",'Relatório do SketchUp'!$A$1:$CZ$1,0))&"",IFERROR(INDEX('Relatório do SketchUp'!$A$16:$CZ$16,MATCH("Count",'Relatório do SketchUp'!$A$1:$CZ$1,0))&"",""))))),1)) | K19: =IFERROR(INDEX('Relatório do SketchUp'!$A$16:$CZ$16,MATCH("Preço estimado",'Relatório do SketchUp'!$A$1:$CZ$1,0))&"",IFERROR(INDEX('Relatório do SketchUp'!$A$16:$CZ$16,MATCH("f16_preco",'Relatório do SketchUp'!$A$1:$CZ$1,0))&"","")) | M19: =IF(OR(I19="",L19=""),"",I19*L19) | N19: =IF(IFERROR(INDEX('Relatório do SketchUp'!$A$16:$CZ$16,MATCH("Fornecedor",'Relatório do SketchUp'!$A$1:$CZ$1,0))&"",IFERROR(INDEX('Relatório do SketchUp'!$A$16:$CZ$16,MATCH("f09_fornecedor",'Relatório do SketchUp'!$A$1:$CZ$1,0))&"",""))<>"",IFERROR(INDEX('Relatório do SketchUp'!$A$16:$CZ$16,MATCH("Fornecedor",'Relatório do SketchUp'!$A$1:$CZ$1,0))&"",IFERROR(INDEX('Relatório do SketchUp'!$A$16:$CZ$16,MATCH("f09_fornecedor",'Relatório do SketchUp'!$A$1:$CZ$1,0))&"","")),IF(IFERROR(INDEX('Relatório do SketchUp'!$A$16:$CZ$16,MATCH("Marca",'Relatório do SketchUp'!$A$1:$CZ$1,0))&"",IFERROR(INDEX('Relatório do SketchUp'!$A$16:$CZ$16,MATCH("f01_marca",'Relatório do SketchUp'!$A$1:$CZ$1,0))&"",""))<>"",IFERROR(INDEX('Relatório do SketchUp'!$A$16:$CZ$16,MATCH("Marca",'Relatório do SketchUp'!$A$1:$CZ$1,0))&"",IFERROR(INDEX('Relatório do SketchUp'!$A$16:$CZ$16,MATCH("f01_marca",'Relatório do SketchUp'!$A$1:$CZ$1,0))&"","")),"")) | O19: =_xlfn.TEXTJOIN(" · ",TRUE,IFERROR(INDEX('Relatório do SketchUp'!$A$16:$CZ$16,MATCH("WhatsApp",'Relatório do SketchUp'!$A$1:$CZ$1,0))&"",IFERROR(INDEX('Relatório do SketchUp'!$A$16:$CZ$16,MATCH("f11_whatsapp",'Relatório do SketchUp'!$A$1:$CZ$1,0))&"","")),IFERROR(INDEX('Relatório do SketchUp'!$A$16:$CZ$16,MATCH("Telefone",'Relatório do SketchUp'!$A$1:$CZ$1,0))&"",IFERROR(INDEX('Relatório do SketchUp'!$A$16:$CZ$16,MATCH("f10_telefone",'Relatório do SketchUp'!$A$1:$CZ$1,0))&"","")),IFERROR(INDEX('Relatório do SketchUp'!$A$16:$CZ$16,MATCH("E-mail",'Relatório do SketchUp'!$A$1:$CZ$1,0))&"",IFERROR(INDEX('Relatório do SketchUp'!$A$16:$CZ$16,MATCH("f12_email",'Relatório do SketchUp'!$A$1:$CZ$1,0))&"",""))) | P19: =IFERROR(INDEX('Relatório do SketchUp'!$A$16:$CZ$16,MATCH("Página do produto",'Relatório do SketchUp'!$A$1:$CZ$1,0))&"",IFERROR(INDEX('Relatório do SketchUp'!$A$16:$CZ$16,MATCH("f15_link_produto",'Relatório do SketchUp'!$A$1:$CZ$1,0))&"",IFERROR(INDEX('Relatório do SketchUp'!$A$16:$CZ$16,MATCH("Onde comprar",'Relatório do SketchUp'!$A$1:$CZ$1,0))&"",IFERROR(INDEX('Relatório do SketchUp'!$A$16:$CZ$16,MATCH("f14_onde_comprar",'Relatório do SketchUp'!$A$1:$CZ$1,0))&"",IFERROR(INDEX('Relatório do SketchUp'!$A$16:$CZ$16,MATCH("Site",'Relatório do SketchUp'!$A$1:$CZ$1,0))&"",IFERROR(INDEX('Relatório do SketchUp'!$A$16:$CZ$16,MATCH("f13_site",'Relatório do SketchUp'!$A$1:$CZ$1,0))&"","")))))) | U19: =IF(OR(T19="",Q19=""),"",T19+Q19)
C20: =IFERROR(INDEX('Relatório do SketchUp'!$A$17:$CZ$17,MATCH("Produto",'Relatório do SketchUp'!$A$1:$CZ$1,0))&"",IFERROR(INDEX('Relatório do SketchUp'!$A$17:$CZ$17,MATCH("f02_produto",'Relatório do SketchUp'!$A$1:$CZ$1,0))&"",IFERROR(INDEX('Relatório do SketchUp'!$A$17:$CZ$17,MATCH("Definition Name",'Relatório do SketchUp'!$A$1:$CZ$1,0))&"",IFERROR(INDEX('Relatório do SketchUp'!$A$17:$CZ$17,MATCH("Nome da definição",'Relatório do SketchUp'!$A$1:$CZ$1,0))&"","")))) | D20: =IFERROR(INDEX('Relatório do SketchUp'!$A$17:$CZ$17,MATCH("Marca",'Relatório do SketchUp'!$A$1:$CZ$1,0))&"",IFERROR(INDEX('Relatório do SketchUp'!$A$17:$CZ$17,MATCH("f01_marca",'Relatório do SketchUp'!$A$1:$CZ$1,0))&"","")) | E20: =IFERROR(INDEX('Relatório do SketchUp'!$A$17:$CZ$17,MATCH("Linha",'Relatório do SketchUp'!$A$1:$CZ$1,0))&"",IFERROR(INDEX('Relatório do SketchUp'!$A$17:$CZ$17,MATCH("f04_linha",'Relatório do SketchUp'!$A$1:$CZ$1,0))&"","")) | F20: =IFERROR(INDEX('Relatório do SketchUp'!$A$17:$CZ$17,MATCH("Código do produto",'Relatório do SketchUp'!$A$1:$CZ$1,0))&"",IFERROR(INDEX('Relatório do SketchUp'!$A$17:$CZ$17,MATCH("f03_codigo",'Relatório do SketchUp'!$A$1:$CZ$1,0))&"","")) | G20: =IFERROR(INDEX('Relatório do SketchUp'!$A$17:$CZ$17,MATCH("Dimensões",'Relatório do SketchUp'!$A$1:$CZ$1,0))&"",IFERROR(INDEX('Relatório do SketchUp'!$A$17:$CZ$17,MATCH("f06_dimensoes",'Relatório do SketchUp'!$A$1:$CZ$1,0))&"","")) | H20: =IFERROR(INDEX('Relatório do SketchUp'!$A$17:$CZ$17,MATCH("Acabamento",'Relatório do SketchUp'!$A$1:$CZ$1,0))&"",IFERROR(INDEX('Relatório do SketchUp'!$A$17:$CZ$17,MATCH("f07_acabamento",'Relatório do SketchUp'!$A$1:$CZ$1,0))&"","")) | I20: =IF(C20="","",IFERROR(VALUE(IFERROR(INDEX('Relatório do SketchUp'!$A$17:$CZ$17,MATCH("Quantity",'Relatório do SketchUp'!$A$1:$CZ$1,0))&"",IFERROR(INDEX('Relatório do SketchUp'!$A$17:$CZ$17,MATCH("Quantidade",'Relatório do SketchUp'!$A$1:$CZ$1,0))&"",IFERROR(INDEX('Relatório do SketchUp'!$A$17:$CZ$17,MATCH("Qtd",'Relatório do SketchUp'!$A$1:$CZ$1,0))&"",IFERROR(INDEX('Relatório do SketchUp'!$A$17:$CZ$17,MATCH("Count",'Relatório do SketchUp'!$A$1:$CZ$1,0))&"",""))))),1)) | K20: =IFERROR(INDEX('Relatório do SketchUp'!$A$17:$CZ$17,MATCH("Preço estimado",'Relatório do SketchUp'!$A$1:$CZ$1,0))&"",IFERROR(INDEX('Relatório do SketchUp'!$A$17:$CZ$17,MATCH("f16_preco",'Relatório do SketchUp'!$A$1:$CZ$1,0))&"","")) | M20: =IF(OR(I20="",L20=""),"",I20*L20) | N20: =IF(IFERROR(INDEX('Relatório do SketchUp'!$A$17:$CZ$17,MATCH("Fornecedor",'Relatório do SketchUp'!$A$1:$CZ$1,0))&"",IFERROR(INDEX('Relatório do SketchUp'!$A$17:$CZ$17,MATCH("f09_fornecedor",'Relatório do SketchUp'!$A$1:$CZ$1,0))&"",""))<>"",IFERROR(INDEX('Relatório do SketchUp'!$A$17:$CZ$17,MATCH("Fornecedor",'Relatório do SketchUp'!$A$1:$CZ$1,0))&"",IFERROR(INDEX('Relatório do SketchUp'!$A$17:$CZ$17,MATCH("f09_fornecedor",'Relatório do SketchUp'!$A$1:$CZ$1,0))&"","")),IF(IFERROR(INDEX('Relatório do SketchUp'!$A$17:$CZ$17,MATCH("Marca",'Relatório do SketchUp'!$A$1:$CZ$1,0))&"",IFERROR(INDEX('Relatório do SketchUp'!$A$17:$CZ$17,MATCH("f01_marca",'Relatório do SketchUp'!$A$1:$CZ$1,0))&"",""))<>"",IFERROR(INDEX('Relatório do SketchUp'!$A$17:$CZ$17,MATCH("Marca",'Relatório do SketchUp'!$A$1:$CZ$1,0))&"",IFERROR(INDEX('Relatório do SketchUp'!$A$17:$CZ$17,MATCH("f01_marca",'Relatório do SketchUp'!$A$1:$CZ$1,0))&"","")),"")) | O20: =_xlfn.TEXTJOIN(" · ",TRUE,IFERROR(INDEX('Relatório do SketchUp'!$A$17:$CZ$17,MATCH("WhatsApp",'Relatório do SketchUp'!$A$1:$CZ$1,0))&"",IFERROR(INDEX('Relatório do SketchUp'!$A$17:$CZ$17,MATCH("f11_whatsapp",'Relatório do SketchUp'!$A$1:$CZ$1,0))&"","")),IFERROR(INDEX('Relatório do SketchUp'!$A$17:$CZ$17,MATCH("Telefone",'Relatório do SketchUp'!$A$1:$CZ$1,0))&"",IFERROR(INDEX('Relatório do SketchUp'!$A$17:$CZ$17,MATCH("f10_telefone",'Relatório do SketchUp'!$A$1:$CZ$1,0))&"","")),IFERROR(INDEX('Relatório do SketchUp'!$A$17:$CZ$17,MATCH("E-mail",'Relatório do SketchUp'!$A$1:$CZ$1,0))&"",IFERROR(INDEX('Relatório do SketchUp'!$A$17:$CZ$17,MATCH("f12_email",'Relatório do SketchUp'!$A$1:$CZ$1,0))&"",""))) | P20: =IFERROR(INDEX('Relatório do SketchUp'!$A$17:$CZ$17,MATCH("Página do produto",'Relatório do SketchUp'!$A$1:$CZ$1,0))&"",IFERROR(INDEX('Relatório do SketchUp'!$A$17:$CZ$17,MATCH("f15_link_produto",'Relatório do SketchUp'!$A$1:$CZ$1,0))&"",IFERROR(INDEX('Relatório do SketchUp'!$A$17:$CZ$17,MATCH("Onde comprar",'Relatório do SketchUp'!$A$1:$CZ$1,0))&"",IFERROR(INDEX('Relatório do SketchUp'!$A$17:$CZ$17,MATCH("f14_onde_comprar",'Relatório do SketchUp'!$A$1:$CZ$1,0))&"",IFERROR(INDEX('Relatório do SketchUp'!$A$17:$CZ$17,MATCH("Site",'Relatório do SketchUp'!$A$1:$CZ$1,0))&"",IFERROR(INDEX('Relatório do SketchUp'!$A$17:$CZ$17,MATCH("f13_site",'Relatório do SketchUp'!$A$1:$CZ$1,0))&"","")))))) | U20: =IF(OR(T20="",Q20=""),"",T20+Q20)
C21: =IFERROR(INDEX('Relatório do SketchUp'!$A$18:$CZ$18,MATCH("Produto",'Relatório do SketchUp'!$A$1:$CZ$1,0))&"",IFERROR(INDEX('Relatório do SketchUp'!$A$18:$CZ$18,MATCH("f02_produto",'Relatório do SketchUp'!$A$1:$CZ$1,0))&"",IFERROR(INDEX('Relatório do SketchUp'!$A$18:$CZ$18,MATCH("Definition Name",'Relatório do SketchUp'!$A$1:$CZ$1,0))&"",IFERROR(INDEX('Relatório do SketchUp'!$A$18:$CZ$18,MATCH("Nome da definição",'Relatório do SketchUp'!$A$1:$CZ$1,0))&"","")))) | D21: =IFERROR(INDEX('Relatório do SketchUp'!$A$18:$CZ$18,MATCH("Marca",'Relatório do SketchUp'!$A$1:$CZ$1,0))&"",IFERROR(INDEX('Relatório do SketchUp'!$A$18:$CZ$18,MATCH("f01_marca",'Relatório do SketchUp'!$A$1:$CZ$1,0))&"","")) | E21: =IFERROR(INDEX('Relatório do SketchUp'!$A$18:$CZ$18,MATCH("Linha",'Relatório do SketchUp'!$A$1:$CZ$1,0))&"",IFERROR(INDEX('Relatório do SketchUp'!$A$18:$CZ$18,MATCH("f04_linha",'Relatório do SketchUp'!$A$1:$CZ$1,0))&"","")) | F21: =IFERROR(INDEX('Relatório do SketchUp'!$A$18:$CZ$18,MATCH("Código do produto",'Relatório do SketchUp'!$A$1:$CZ$1,0))&"",IFERROR(INDEX('Relatório do SketchUp'!$A$18:$CZ$18,MATCH("f03_codigo",'Relatório do SketchUp'!$A$1:$CZ$1,0))&"","")) | G21: =IFERROR(INDEX('Relatório do SketchUp'!$A$18:$CZ$18,MATCH("Dimensões",'Relatório do SketchUp'!$A$1:$CZ$1,0))&"",IFERROR(INDEX('Relatório do SketchUp'!$A$18:$CZ$18,MATCH("f06_dimensoes",'Relatório do SketchUp'!$A$1:$CZ$1,0))&"","")) | H21: =IFERROR(INDEX('Relatório do SketchUp'!$A$18:$CZ$18,MATCH("Acabamento",'Relatório do SketchUp'!$A$1:$CZ$1,0))&"",IFERROR(INDEX('Relatório do SketchUp'!$A$18:$CZ$18,MATCH("f07_acabamento",'Relatório do SketchUp'!$A$1:$CZ$1,0))&"","")) | I21: =IF(C21="","",IFERROR(VALUE(IFERROR(INDEX('Relatório do SketchUp'!$A$18:$CZ$18,MATCH("Quantity",'Relatório do SketchUp'!$A$1:$CZ$1,0))&"",IFERROR(INDEX('Relatório do SketchUp'!$A$18:$CZ$18,MATCH("Quantidade",'Relatório do SketchUp'!$A$1:$CZ$1,0))&"",IFERROR(INDEX('Relatório do SketchUp'!$A$18:$CZ$18,MATCH("Qtd",'Relatório do SketchUp'!$A$1:$CZ$1,0))&"",IFERROR(INDEX('Relatório do SketchUp'!$A$18:$CZ$18,MATCH("Count",'Relatório do SketchUp'!$A$1:$CZ$1,0))&"",""))))),1)) | K21: =IFERROR(INDEX('Relatório do SketchUp'!$A$18:$CZ$18,MATCH("Preço estimado",'Relatório do SketchUp'!$A$1:$CZ$1,0))&"",IFERROR(INDEX('Relatório do SketchUp'!$A$18:$CZ$18,MATCH("f16_preco",'Relatório do SketchUp'!$A$1:$CZ$1,0))&"","")) | M21: =IF(OR(I21="",L21=""),"",I21*L21) | N21: =IF(IFERROR(INDEX('Relatório do SketchUp'!$A$18:$CZ$18,MATCH("Fornecedor",'Relatório do SketchUp'!$A$1:$CZ$1,0))&"",IFERROR(INDEX('Relatório do SketchUp'!$A$18:$CZ$18,MATCH("f09_fornecedor",'Relatório do SketchUp'!$A$1:$CZ$1,0))&"",""))<>"",IFERROR(INDEX('Relatório do SketchUp'!$A$18:$CZ$18,MATCH("Fornecedor",'Relatório do SketchUp'!$A$1:$CZ$1,0))&"",IFERROR(INDEX('Relatório do SketchUp'!$A$18:$CZ$18,MATCH("f09_fornecedor",'Relatório do SketchUp'!$A$1:$CZ$1,0))&"","")),IF(IFERROR(INDEX('Relatório do SketchUp'!$A$18:$CZ$18,MATCH("Marca",'Relatório do SketchUp'!$A$1:$CZ$1,0))&"",IFERROR(INDEX('Relatório do SketchUp'!$A$18:$CZ$18,MATCH("f01_marca",'Relatório do SketchUp'!$A$1:$CZ$1,0))&"",""))<>"",IFERROR(INDEX('Relatório do SketchUp'!$A$18:$CZ$18,MATCH("Marca",'Relatório do SketchUp'!$A$1:$CZ$1,0))&"",IFERROR(INDEX('Relatório do SketchUp'!$A$18:$CZ$18,MATCH("f01_marca",'Relatório do SketchUp'!$A$1:$CZ$1,0))&"","")),"")) | O21: =_xlfn.TEXTJOIN(" · ",TRUE,IFERROR(INDEX('Relatório do SketchUp'!$A$18:$CZ$18,MATCH("WhatsApp",'Relatório do SketchUp'!$A$1:$CZ$1,0))&"",IFERROR(INDEX('Relatório do SketchUp'!$A$18:$CZ$18,MATCH("f11_whatsapp",'Relatório do SketchUp'!$A$1:$CZ$1,0))&"","")),IFERROR(INDEX('Relatório do SketchUp'!$A$18:$CZ$18,MATCH("Telefone",'Relatório do SketchUp'!$A$1:$CZ$1,0))&"",IFERROR(INDEX('Relatório do SketchUp'!$A$18:$CZ$18,MATCH("f10_telefone",'Relatório do SketchUp'!$A$1:$CZ$1,0))&"","")),IFERROR(INDEX('Relatório do SketchUp'!$A$18:$CZ$18,MATCH("E-mail",'Relatório do SketchUp'!$A$1:$CZ$1,0))&"",IFERROR(INDEX('Relatório do SketchUp'!$A$18:$CZ$18,MATCH("f12_email",'Relatório do SketchUp'!$A$1:$CZ$1,0))&"",""))) | P21: =IFERROR(INDEX('Relatório do SketchUp'!$A$18:$CZ$18,MATCH("Página do produto",'Relatório do SketchUp'!$A$1:$CZ$1,0))&"",IFERROR(INDEX('Relatório do SketchUp'!$A$18:$CZ$18,MATCH("f15_link_produto",'Relatório do SketchUp'!$A$1:$CZ$1,0))&"",IFERROR(INDEX('Relatório do SketchUp'!$A$18:$CZ$18,MATCH("Onde comprar",'Relatório do SketchUp'!$A$1:$CZ$1,0))&"",IFERROR(INDEX('Relatório do SketchUp'!$A$18:$CZ$18,MATCH("f14_onde_comprar",'Relatório do SketchUp'!$A$1:$CZ$1,0))&"",IFERROR(INDEX('Relatório do SketchUp'!$A$18:$CZ$18,MATCH("Site",'Relatório do SketchUp'!$A$1:$CZ$1,0))&"",IFERROR(INDEX('Relatório do SketchUp'!$A$18:$CZ$18,MATCH("f13_site",'Relatório do SketchUp'!$A$1:$CZ$1,0))&"","")))))) | U21: =IF(OR(T21="",Q21=""),"",T21+Q21)
C22: =IFERROR(INDEX('Relatório do SketchUp'!$A$19:$CZ$19,MATCH("Produto",'Relatório do SketchUp'!$A$1:$CZ$1,0))&"",IFERROR(INDEX('Relatório do SketchUp'!$A$19:$CZ$19,MATCH("f02_produto",'Relatório do SketchUp'!$A$1:$CZ$1,0))&"",IFERROR(INDEX('Relatório do SketchUp'!$A$19:$CZ$19,MATCH("Definition Name",'Relatório do SketchUp'!$A$1:$CZ$1,0))&"",IFERROR(INDEX('Relatório do SketchUp'!$A$19:$CZ$19,MATCH("Nome da definição",'Relatório do SketchUp'!$A$1:$CZ$1,0))&"","")))) | D22: =IFERROR(INDEX('Relatório do SketchUp'!$A$19:$CZ$19,MATCH("Marca",'Relatório do SketchUp'!$A$1:$CZ$1,0))&"",IFERROR(INDEX('Relatório do SketchUp'!$A$19:$CZ$19,MATCH("f01_marca",'Relatório do SketchUp'!$A$1:$CZ$1,0))&"","")) | E22: =IFERROR(INDEX('Relatório do SketchUp'!$A$19:$CZ$19,MATCH("Linha",'Relatório do SketchUp'!$A$1:$CZ$1,0))&"",IFERROR(INDEX('Relatório do SketchUp'!$A$19:$CZ$19,MATCH("f04_linha",'Relatório do SketchUp'!$A$1:$CZ$1,0))&"","")) | F22: =IFERROR(INDEX('Relatório do SketchUp'!$A$19:$CZ$19,MATCH("Código do produto",'Relatório do SketchUp'!$A$1:$CZ$1,0))&"",IFERROR(INDEX('Relatório do SketchUp'!$A$19:$CZ$19,MATCH("f03_codigo",'Relatório do SketchUp'!$A$1:$CZ$1,0))&"","")) | G22: =IFERROR(INDEX('Relatório do SketchUp'!$A$19:$CZ$19,MATCH("Dimensões",'Relatório do SketchUp'!$A$1:$CZ$1,0))&"",IFERROR(INDEX('Relatório do SketchUp'!$A$19:$CZ$19,MATCH("f06_dimensoes",'Relatório do SketchUp'!$A$1:$CZ$1,0))&"","")) | H22: =IFERROR(INDEX('Relatório do SketchUp'!$A$19:$CZ$19,MATCH("Acabamento",'Relatório do SketchUp'!$A$1:$CZ$1,0))&"",IFERROR(INDEX('Relatório do SketchUp'!$A$19:$CZ$19,MATCH("f07_acabamento",'Relatório do SketchUp'!$A$1:$CZ$1,0))&"","")) | I22: =IF(C22="","",IFERROR(VALUE(IFERROR(INDEX('Relatório do SketchUp'!$A$19:$CZ$19,MATCH("Quantity",'Relatório do SketchUp'!$A$1:$CZ$1,0))&"",IFERROR(INDEX('Relatório do SketchUp'!$A$19:$CZ$19,MATCH("Quantidade",'Relatório do SketchUp'!$A$1:$CZ$1,0))&"",IFERROR(INDEX('Relatório do SketchUp'!$A$19:$CZ$19,MATCH("Qtd",'Relatório do SketchUp'!$A$1:$CZ$1,0))&"",IFERROR(INDEX('Relatório do SketchUp'!$A$19:$CZ$19,MATCH("Count",'Relatório do SketchUp'!$A$1:$CZ$1,0))&"",""))))),1)) | K22: =IFERROR(INDEX('Relatório do SketchUp'!$A$19:$CZ$19,MATCH("Preço estimado",'Relatório do SketchUp'!$A$1:$CZ$1,0))&"",IFERROR(INDEX('Relatório do SketchUp'!$A$19:$CZ$19,MATCH("f16_preco",'Relatório do SketchUp'!$A$1:$CZ$1,0))&"","")) | M22: =IF(OR(I22="",L22=""),"",I22*L22) | N22: =IF(IFERROR(INDEX('Relatório do SketchUp'!$A$19:$CZ$19,MATCH("Fornecedor",'Relatório do SketchUp'!$A$1:$CZ$1,0))&"",IFERROR(INDEX('Relatório do SketchUp'!$A$19:$CZ$19,MATCH("f09_fornecedor",'Relatório do SketchUp'!$A$1:$CZ$1,0))&"",""))<>"",IFERROR(INDEX('Relatório do SketchUp'!$A$19:$CZ$19,MATCH("Fornecedor",'Relatório do SketchUp'!$A$1:$CZ$1,0))&"",IFERROR(INDEX('Relatório do SketchUp'!$A$19:$CZ$19,MATCH("f09_fornecedor",'Relatório do SketchUp'!$A$1:$CZ$1,0))&"","")),IF(IFERROR(INDEX('Relatório do SketchUp'!$A$19:$CZ$19,MATCH("Marca",'Relatório do SketchUp'!$A$1:$CZ$1,0))&"",IFERROR(INDEX('Relatório do SketchUp'!$A$19:$CZ$19,MATCH("f01_marca",'Relatório do SketchUp'!$A$1:$CZ$1,0))&"",""))<>"",IFERROR(INDEX('Relatório do SketchUp'!$A$19:$CZ$19,MATCH("Marca",'Relatório do SketchUp'!$A$1:$CZ$1,0))&"",IFERROR(INDEX('Relatório do SketchUp'!$A$19:$CZ$19,MATCH("f01_marca",'Relatório do SketchUp'!$A$1:$CZ$1,0))&"","")),"")) | O22: =_xlfn.TEXTJOIN(" · ",TRUE,IFERROR(INDEX('Relatório do SketchUp'!$A$19:$CZ$19,MATCH("WhatsApp",'Relatório do SketchUp'!$A$1:$CZ$1,0))&"",IFERROR(INDEX('Relatório do SketchUp'!$A$19:$CZ$19,MATCH("f11_whatsapp",'Relatório do SketchUp'!$A$1:$CZ$1,0))&"","")),IFERROR(INDEX('Relatório do SketchUp'!$A$19:$CZ$19,MATCH("Telefone",'Relatório do SketchUp'!$A$1:$CZ$1,0))&"",IFERROR(INDEX('Relatório do SketchUp'!$A$19:$CZ$19,MATCH("f10_telefone",'Relatório do SketchUp'!$A$1:$CZ$1,0))&"","")),IFERROR(INDEX('Relatório do SketchUp'!$A$19:$CZ$19,MATCH("E-mail",'Relatório do SketchUp'!$A$1:$CZ$1,0))&"",IFERROR(INDEX('Relatório do SketchUp'!$A$19:$CZ$19,MATCH("f12_email",'Relatório do SketchUp'!$A$1:$CZ$1,0))&"",""))) | P22: =IFERROR(INDEX('Relatório do SketchUp'!$A$19:$CZ$19,MATCH("Página do produto",'Relatório do SketchUp'!$A$1:$CZ$1,0))&"",IFERROR(INDEX('Relatório do SketchUp'!$A$19:$CZ$19,MATCH("f15_link_produto",'Relatório do SketchUp'!$A$1:$CZ$1,0))&"",IFERROR(INDEX('Relatório do SketchUp'!$A$19:$CZ$19,MATCH("Onde comprar",'Relatório do SketchUp'!$A$1:$CZ$1,0))&"",IFERROR(INDEX('Relatório do SketchUp'!$A$19:$CZ$19,MATCH("f14_onde_comprar",'Relatório do SketchUp'!$A$1:$CZ$1,0))&"",IFERROR(INDEX('Relatório do SketchUp'!$A$19:$CZ$19,MATCH("Site",'Relatório do SketchUp'!$A$1:$CZ$1,0))&"",IFERROR(INDEX('Relatório do SketchUp'!$A$19:$CZ$19,MATCH("f13_site",'Relatório do SketchUp'!$A$1:$CZ$1,0))&"","")))))) | U22: =IF(OR(T22="",Q22=""),"",T22+Q22)
C23: =IFERROR(INDEX('Relatório do SketchUp'!$A$20:$CZ$20,MATCH("Produto",'Relatório do SketchUp'!$A$1:$CZ$1,0))&"",IFERROR(INDEX('Relatório do SketchUp'!$A$20:$CZ$20,MATCH("f02_produto",'Relatório do SketchUp'!$A$1:$CZ$1,0))&"",IFERROR(INDEX('Relatório do SketchUp'!$A$20:$CZ$20,MATCH("Definition Name",'Relatório do SketchUp'!$A$1:$CZ$1,0))&"",IFERROR(INDEX('Relatório do SketchUp'!$A$20:$CZ$20,MATCH("Nome da definição",'Relatório do SketchUp'!$A$1:$CZ$1,0))&"","")))) | D23: =IFERROR(INDEX('Relatório do SketchUp'!$A$20:$CZ$20,MATCH("Marca",'Relatório do SketchUp'!$A$1:$CZ$1,0))&"",IFERROR(INDEX('Relatório do SketchUp'!$A$20:$CZ$20,MATCH("f01_marca",'Relatório do SketchUp'!$A$1:$CZ$1,0))&"","")) | E23: =IFERROR(INDEX('Relatório do SketchUp'!$A$20:$CZ$20,MATCH("Linha",'Relatório do SketchUp'!$A$1:$CZ$1,0))&"",IFERROR(INDEX('Relatório do SketchUp'!$A$20:$CZ$20,MATCH("f04_linha",'Relatório do SketchUp'!$A$1:$CZ$1,0))&"","")) | F23: =IFERROR(INDEX('Relatório do SketchUp'!$A$20:$CZ$20,MATCH("Código do produto",'Relatório do SketchUp'!$A$1:$CZ$1,0))&"",IFERROR(INDEX('Relatório do SketchUp'!$A$20:$CZ$20,MATCH("f03_codigo",'Relatório do SketchUp'!$A$1:$CZ$1,0))&"","")) | G23: =IFERROR(INDEX('Relatório do SketchUp'!$A$20:$CZ$20,MATCH("Dimensões",'Relatório do SketchUp'!$A$1:$CZ$1,0))&"",IFERROR(INDEX('Relatório do SketchUp'!$A$20:$CZ$20,MATCH("f06_dimensoes",'Relatório do SketchUp'!$A$1:$CZ$1,0))&"","")) | H23: =IFERROR(INDEX('Relatório do SketchUp'!$A$20:$CZ$20,MATCH("Acabamento",'Relatório do SketchUp'!$A$1:$CZ$1,0))&"",IFERROR(INDEX('Relatório do SketchUp'!$A$20:$CZ$20,MATCH("f07_acabamento",'Relatório do SketchUp'!$A$1:$CZ$1,0))&"","")) | I23: =IF(C23="","",IFERROR(VALUE(IFERROR(INDEX('Relatório do SketchUp'!$A$20:$CZ$20,MATCH("Quantity",'Relatório do SketchUp'!$A$1:$CZ$1,0))&"",IFERROR(INDEX('Relatório do SketchUp'!$A$20:$CZ$20,MATCH("Quantidade",'Relatório do SketchUp'!$A$1:$CZ$1,0))&"",IFERROR(INDEX('Relatório do SketchUp'!$A$20:$CZ$20,MATCH("Qtd",'Relatório do SketchUp'!$A$1:$CZ$1,0))&"",IFERROR(INDEX('Relatório do SketchUp'!$A$20:$CZ$20,MATCH("Count",'Relatório do SketchUp'!$A$1:$CZ$1,0))&"",""))))),1)) | K23: =IFERROR(INDEX('Relatório do SketchUp'!$A$20:$CZ$20,MATCH("Preço estimado",'Relatório do SketchUp'!$A$1:$CZ$1,0))&"",IFERROR(INDEX('Relatório do SketchUp'!$A$20:$CZ$20,MATCH("f16_preco",'Relatório do SketchUp'!$A$1:$CZ$1,0))&"","")) | M23: =IF(OR(I23="",L23=""),"",I23*L23) | N23: =IF(IFERROR(INDEX('Relatório do SketchUp'!$A$20:$CZ$20,MATCH("Fornecedor",'Relatório do SketchUp'!$A$1:$CZ$1,0))&"",IFERROR(INDEX('Relatório do SketchUp'!$A$20:$CZ$20,MATCH("f09_fornecedor",'Relatório do SketchUp'!$A$1:$CZ$1,0))&"",""))<>"",IFERROR(INDEX('Relatório do SketchUp'!$A$20:$CZ$20,MATCH("Fornecedor",'Relatório do SketchUp'!$A$1:$CZ$1,0))&"",IFERROR(INDEX('Relatório do SketchUp'!$A$20:$CZ$20,MATCH("f09_fornecedor",'Relatório do SketchUp'!$A$1:$CZ$1,0))&"","")),IF(IFERROR(INDEX('Relatório do SketchUp'!$A$20:$CZ$20,MATCH("Marca",'Relatório do SketchUp'!$A$1:$CZ$1,0))&"",IFERROR(INDEX('Relatório do SketchUp'!$A$20:$CZ$20,MATCH("f01_marca",'Relatório do SketchUp'!$A$1:$CZ$1,0))&"",""))<>"",IFERROR(INDEX('Relatório do SketchUp'!$A$20:$CZ$20,MATCH("Marca",'Relatório do SketchUp'!$A$1:$CZ$1,0))&"",IFERROR(INDEX('Relatório do SketchUp'!$A$20:$CZ$20,MATCH("f01_marca",'Relatório do SketchUp'!$A$1:$CZ$1,0))&"","")),"")) | O23: =_xlfn.TEXTJOIN(" · ",TRUE,IFERROR(INDEX('Relatório do SketchUp'!$A$20:$CZ$20,MATCH("WhatsApp",'Relatório do SketchUp'!$A$1:$CZ$1,0))&"",IFERROR(INDEX('Relatório do SketchUp'!$A$20:$CZ$20,MATCH("f11_whatsapp",'Relatório do SketchUp'!$A$1:$CZ$1,0))&"","")),IFERROR(INDEX('Relatório do SketchUp'!$A$20:$CZ$20,MATCH("Telefone",'Relatório do SketchUp'!$A$1:$CZ$1,0))&"",IFERROR(INDEX('Relatório do SketchUp'!$A$20:$CZ$20,MATCH("f10_telefone",'Relatório do SketchUp'!$A$1:$CZ$1,0))&"","")),IFERROR(INDEX('Relatório do SketchUp'!$A$20:$CZ$20,MATCH("E-mail",'Relatório do SketchUp'!$A$1:$CZ$1,0))&"",IFERROR(INDEX('Relatório do SketchUp'!$A$20:$CZ$20,MATCH("f12_email",'Relatório do SketchUp'!$A$1:$CZ$1,0))&"",""))) | P23: =IFERROR(INDEX('Relatório do SketchUp'!$A$20:$CZ$20,MATCH("Página do produto",'Relatório do SketchUp'!$A$1:$CZ$1,0))&"",IFERROR(INDEX('Relatório do SketchUp'!$A$20:$CZ$20,MATCH("f15_link_produto",'Relatório do SketchUp'!$A$1:$CZ$1,0))&"",IFERROR(INDEX('Relatório do SketchUp'!$A$20:$CZ$20,MATCH("Onde comprar",'Relatório do SketchUp'!$A$1:$CZ$1,0))&"",IFERROR(INDEX('Relatório do SketchUp'!$A$20:$CZ$20,MATCH("f14_onde_comprar",'Relatório do SketchUp'!$A$1:$CZ$1,0))&"",IFERROR(INDEX('Relatório do SketchUp'!$A$20:$CZ$20,MATCH("Site",'Relatório do SketchUp'!$A$1:$CZ$1,0))&"",IFERROR(INDEX('Relatório do SketchUp'!$A$20:$CZ$20,MATCH("f13_site",'Relatório do SketchUp'!$A$1:$CZ$1,0))&"","")))))) | U23: =IF(OR(T23="",Q23=""),"",T23+Q23)
C24: =IFERROR(INDEX('Relatório do SketchUp'!$A$21:$CZ$21,MATCH("Produto",'Relatório do SketchUp'!$A$1:$CZ$1,0))&"",IFERROR(INDEX('Relatório do SketchUp'!$A$21:$CZ$21,MATCH("f02_produto",'Relatório do SketchUp'!$A$1:$CZ$1,0))&"",IFERROR(INDEX('Relatório do SketchUp'!$A$21:$CZ$21,MATCH("Definition Name",'Relatório do SketchUp'!$A$1:$CZ$1,0))&"",IFERROR(INDEX('Relatório do SketchUp'!$A$21:$CZ$21,MATCH("Nome da definição",'Relatório do SketchUp'!$A$1:$CZ$1,0))&"","")))) | D24: =IFERROR(INDEX('Relatório do SketchUp'!$A$21:$CZ$21,MATCH("Marca",'Relatório do SketchUp'!$A$1:$CZ$1,0))&"",IFERROR(INDEX('Relatório do SketchUp'!$A$21:$CZ$21,MATCH("f01_marca",'Relatório do SketchUp'!$A$1:$CZ$1,0))&"","")) | E24: =IFERROR(INDEX('Relatório do SketchUp'!$A$21:$CZ$21,MATCH("Linha",'Relatório do SketchUp'!$A$1:$CZ$1,0))&"",IFERROR(INDEX('Relatório do SketchUp'!$A$21:$CZ$21,MATCH("f04_linha",'Relatório do SketchUp'!$A$1:$CZ$1,0))&"","")) | F24: =IFERROR(INDEX('Relatório do SketchUp'!$A$21:$CZ$21,MATCH("Código do produto",'Relatório do SketchUp'!$A$1:$CZ$1,0))&"",IFERROR(INDEX('Relatório do SketchUp'!$A$21:$CZ$21,MATCH("f03_codigo",'Relatório do SketchUp'!$A$1:$CZ$1,0))&"","")) | G24: =IFERROR(INDEX('Relatório do SketchUp'!$A$21:$CZ$21,MATCH("Dimensões",'Relatório do SketchUp'!$A$1:$CZ$1,0))&"",IFERROR(INDEX('Relatório do SketchUp'!$A$21:$CZ$21,MATCH("f06_dimensoes",'Relatório do SketchUp'!$A$1:$CZ$1,0))&"","")) | H24: =IFERROR(INDEX('Relatório do SketchUp'!$A$21:$CZ$21,MATCH("Acabamento",'Relatório do SketchUp'!$A$1:$CZ$1,0))&"",IFERROR(INDEX('Relatório do SketchUp'!$A$21:$CZ$21,MATCH("f07_acabamento",'Relatório do SketchUp'!$A$1:$CZ$1,0))&"","")) | I24: =IF(C24="","",IFERROR(VALUE(IFERROR(INDEX('Relatório do SketchUp'!$A$21:$CZ$21,MATCH("Quantity",'Relatório do SketchUp'!$A$1:$CZ$1,0))&"",IFERROR(INDEX('Relatório do SketchUp'!$A$21:$CZ$21,MATCH("Quantidade",'Relatório do SketchUp'!$A$1:$CZ$1,0))&"",IFERROR(INDEX('Relatório do SketchUp'!$A$21:$CZ$21,MATCH("Qtd",'Relatório do SketchUp'!$A$1:$CZ$1,0))&"",IFERROR(INDEX('Relatório do SketchUp'!$A$21:$CZ$21,MATCH("Count",'Relatório do SketchUp'!$A$1:$CZ$1,0))&"",""))))),1)) | K24: =IFERROR(INDEX('Relatório do SketchUp'!$A$21:$CZ$21,MATCH("Preço estimado",'Relatório do SketchUp'!$A$1:$CZ$1,0))&"",IFERROR(INDEX('Relatório do SketchUp'!$A$21:$CZ$21,MATCH("f16_preco",'Relatório do SketchUp'!$A$1:$CZ$1,0))&"","")) | M24: =IF(OR(I24="",L24=""),"",I24*L24) | N24: =IF(IFERROR(INDEX('Relatório do SketchUp'!$A$21:$CZ$21,MATCH("Fornecedor",'Relatório do SketchUp'!$A$1:$CZ$1,0))&"",IFERROR(INDEX('Relatório do SketchUp'!$A$21:$CZ$21,MATCH("f09_fornecedor",'Relatório do SketchUp'!$A$1:$CZ$1,0))&"",""))<>"",IFERROR(INDEX('Relatório do SketchUp'!$A$21:$CZ$21,MATCH("Fornecedor",'Relatório do SketchUp'!$A$1:$CZ$1,0))&"",IFERROR(INDEX('Relatório do SketchUp'!$A$21:$CZ$21,MATCH("f09_fornecedor",'Relatório do SketchUp'!$A$1:$CZ$1,0))&"","")),IF(IFERROR(INDEX('Relatório do SketchUp'!$A$21:$CZ$21,MATCH("Marca",'Relatório do SketchUp'!$A$1:$CZ$1,0))&"",IFERROR(INDEX('Relatório do SketchUp'!$A$21:$CZ$21,MATCH("f01_marca",'Relatório do SketchUp'!$A$1:$CZ$1,0))&"",""))<>"",IFERROR(INDEX('Relatório do SketchUp'!$A$21:$CZ$21,MATCH("Marca",'Relatório do SketchUp'!$A$1:$CZ$1,0))&"",IFERROR(INDEX('Relatório do SketchUp'!$A$21:$CZ$21,MATCH("f01_marca",'Relatório do SketchUp'!$A$1:$CZ$1,0))&"","")),"")) | O24: =_xlfn.TEXTJOIN(" · ",TRUE,IFERROR(INDEX('Relatório do SketchUp'!$A$21:$CZ$21,MATCH("WhatsApp",'Relatório do SketchUp'!$A$1:$CZ$1,0))&"",IFERROR(INDEX('Relatório do SketchUp'!$A$21:$CZ$21,MATCH("f11_whatsapp",'Relatório do SketchUp'!$A$1:$CZ$1,0))&"","")),IFERROR(INDEX('Relatório do SketchUp'!$A$21:$CZ$21,MATCH("Telefone",'Relatório do SketchUp'!$A$1:$CZ$1,0))&"",IFERROR(INDEX('Relatório do SketchUp'!$A$21:$CZ$21,MATCH("f10_telefone",'Relatório do SketchUp'!$A$1:$CZ$1,0))&"","")),IFERROR(INDEX('Relatório do SketchUp'!$A$21:$CZ$21,MATCH("E-mail",'Relatório do SketchUp'!$A$1:$CZ$1,0))&"",IFERROR(INDEX('Relatório do SketchUp'!$A$21:$CZ$21,MATCH("f12_email",'Relatório do SketchUp'!$A$1:$CZ$1,0))&"",""))) | P24: =IFERROR(INDEX('Relatório do SketchUp'!$A$21:$CZ$21,MATCH("Página do produto",'Relatório do SketchUp'!$A$1:$CZ$1,0))&"",IFERROR(INDEX('Relatório do SketchUp'!$A$21:$CZ$21,MATCH("f15_link_produto",'Relatório do SketchUp'!$A$1:$CZ$1,0))&"",IFERROR(INDEX('Relatório do SketchUp'!$A$21:$CZ$21,MATCH("Onde comprar",'Relatório do SketchUp'!$A$1:$CZ$1,0))&"",IFERROR(INDEX('Relatório do SketchUp'!$A$21:$CZ$21,MATCH("f14_onde_comprar",'Relatório do SketchUp'!$A$1:$CZ$1,0))&"",IFERROR(INDEX('Relatório do SketchUp'!$A$21:$CZ$21,MATCH("Site",'Relatório do SketchUp'!$A$1:$CZ$1,0))&"",IFERROR(INDEX('Relatório do SketchUp'!$A$21:$CZ$21,MATCH("f13_site",'Relatório do SketchUp'!$A$1:$CZ$1,0))&"","")))))) | U24: =IF(OR(T24="",Q24=""),"",T24+Q24)
C25: =IFERROR(INDEX('Relatório do SketchUp'!$A$22:$CZ$22,MATCH("Produto",'Relatório do SketchUp'!$A$1:$CZ$1,0))&"",IFERROR(INDEX('Relatório do SketchUp'!$A$22:$CZ$22,MATCH("f02_produto",'Relatório do SketchUp'!$A$1:$CZ$1,0))&"",IFERROR(INDEX('Relatório do SketchUp'!$A$22:$CZ$22,MATCH("Definition Name",'Relatório do SketchUp'!$A$1:$CZ$1,0))&"",IFERROR(INDEX('Relatório do SketchUp'!$A$22:$CZ$22,MATCH("Nome da definição",'Relatório do SketchUp'!$A$1:$CZ$1,0))&"","")))) | D25: =IFERROR(INDEX('Relatório do SketchUp'!$A$22:$CZ$22,MATCH("Marca",'Relatório do SketchUp'!$A$1:$CZ$1,0))&"",IFERROR(INDEX('Relatório do SketchUp'!$A$22:$CZ$22,MATCH("f01_marca",'Relatório do SketchUp'!$A$1:$CZ$1,0))&"","")) | E25: =IFERROR(INDEX('Relatório do SketchUp'!$A$22:$CZ$22,MATCH("Linha",'Relatório do SketchUp'!$A$1:$CZ$1,0))&"",IFERROR(INDEX('Relatório do SketchUp'!$A$22:$CZ$22,MATCH("f04_linha",'Relatório do SketchUp'!$A$1:$CZ$1,0))&"","")) | F25: =IFERROR(INDEX('Relatório do SketchUp'!$A$22:$CZ$22,MATCH("Código do produto",'Relatório do SketchUp'!$A$1:$CZ$1,0))&"",IFERROR(INDEX('Relatório do SketchUp'!$A$22:$CZ$22,MATCH("f03_codigo",'Relatório do SketchUp'!$A$1:$CZ$1,0))&"","")) | G25: =IFERROR(INDEX('Relatório do SketchUp'!$A$22:$CZ$22,MATCH("Dimensões",'Relatório do SketchUp'!$A$1:$CZ$1,0))&"",IFERROR(INDEX('Relatório do SketchUp'!$A$22:$CZ$22,MATCH("f06_dimensoes",'Relatório do SketchUp'!$A$1:$CZ$1,0))&"","")) | H25: =IFERROR(INDEX('Relatório do SketchUp'!$A$22:$CZ$22,MATCH("Acabamento",'Relatório do SketchUp'!$A$1:$CZ$1,0))&"",IFERROR(INDEX('Relatório do SketchUp'!$A$22:$CZ$22,MATCH("f07_acabamento",'Relatório do SketchUp'!$A$1:$CZ$1,0))&"","")) | I25: =IF(C25="","",IFERROR(VALUE(IFERROR(INDEX('Relatório do SketchUp'!$A$22:$CZ$22,MATCH("Quantity",'Relatório do SketchUp'!$A$1:$CZ$1,0))&"",IFERROR(INDEX('Relatório do SketchUp'!$A$22:$CZ$22,MATCH("Quantidade",'Relatório do SketchUp'!$A$1:$CZ$1,0))&"",IFERROR(INDEX('Relatório do SketchUp'!$A$22:$CZ$22,MATCH("Qtd",'Relatório do SketchUp'!$A$1:$CZ$1,0))&"",IFERROR(INDEX('Relatório do SketchUp'!$A$22:$CZ$22,MATCH("Count",'Relatório do SketchUp'!$A$1:$CZ$1,0))&"",""))))),1)) | K25: =IFERROR(INDEX('Relatório do SketchUp'!$A$22:$CZ$22,MATCH("Preço estimado",'Relatório do SketchUp'!$A$1:$CZ$1,0))&"",IFERROR(INDEX('Relatório do SketchUp'!$A$22:$CZ$22,MATCH("f16_preco",'Relatório do SketchUp'!$A$1:$CZ$1,0))&"","")) | M25: =IF(OR(I25="",L25=""),"",I25*L25) | N25: =IF(IFERROR(INDEX('Relatório do SketchUp'!$A$22:$CZ$22,MATCH("Fornecedor",'Relatório do SketchUp'!$A$1:$CZ$1,0))&"",IFERROR(INDEX('Relatório do SketchUp'!$A$22:$CZ$22,MATCH("f09_fornecedor",'Relatório do SketchUp'!$A$1:$CZ$1,0))&"",""))<>"",IFERROR(INDEX('Relatório do SketchUp'!$A$22:$CZ$22,MATCH("Fornecedor",'Relatório do SketchUp'!$A$1:$CZ$1,0))&"",IFERROR(INDEX('Relatório do SketchUp'!$A$22:$CZ$22,MATCH("f09_fornecedor",'Relatório do SketchUp'!$A$1:$CZ$1,0))&"","")),IF(IFERROR(INDEX('Relatório do SketchUp'!$A$22:$CZ$22,MATCH("Marca",'Relatório do SketchUp'!$A$1:$CZ$1,0))&"",IFERROR(INDEX('Relatório do SketchUp'!$A$22:$CZ$22,MATCH("f01_marca",'Relatório do SketchUp'!$A$1:$CZ$1,0))&"",""))<>"",IFERROR(INDEX('Relatório do SketchUp'!$A$22:$CZ$22,MATCH("Marca",'Relatório do SketchUp'!$A$1:$CZ$1,0))&"",IFERROR(INDEX('Relatório do SketchUp'!$A$22:$CZ$22,MATCH("f01_marca",'Relatório do SketchUp'!$A$1:$CZ$1,0))&"","")),"")) | O25: =_xlfn.TEXTJOIN(" · ",TRUE,IFERROR(INDEX('Relatório do SketchUp'!$A$22:$CZ$22,MATCH("WhatsApp",'Relatório do SketchUp'!$A$1:$CZ$1,0))&"",IFERROR(INDEX('Relatório do SketchUp'!$A$22:$CZ$22,MATCH("f11_whatsapp",'Relatório do SketchUp'!$A$1:$CZ$1,0))&"","")),IFERROR(INDEX('Relatório do SketchUp'!$A$22:$CZ$22,MATCH("Telefone",'Relatório do SketchUp'!$A$1:$CZ$1,0))&"",IFERROR(INDEX('Relatório do SketchUp'!$A$22:$CZ$22,MATCH("f10_telefone",'Relatório do SketchUp'!$A$1:$CZ$1,0))&"","")),IFERROR(INDEX('Relatório do SketchUp'!$A$22:$CZ$22,MATCH("E-mail",'Relatório do SketchUp'!$A$1:$CZ$1,0))&"",IFERROR(INDEX('Relatório do SketchUp'!$A$22:$CZ$22,MATCH("f12_email",'Relatório do SketchUp'!$A$1:$CZ$1,0))&"",""))) | P25: =IFERROR(INDEX('Relatório do SketchUp'!$A$22:$CZ$22,MATCH("Página do produto",'Relatório do SketchUp'!$A$1:$CZ$1,0))&"",IFERROR(INDEX('Relatório do SketchUp'!$A$22:$CZ$22,MATCH("f15_link_produto",'Relatório do SketchUp'!$A$1:$CZ$1,0))&"",IFERROR(INDEX('Relatório do SketchUp'!$A$22:$CZ$22,MATCH("Onde comprar",'Relatório do SketchUp'!$A$1:$CZ$1,0))&"",IFERROR(INDEX('Relatório do SketchUp'!$A$22:$CZ$22,MATCH("f14_onde_comprar",'Relatório do SketchUp'!$A$1:$CZ$1,0))&"",IFERROR(INDEX('Relatório do SketchUp'!$A$22:$CZ$22,MATCH("Site",'Relatório do SketchUp'!$A$1:$CZ$1,0))&"",IFERROR(INDEX('Relatório do SketchUp'!$A$22:$CZ$22,MATCH("f13_site",'Relatório do SketchUp'!$A$1:$CZ$1,0))&"","")))))) | U25: =IF(OR(T25="",Q25=""),"",T25+Q25)
C26: =IFERROR(INDEX('Relatório do SketchUp'!$A$23:$CZ$23,MATCH("Produto",'Relatório do SketchUp'!$A$1:$CZ$1,0))&"",IFERROR(INDEX('Relatório do SketchUp'!$A$23:$CZ$23,MATCH("f02_produto",'Relatório do SketchUp'!$A$1:$CZ$1,0))&"",IFERROR(INDEX('Relatório do SketchUp'!$A$23:$CZ$23,MATCH("Definition Name",'Relatório do SketchUp'!$A$1:$CZ$1,0))&"",IFERROR(INDEX('Relatório do SketchUp'!$A$23:$CZ$23,MATCH("Nome da definição",'Relatório do SketchUp'!$A$1:$CZ$1,0))&"","")))) | D26: =IFERROR(INDEX('Relatório do SketchUp'!$A$23:$CZ$23,MATCH("Marca",'Relatório do SketchUp'!$A$1:$CZ$1,0))&"",IFERROR(INDEX('Relatório do SketchUp'!$A$23:$CZ$23,MATCH("f01_marca",'Relatório do SketchUp'!$A$1:$CZ$1,0))&"","")) | E26: =IFERROR(INDEX('Relatório do SketchUp'!$A$23:$CZ$23,MATCH("Linha",'Relatório do SketchUp'!$A$1:$CZ$1,0))&"",IFERROR(INDEX('Relatório do SketchUp'!$A$23:$CZ$23,MATCH("f04_linha",'Relatório do SketchUp'!$A$1:$CZ$1,0))&"","")) | F26: =IFERROR(INDEX('Relatório do SketchUp'!$A$23:$CZ$23,MATCH("Código do produto",'Relatório do SketchUp'!$A$1:$CZ$1,0))&"",IFERROR(INDEX('Relatório do SketchUp'!$A$23:$CZ$23,MATCH("f03_codigo",'Relatório do SketchUp'!$A$1:$CZ$1,0))&"","")) | G26: =IFERROR(INDEX('Relatório do SketchUp'!$A$23:$CZ$23,MATCH("Dimensões",'Relatório do SketchUp'!$A$1:$CZ$1,0))&"",IFERROR(INDEX('Relatório do SketchUp'!$A$23:$CZ$23,MATCH("f06_dimensoes",'Relatório do SketchUp'!$A$1:$CZ$1,0))&"","")) | H26: =IFERROR(INDEX('Relatório do SketchUp'!$A$23:$CZ$23,MATCH("Acabamento",'Relatório do SketchUp'!$A$1:$CZ$1,0))&"",IFERROR(INDEX('Relatório do SketchUp'!$A$23:$CZ$23,MATCH("f07_acabamento",'Relatório do SketchUp'!$A$1:$CZ$1,0))&"","")) | I26: =IF(C26="","",IFERROR(VALUE(IFERROR(INDEX('Relatório do SketchUp'!$A$23:$CZ$23,MATCH("Quantity",'Relatório do SketchUp'!$A$1:$CZ$1,0))&"",IFERROR(INDEX('Relatório do SketchUp'!$A$23:$CZ$23,MATCH("Quantidade",'Relatório do SketchUp'!$A$1:$CZ$1,0))&"",IFERROR(INDEX('Relatório do SketchUp'!$A$23:$CZ$23,MATCH("Qtd",'Relatório do SketchUp'!$A$1:$CZ$1,0))&"",IFERROR(INDEX('Relatório do SketchUp'!$A$23:$CZ$23,MATCH("Count",'Relatório do SketchUp'!$A$1:$CZ$1,0))&"",""))))),1)) | K26: =IFERROR(INDEX('Relatório do SketchUp'!$A$23:$CZ$23,MATCH("Preço estimado",'Relatório do SketchUp'!$A$1:$CZ$1,0))&"",IFERROR(INDEX('Relatório do SketchUp'!$A$23:$CZ$23,MATCH("f16_preco",'Relatório do SketchUp'!$A$1:$CZ$1,0))&"","")) | M26: =IF(OR(I26="",L26=""),"",I26*L26) | N26: =IF(IFERROR(INDEX('Relatório do SketchUp'!$A$23:$CZ$23,MATCH("Fornecedor",'Relatório do SketchUp'!$A$1:$CZ$1,0))&"",IFERROR(INDEX('Relatório do SketchUp'!$A$23:$CZ$23,MATCH("f09_fornecedor",'Relatório do SketchUp'!$A$1:$CZ$1,0))&"",""))<>"",IFERROR(INDEX('Relatório do SketchUp'!$A$23:$CZ$23,MATCH("Fornecedor",'Relatório do SketchUp'!$A$1:$CZ$1,0))&"",IFERROR(INDEX('Relatório do SketchUp'!$A$23:$CZ$23,MATCH("f09_fornecedor",'Relatório do SketchUp'!$A$1:$CZ$1,0))&"","")),IF(IFERROR(INDEX('Relatório do SketchUp'!$A$23:$CZ$23,MATCH("Marca",'Relatório do SketchUp'!$A$1:$CZ$1,0))&"",IFERROR(INDEX('Relatório do SketchUp'!$A$23:$CZ$23,MATCH("f01_marca",'Relatório do SketchUp'!$A$1:$CZ$1,0))&"",""))<>"",IFERROR(INDEX('Relatório do SketchUp'!$A$23:$CZ$23,MATCH("Marca",'Relatório do SketchUp'!$A$1:$CZ$1,0))&"",IFERROR(INDEX('Relatório do SketchUp'!$A$23:$CZ$23,MATCH("f01_marca",'Relatório do SketchUp'!$A$1:$CZ$1,0))&"","")),"")) | O26: =_xlfn.TEXTJOIN(" · ",TRUE,IFERROR(INDEX('Relatório do SketchUp'!$A$23:$CZ$23,MATCH("WhatsApp",'Relatório do SketchUp'!$A$1:$CZ$1,0))&"",IFERROR(INDEX('Relatório do SketchUp'!$A$23:$CZ$23,MATCH("f11_whatsapp",'Relatório do SketchUp'!$A$1:$CZ$1,0))&"","")),IFERROR(INDEX('Relatório do SketchUp'!$A$23:$CZ$23,MATCH("Telefone",'Relatório do SketchUp'!$A$1:$CZ$1,0))&"",IFERROR(INDEX('Relatório do SketchUp'!$A$23:$CZ$23,MATCH("f10_telefone",'Relatório do SketchUp'!$A$1:$CZ$1,0))&"","")),IFERROR(INDEX('Relatório do SketchUp'!$A$23:$CZ$23,MATCH("E-mail",'Relatório do SketchUp'!$A$1:$CZ$1,0))&"",IFERROR(INDEX('Relatório do SketchUp'!$A$23:$CZ$23,MATCH("f12_email",'Relatório do SketchUp'!$A$1:$CZ$1,0))&"",""))) | P26: =IFERROR(INDEX('Relatório do SketchUp'!$A$23:$CZ$23,MATCH("Página do produto",'Relatório do SketchUp'!$A$1:$CZ$1,0))&"",IFERROR(INDEX('Relatório do SketchUp'!$A$23:$CZ$23,MATCH("f15_link_produto",'Relatório do SketchUp'!$A$1:$CZ$1,0))&"",IFERROR(INDEX('Relatório do SketchUp'!$A$23:$CZ$23,MATCH("Onde comprar",'Relatório do SketchUp'!$A$1:$CZ$1,0))&"",IFERROR(INDEX('Relatório do SketchUp'!$A$23:$CZ$23,MATCH("f14_onde_comprar",'Relatório do SketchUp'!$A$1:$CZ$1,0))&"",IFERROR(INDEX('Relatório do SketchUp'!$A$23:$CZ$23,MATCH("Site",'Relatório do SketchUp'!$A$1:$CZ$1,0))&"",IFERROR(INDEX('Relatório do SketchUp'!$A$23:$CZ$23,MATCH("f13_site",'Relatório do SketchUp'!$A$1:$CZ$1,0))&"","")))))) | U26: =IF(OR(T26="",Q26=""),"",T26+Q26)
C27: =IFERROR(INDEX('Relatório do SketchUp'!$A$24:$CZ$24,MATCH("Produto",'Relatório do SketchUp'!$A$1:$CZ$1,0))&"",IFERROR(INDEX('Relatório do SketchUp'!$A$24:$CZ$24,MATCH("f02_produto",'Relatório do SketchUp'!$A$1:$CZ$1,0))&"",IFERROR(INDEX('Relatório do SketchUp'!$A$24:$CZ$24,MATCH("Definition Name",'Relatório do SketchUp'!$A$1:$CZ$1,0))&"",IFERROR(INDEX('Relatório do SketchUp'!$A$24:$CZ$24,MATCH("Nome da definição",'Relatório do SketchUp'!$A$1:$CZ$1,0))&"","")))) | D27: =IFERROR(INDEX('Relatório do SketchUp'!$A$24:$CZ$24,MATCH("Marca",'Relatório do SketchUp'!$A$1:$CZ$1,0))&"",IFERROR(INDEX('Relatório do SketchUp'!$A$24:$CZ$24,MATCH("f01_marca",'Relatório do SketchUp'!$A$1:$CZ$1,0))&"","")) | E27: =IFERROR(INDEX('Relatório do SketchUp'!$A$24:$CZ$24,MATCH("Linha",'Relatório do SketchUp'!$A$1:$CZ$1,0))&"",IFERROR(INDEX('Relatório do SketchUp'!$A$24:$CZ$24,MATCH("f04_linha",'Relatório do SketchUp'!$A$1:$CZ$1,0))&"","")) | F27: =IFERROR(INDEX('Relatório do SketchUp'!$A$24:$CZ$24,MATCH("Código do produto",'Relatório do SketchUp'!$A$1:$CZ$1,0))&"",IFERROR(INDEX('Relatório do SketchUp'!$A$24:$CZ$24,MATCH("f03_codigo",'Relatório do SketchUp'!$A$1:$CZ$1,0))&"","")) | G27: =IFERROR(INDEX('Relatório do SketchUp'!$A$24:$CZ$24,MATCH("Dimensões",'Relatório do SketchUp'!$A$1:$CZ$1,0))&"",IFERROR(INDEX('Relatório do SketchUp'!$A$24:$CZ$24,MATCH("f06_dimensoes",'Relatório do SketchUp'!$A$1:$CZ$1,0))&"","")) | H27: =IFERROR(INDEX('Relatório do SketchUp'!$A$24:$CZ$24,MATCH("Acabamento",'Relatório do SketchUp'!$A$1:$CZ$1,0))&"",IFERROR(INDEX('Relatório do SketchUp'!$A$24:$CZ$24,MATCH("f07_acabamento",'Relatório do SketchUp'!$A$1:$CZ$1,0))&"","")) | I27: =IF(C27="","",IFERROR(VALUE(IFERROR(INDEX('Relatório do SketchUp'!$A$24:$CZ$24,MATCH("Quantity",'Relatório do SketchUp'!$A$1:$CZ$1,0))&"",IFERROR(INDEX('Relatório do SketchUp'!$A$24:$CZ$24,MATCH("Quantidade",'Relatório do SketchUp'!$A$1:$CZ$1,0))&"",IFERROR(INDEX('Relatório do SketchUp'!$A$24:$CZ$24,MATCH("Qtd",'Relatório do SketchUp'!$A$1:$CZ$1,0))&"",IFERROR(INDEX('Relatório do SketchUp'!$A$24:$CZ$24,MATCH("Count",'Relatório do SketchUp'!$A$1:$CZ$1,0))&"",""))))),1)) | K27: =IFERROR(INDEX('Relatório do SketchUp'!$A$24:$CZ$24,MATCH("Preço estimado",'Relatório do SketchUp'!$A$1:$CZ$1,0))&"",IFERROR(INDEX('Relatório do SketchUp'!$A$24:$CZ$24,MATCH("f16_preco",'Relatório do SketchUp'!$A$1:$CZ$1,0))&"","")) | M27: =IF(OR(I27="",L27=""),"",I27*L27) | N27: =IF(IFERROR(INDEX('Relatório do SketchUp'!$A$24:$CZ$24,MATCH("Fornecedor",'Relatório do SketchUp'!$A$1:$CZ$1,0))&"",IFERROR(INDEX('Relatório do SketchUp'!$A$24:$CZ$24,MATCH("f09_fornecedor",'Relatório do SketchUp'!$A$1:$CZ$1,0))&"",""))<>"",IFERROR(INDEX('Relatório do SketchUp'!$A$24:$CZ$24,MATCH("Fornecedor",'Relatório do SketchUp'!$A$1:$CZ$1,0))&"",IFERROR(INDEX('Relatório do SketchUp'!$A$24:$CZ$24,MATCH("f09_fornecedor",'Relatório do SketchUp'!$A$1:$CZ$1,0))&"","")),IF(IFERROR(INDEX('Relatório do SketchUp'!$A$24:$CZ$24,MATCH("Marca",'Relatório do SketchUp'!$A$1:$CZ$1,0))&"",IFERROR(INDEX('Relatório do SketchUp'!$A$24:$CZ$24,MATCH("f01_marca",'Relatório do SketchUp'!$A$1:$CZ$1,0))&"",""))<>"",IFERROR(INDEX('Relatório do SketchUp'!$A$24:$CZ$24,MATCH("Marca",'Relatório do SketchUp'!$A$1:$CZ$1,0))&"",IFERROR(INDEX('Relatório do SketchUp'!$A$24:$CZ$24,MATCH("f01_marca",'Relatório do SketchUp'!$A$1:$CZ$1,0))&"","")),"")) | O27: =_xlfn.TEXTJOIN(" · ",TRUE,IFERROR(INDEX('Relatório do SketchUp'!$A$24:$CZ$24,MATCH("WhatsApp",'Relatório do SketchUp'!$A$1:$CZ$1,0))&"",IFERROR(INDEX('Relatório do SketchUp'!$A$24:$CZ$24,MATCH("f11_whatsapp",'Relatório do SketchUp'!$A$1:$CZ$1,0))&"","")),IFERROR(INDEX('Relatório do SketchUp'!$A$24:$CZ$24,MATCH("Telefone",'Relatório do SketchUp'!$A$1:$CZ$1,0))&"",IFERROR(INDEX('Relatório do SketchUp'!$A$24:$CZ$24,MATCH("f10_telefone",'Relatório do SketchUp'!$A$1:$CZ$1,0))&"","")),IFERROR(INDEX('Relatório do SketchUp'!$A$24:$CZ$24,MATCH("E-mail",'Relatório do SketchUp'!$A$1:$CZ$1,0))&"",IFERROR(INDEX('Relatório do SketchUp'!$A$24:$CZ$24,MATCH("f12_email",'Relatório do SketchUp'!$A$1:$CZ$1,0))&"",""))) | P27: =IFERROR(INDEX('Relatório do SketchUp'!$A$24:$CZ$24,MATCH("Página do produto",'Relatório do SketchUp'!$A$1:$CZ$1,0))&"",IFERROR(INDEX('Relatório do SketchUp'!$A$24:$CZ$24,MATCH("f15_link_produto",'Relatório do SketchUp'!$A$1:$CZ$1,0))&"",IFERROR(INDEX('Relatório do SketchUp'!$A$24:$CZ$24,MATCH("Onde comprar",'Relatório do SketchUp'!$A$1:$CZ$1,0))&"",IFERROR(INDEX('Relatório do SketchUp'!$A$24:$CZ$24,MATCH("f14_onde_comprar",'Relatório do SketchUp'!$A$1:$CZ$1,0))&"",IFERROR(INDEX('Relatório do SketchUp'!$A$24:$CZ$24,MATCH("Site",'Relatório do SketchUp'!$A$1:$CZ$1,0))&"",IFERROR(INDEX('Relatório do SketchUp'!$A$24:$CZ$24,MATCH("f13_site",'Relatório do SketchUp'!$A$1:$CZ$1,0))&"","")))))) | U27: =IF(OR(T27="",Q27=""),"",T27+Q27)
C28: =IFERROR(INDEX('Relatório do SketchUp'!$A$25:$CZ$25,MATCH("Produto",'Relatório do SketchUp'!$A$1:$CZ$1,0))&"",IFERROR(INDEX('Relatório do SketchUp'!$A$25:$CZ$25,MATCH("f02_produto",'Relatório do SketchUp'!$A$1:$CZ$1,0))&"",IFERROR(INDEX('Relatório do SketchUp'!$A$25:$CZ$25,MATCH("Definition Name",'Relatório do SketchUp'!$A$1:$CZ$1,0))&"",IFERROR(INDEX('Relatório do SketchUp'!$A$25:$CZ$25,MATCH("Nome da definição",'Relatório do SketchUp'!$A$1:$CZ$1,0))&"","")))) | D28: =IFERROR(INDEX('Relatório do SketchUp'!$A$25:$CZ$25,MATCH("Marca",'Relatório do SketchUp'!$A$1:$CZ$1,0))&"",IFERROR(INDEX('Relatório do SketchUp'!$A$25:$CZ$25,MATCH("f01_marca",'Relatório do SketchUp'!$A$1:$CZ$1,0))&"","")) | E28: =IFERROR(INDEX('Relatório do SketchUp'!$A$25:$CZ$25,MATCH("Linha",'Relatório do SketchUp'!$A$1:$CZ$1,0))&"",IFERROR(INDEX('Relatório do SketchUp'!$A$25:$CZ$25,MATCH("f04_linha",'Relatório do SketchUp'!$A$1:$CZ$1,0))&"","")) | F28: =IFERROR(INDEX('Relatório do SketchUp'!$A$25:$CZ$25,MATCH("Código do produto",'Relatório do SketchUp'!$A$1:$CZ$1,0))&"",IFERROR(INDEX('Relatório do SketchUp'!$A$25:$CZ$25,MATCH("f03_codigo",'Relatório do SketchUp'!$A$1:$CZ$1,0))&"","")) | G28: =IFERROR(INDEX('Relatório do SketchUp'!$A$25:$CZ$25,MATCH("Dimensões",'Relatório do SketchUp'!$A$1:$CZ$1,0))&"",IFERROR(INDEX('Relatório do SketchUp'!$A$25:$CZ$25,MATCH("f06_dimensoes",'Relatório do SketchUp'!$A$1:$CZ$1,0))&"","")) | H28: =IFERROR(INDEX('Relatório do SketchUp'!$A$25:$CZ$25,MATCH("Acabamento",'Relatório do SketchUp'!$A$1:$CZ$1,0))&"",IFERROR(INDEX('Relatório do SketchUp'!$A$25:$CZ$25,MATCH("f07_acabamento",'Relatório do SketchUp'!$A$1:$CZ$1,0))&"","")) | I28: =IF(C28="","",IFERROR(VALUE(IFERROR(INDEX('Relatório do SketchUp'!$A$25:$CZ$25,MATCH("Quantity",'Relatório do SketchUp'!$A$1:$CZ$1,0))&"",IFERROR(INDEX('Relatório do SketchUp'!$A$25:$CZ$25,MATCH("Quantidade",'Relatório do SketchUp'!$A$1:$CZ$1,0))&"",IFERROR(INDEX('Relatório do SketchUp'!$A$25:$CZ$25,MATCH("Qtd",'Relatório do SketchUp'!$A$1:$CZ$1,0))&"",IFERROR(INDEX('Relatório do SketchUp'!$A$25:$CZ$25,MATCH("Count",'Relatório do SketchUp'!$A$1:$CZ$1,0))&"",""))))),1)) | K28: =IFERROR(INDEX('Relatório do SketchUp'!$A$25:$CZ$25,MATCH("Preço estimado",'Relatório do SketchUp'!$A$1:$CZ$1,0))&"",IFERROR(INDEX('Relatório do SketchUp'!$A$25:$CZ$25,MATCH("f16_preco",'Relatório do SketchUp'!$A$1:$CZ$1,0))&"","")) | M28: =IF(OR(I28="",L28=""),"",I28*L28) | N28: =IF(IFERROR(INDEX('Relatório do SketchUp'!$A$25:$CZ$25,MATCH("Fornecedor",'Relatório do SketchUp'!$A$1:$CZ$1,0))&"",IFERROR(INDEX('Relatório do SketchUp'!$A$25:$CZ$25,MATCH("f09_fornecedor",'Relatório do SketchUp'!$A$1:$CZ$1,0))&"",""))<>"",IFERROR(INDEX('Relatório do SketchUp'!$A$25:$CZ$25,MATCH("Fornecedor",'Relatório do SketchUp'!$A$1:$CZ$1,0))&"",IFERROR(INDEX('Relatório do SketchUp'!$A$25:$CZ$25,MATCH("f09_fornecedor",'Relatório do SketchUp'!$A$1:$CZ$1,0))&"","")),IF(IFERROR(INDEX('Relatório do SketchUp'!$A$25:$CZ$25,MATCH("Marca",'Relatório do SketchUp'!$A$1:$CZ$1,0))&"",IFERROR(INDEX('Relatório do SketchUp'!$A$25:$CZ$25,MATCH("f01_marca",'Relatório do SketchUp'!$A$1:$CZ$1,0))&"",""))<>"",IFERROR(INDEX('Relatório do SketchUp'!$A$25:$CZ$25,MATCH("Marca",'Relatório do SketchUp'!$A$1:$CZ$1,0))&"",IFERROR(INDEX('Relatório do SketchUp'!$A$25:$CZ$25,MATCH("f01_marca",'Relatório do SketchUp'!$A$1:$CZ$1,0))&"","")),"")) | O28: =_xlfn.TEXTJOIN(" · ",TRUE,IFERROR(INDEX('Relatório do SketchUp'!$A$25:$CZ$25,MATCH("WhatsApp",'Relatório do SketchUp'!$A$1:$CZ$1,0))&"",IFERROR(INDEX('Relatório do SketchUp'!$A$25:$CZ$25,MATCH("f11_whatsapp",'Relatório do SketchUp'!$A$1:$CZ$1,0))&"","")),IFERROR(INDEX('Relatório do SketchUp'!$A$25:$CZ$25,MATCH("Telefone",'Relatório do SketchUp'!$A$1:$CZ$1,0))&"",IFERROR(INDEX('Relatório do SketchUp'!$A$25:$CZ$25,MATCH("f10_telefone",'Relatório do SketchUp'!$A$1:$CZ$1,0))&"","")),IFERROR(INDEX('Relatório do SketchUp'!$A$25:$CZ$25,MATCH("E-mail",'Relatório do SketchUp'!$A$1:$CZ$1,0))&"",IFERROR(INDEX('Relatório do SketchUp'!$A$25:$CZ$25,MATCH("f12_email",'Relatório do SketchUp'!$A$1:$CZ$1,0))&"",""))) | P28: =IFERROR(INDEX('Relatório do SketchUp'!$A$25:$CZ$25,MATCH("Página do produto",'Relatório do SketchUp'!$A$1:$CZ$1,0))&"",IFERROR(INDEX('Relatório do SketchUp'!$A$25:$CZ$25,MATCH("f15_link_produto",'Relatório do SketchUp'!$A$1:$CZ$1,0))&"",IFERROR(INDEX('Relatório do SketchUp'!$A$25:$CZ$25,MATCH("Onde comprar",'Relatório do SketchUp'!$A$1:$CZ$1,0))&"",IFERROR(INDEX('Relatório do SketchUp'!$A$25:$CZ$25,MATCH("f14_onde_comprar",'Relatório do SketchUp'!$A$1:$CZ$1,0))&"",IFERROR(INDEX('Relatório do SketchUp'!$A$25:$CZ$25,MATCH("Site",'Relatório do SketchUp'!$A$1:$CZ$1,0))&"",IFERROR(INDEX('Relatório do SketchUp'!$A$25:$CZ$25,MATCH("f13_site",'Relatório do SketchUp'!$A$1:$CZ$1,0))&"","")))))) | U28: =IF(OR(T28="",Q28=""),"",T28+Q28)
C29: =IFERROR(INDEX('Relatório do SketchUp'!$A$26:$CZ$26,MATCH("Produto",'Relatório do SketchUp'!$A$1:$CZ$1,0))&"",IFERROR(INDEX('Relatório do SketchUp'!$A$26:$CZ$26,MATCH("f02_produto",'Relatório do SketchUp'!$A$1:$CZ$1,0))&"",IFERROR(INDEX('Relatório do SketchUp'!$A$26:$CZ$26,MATCH("Definition Name",'Relatório do SketchUp'!$A$1:$CZ$1,0))&"",IFERROR(INDEX('Relatório do SketchUp'!$A$26:$CZ$26,MATCH("Nome da definição",'Relatório do SketchUp'!$A$1:$CZ$1,0))&"","")))) | D29: =IFERROR(INDEX('Relatório do SketchUp'!$A$26:$CZ$26,MATCH("Marca",'Relatório do SketchUp'!$A$1:$CZ$1,0))&"",IFERROR(INDEX('Relatório do SketchUp'!$A$26:$CZ$26,MATCH("f01_marca",'Relatório do SketchUp'!$A$1:$CZ$1,0))&"","")) | E29: =IFERROR(INDEX('Relatório do SketchUp'!$A$26:$CZ$26,MATCH("Linha",'Relatório do SketchUp'!$A$1:$CZ$1,0))&"",IFERROR(INDEX('Relatório do SketchUp'!$A$26:$CZ$26,MATCH("f04_linha",'Relatório do SketchUp'!$A$1:$CZ$1,0))&"","")) | F29: =IFERROR(INDEX('Relatório do SketchUp'!$A$26:$CZ$26,MATCH("Código do produto",'Relatório do SketchUp'!$A$1:$CZ$1,0))&"",IFERROR(INDEX('Relatório do SketchUp'!$A$26:$CZ$26,MATCH("f03_codigo",'Relatório do SketchUp'!$A$1:$CZ$1,0))&"","")) | G29: =IFERROR(INDEX('Relatório do SketchUp'!$A$26:$CZ$26,MATCH("Dimensões",'Relatório do SketchUp'!$A$1:$CZ$1,0))&"",IFERROR(INDEX('Relatório do SketchUp'!$A$26:$CZ$26,MATCH("f06_dimensoes",'Relatório do SketchUp'!$A$1:$CZ$1,0))&"","")) | H29: =IFERROR(INDEX('Relatório do SketchUp'!$A$26:$CZ$26,MATCH("Acabamento",'Relatório do SketchUp'!$A$1:$CZ$1,0))&"",IFERROR(INDEX('Relatório do SketchUp'!$A$26:$CZ$26,MATCH("f07_acabamento",'Relatório do SketchUp'!$A$1:$CZ$1,0))&"","")) | I29: =IF(C29="","",IFERROR(VALUE(IFERROR(INDEX('Relatório do SketchUp'!$A$26:$CZ$26,MATCH("Quantity",'Relatório do SketchUp'!$A$1:$CZ$1,0))&"",IFERROR(INDEX('Relatório do SketchUp'!$A$26:$CZ$26,MATCH("Quantidade",'Relatório do SketchUp'!$A$1:$CZ$1,0))&"",IFERROR(INDEX('Relatório do SketchUp'!$A$26:$CZ$26,MATCH("Qtd",'Relatório do SketchUp'!$A$1:$CZ$1,0))&"",IFERROR(INDEX('Relatório do SketchUp'!$A$26:$CZ$26,MATCH("Count",'Relatório do SketchUp'!$A$1:$CZ$1,0))&"",""))))),1)) | K29: =IFERROR(INDEX('Relatório do SketchUp'!$A$26:$CZ$26,MATCH("Preço estimado",'Relatório do SketchUp'!$A$1:$CZ$1,0))&"",IFERROR(INDEX('Relatório do SketchUp'!$A$26:$CZ$26,MATCH("f16_preco",'Relatório do SketchUp'!$A$1:$CZ$1,0))&"","")) | M29: =IF(OR(I29="",L29=""),"",I29*L29) | N29: =IF(IFERROR(INDEX('Relatório do SketchUp'!$A$26:$CZ$26,MATCH("Fornecedor",'Relatório do SketchUp'!$A$1:$CZ$1,0))&"",IFERROR(INDEX('Relatório do SketchUp'!$A$26:$CZ$26,MATCH("f09_fornecedor",'Relatório do SketchUp'!$A$1:$CZ$1,0))&"",""))<>"",IFERROR(INDEX('Relatório do SketchUp'!$A$26:$CZ$26,MATCH("Fornecedor",'Relatório do SketchUp'!$A$1:$CZ$1,0))&"",IFERROR(INDEX('Relatório do SketchUp'!$A$26:$CZ$26,MATCH("f09_fornecedor",'Relatório do SketchUp'!$A$1:$CZ$1,0))&"","")),IF(IFERROR(INDEX('Relatório do SketchUp'!$A$26:$CZ$26,MATCH("Marca",'Relatório do SketchUp'!$A$1:$CZ$1,0))&"",IFERROR(INDEX('Relatório do SketchUp'!$A$26:$CZ$26,MATCH("f01_marca",'Relatório do SketchUp'!$A$1:$CZ$1,0))&"",""))<>"",IFERROR(INDEX('Relatório do SketchUp'!$A$26:$CZ$26,MATCH("Marca",'Relatório do SketchUp'!$A$1:$CZ$1,0))&"",IFERROR(INDEX('Relatório do SketchUp'!$A$26:$CZ$26,MATCH("f01_marca",'Relatório do SketchUp'!$A$1:$CZ$1,0))&"","")),"")) | O29: =_xlfn.TEXTJOIN(" · ",TRUE,IFERROR(INDEX('Relatório do SketchUp'!$A$26:$CZ$26,MATCH("WhatsApp",'Relatório do SketchUp'!$A$1:$CZ$1,0))&"",IFERROR(INDEX('Relatório do SketchUp'!$A$26:$CZ$26,MATCH("f11_whatsapp",'Relatório do SketchUp'!$A$1:$CZ$1,0))&"","")),IFERROR(INDEX('Relatório do SketchUp'!$A$26:$CZ$26,MATCH("Telefone",'Relatório do SketchUp'!$A$1:$CZ$1,0))&"",IFERROR(INDEX('Relatório do SketchUp'!$A$26:$CZ$26,MATCH("f10_telefone",'Relatório do SketchUp'!$A$1:$CZ$1,0))&"","")),IFERROR(INDEX('Relatório do SketchUp'!$A$26:$CZ$26,MATCH("E-mail",'Relatório do SketchUp'!$A$1:$CZ$1,0))&"",IFERROR(INDEX('Relatório do SketchUp'!$A$26:$CZ$26,MATCH("f12_email",'Relatório do SketchUp'!$A$1:$CZ$1,0))&"",""))) | P29: =IFERROR(INDEX('Relatório do SketchUp'!$A$26:$CZ$26,MATCH("Página do produto",'Relatório do SketchUp'!$A$1:$CZ$1,0))&"",IFERROR(INDEX('Relatório do SketchUp'!$A$26:$CZ$26,MATCH("f15_link_produto",'Relatório do SketchUp'!$A$1:$CZ$1,0))&"",IFERROR(INDEX('Relatório do SketchUp'!$A$26:$CZ$26,MATCH("Onde comprar",'Relatório do SketchUp'!$A$1:$CZ$1,0))&"",IFERROR(INDEX('Relatório do SketchUp'!$A$26:$CZ$26,MATCH("f14_onde_comprar",'Relatório do SketchUp'!$A$1:$CZ$1,0))&"",IFERROR(INDEX('Relatório do SketchUp'!$A$26:$CZ$26,MATCH("Site",'Relatório do SketchUp'!$A$1:$CZ$1,0))&"",IFERROR(INDEX('Relatório do SketchUp'!$A$26:$CZ$26,MATCH("f13_site",'Relatório do SketchUp'!$A$1:$CZ$1,0))&"","")))))) | U29: =IF(OR(T29="",Q29=""),"",T29+Q29)
C30: =IFERROR(INDEX('Relatório do SketchUp'!$A$27:$CZ$27,MATCH("Produto",'Relatório do SketchUp'!$A$1:$CZ$1,0))&"",IFERROR(INDEX('Relatório do SketchUp'!$A$27:$CZ$27,MATCH("f02_produto",'Relatório do SketchUp'!$A$1:$CZ$1,0))&"",IFERROR(INDEX('Relatório do SketchUp'!$A$27:$CZ$27,MATCH("Definition Name",'Relatório do SketchUp'!$A$1:$CZ$1,0))&"",IFERROR(INDEX('Relatório do SketchUp'!$A$27:$CZ$27,MATCH("Nome da definição",'Relatório do SketchUp'!$A$1:$CZ$1,0))&"","")))) | D30: =IFERROR(INDEX('Relatório do SketchUp'!$A$27:$CZ$27,MATCH("Marca",'Relatório do SketchUp'!$A$1:$CZ$1,0))&"",IFERROR(INDEX('Relatório do SketchUp'!$A$27:$CZ$27,MATCH("f01_marca",'Relatório do SketchUp'!$A$1:$CZ$1,0))&"","")) | E30: =IFERROR(INDEX('Relatório do SketchUp'!$A$27:$CZ$27,MATCH("Linha",'Relatório do SketchUp'!$A$1:$CZ$1,0))&"",IFERROR(INDEX('Relatório do SketchUp'!$A$27:$CZ$27,MATCH("f04_linha",'Relatório do SketchUp'!$A$1:$CZ$1,0))&"","")) | F30: =IFERROR(INDEX('Relatório do SketchUp'!$A$27:$CZ$27,MATCH("Código do produto",'Relatório do SketchUp'!$A$1:$CZ$1,0))&"",IFERROR(INDEX('Relatório do SketchUp'!$A$27:$CZ$27,MATCH("f03_codigo",'Relatório do SketchUp'!$A$1:$CZ$1,0))&"","")) | G30: =IFERROR(INDEX('Relatório do SketchUp'!$A$27:$CZ$27,MATCH("Dimensões",'Relatório do SketchUp'!$A$1:$CZ$1,0))&"",IFERROR(INDEX('Relatório do SketchUp'!$A$27:$CZ$27,MATCH("f06_dimensoes",'Relatório do SketchUp'!$A$1:$CZ$1,0))&"","")) | H30: =IFERROR(INDEX('Relatório do SketchUp'!$A$27:$CZ$27,MATCH("Acabamento",'Relatório do SketchUp'!$A$1:$CZ$1,0))&"",IFERROR(INDEX('Relatório do SketchUp'!$A$27:$CZ$27,MATCH("f07_acabamento",'Relatório do SketchUp'!$A$1:$CZ$1,0))&"","")) | I30: =IF(C30="","",IFERROR(VALUE(IFERROR(INDEX('Relatório do SketchUp'!$A$27:$CZ$27,MATCH("Quantity",'Relatório do SketchUp'!$A$1:$CZ$1,0))&"",IFERROR(INDEX('Relatório do SketchUp'!$A$27:$CZ$27,MATCH("Quantidade",'Relatório do SketchUp'!$A$1:$CZ$1,0))&"",IFERROR(INDEX('Relatório do SketchUp'!$A$27:$CZ$27,MATCH("Qtd",'Relatório do SketchUp'!$A$1:$CZ$1,0))&"",IFERROR(INDEX('Relatório do SketchUp'!$A$27:$CZ$27,MATCH("Count",'Relatório do SketchUp'!$A$1:$CZ$1,0))&"",""))))),1)) | K30: =IFERROR(INDEX('Relatório do SketchUp'!$A$27:$CZ$27,MATCH("Preço estimado",'Relatório do SketchUp'!$A$1:$CZ$1,0))&"",IFERROR(INDEX('Relatório do SketchUp'!$A$27:$CZ$27,MATCH("f16_preco",'Relatório do SketchUp'!$A$1:$CZ$1,0))&"","")) | M30: =IF(OR(I30="",L30=""),"",I30*L30) | N30: =IF(IFERROR(INDEX('Relatório do SketchUp'!$A$27:$CZ$27,MATCH("Fornecedor",'Relatório do SketchUp'!$A$1:$CZ$1,0))&"",IFERROR(INDEX('Relatório do SketchUp'!$A$27:$CZ$27,MATCH("f09_fornecedor",'Relatório do SketchUp'!$A$1:$CZ$1,0))&"",""))<>"",IFERROR(INDEX('Relatório do SketchUp'!$A$27:$CZ$27,MATCH("Fornecedor",'Relatório do SketchUp'!$A$1:$CZ$1,0))&"",IFERROR(INDEX('Relatório do SketchUp'!$A$27:$CZ$27,MATCH("f09_fornecedor",'Relatório do SketchUp'!$A$1:$CZ$1,0))&"","")),IF(IFERROR(INDEX('Relatório do SketchUp'!$A$27:$CZ$27,MATCH("Marca",'Relatório do SketchUp'!$A$1:$CZ$1,0))&"",IFERROR(INDEX('Relatório do SketchUp'!$A$27:$CZ$27,MATCH("f01_marca",'Relatório do SketchUp'!$A$1:$CZ$1,0))&"",""))<>"",IFERROR(INDEX('Relatório do SketchUp'!$A$27:$CZ$27,MATCH("Marca",'Relatório do SketchUp'!$A$1:$CZ$1,0))&"",IFERROR(INDEX('Relatório do SketchUp'!$A$27:$CZ$27,MATCH("f01_marca",'Relatório do SketchUp'!$A$1:$CZ$1,0))&"","")),"")) | O30: =_xlfn.TEXTJOIN(" · ",TRUE,IFERROR(INDEX('Relatório do SketchUp'!$A$27:$CZ$27,MATCH("WhatsApp",'Relatório do SketchUp'!$A$1:$CZ$1,0))&"",IFERROR(INDEX('Relatório do SketchUp'!$A$27:$CZ$27,MATCH("f11_whatsapp",'Relatório do SketchUp'!$A$1:$CZ$1,0))&"","")),IFERROR(INDEX('Relatório do SketchUp'!$A$27:$CZ$27,MATCH("Telefone",'Relatório do SketchUp'!$A$1:$CZ$1,0))&"",IFERROR(INDEX('Relatório do SketchUp'!$A$27:$CZ$27,MATCH("f10_telefone",'Relatório do SketchUp'!$A$1:$CZ$1,0))&"","")),IFERROR(INDEX('Relatório do SketchUp'!$A$27:$CZ$27,MATCH("E-mail",'Relatório do SketchUp'!$A$1:$CZ$1,0))&"",IFERROR(INDEX('Relatório do SketchUp'!$A$27:$CZ$27,MATCH("f12_email",'Relatório do SketchUp'!$A$1:$CZ$1,0))&"",""))) | P30: =IFERROR(INDEX('Relatório do SketchUp'!$A$27:$CZ$27,MATCH("Página do produto",'Relatório do SketchUp'!$A$1:$CZ$1,0))&"",IFERROR(INDEX('Relatório do SketchUp'!$A$27:$CZ$27,MATCH("f15_link_produto",'Relatório do SketchUp'!$A$1:$CZ$1,0))&"",IFERROR(INDEX('Relatório do SketchUp'!$A$27:$CZ$27,MATCH("Onde comprar",'Relatório do SketchUp'!$A$1:$CZ$1,0))&"",IFERROR(INDEX('Relatório do SketchUp'!$A$27:$CZ$27,MATCH("f14_onde_comprar",'Relatório do SketchUp'!$A$1:$CZ$1,0))&"",IFERROR(INDEX('Relatório do SketchUp'!$A$27:$CZ$27,MATCH("Site",'Relatório do SketchUp'!$A$1:$CZ$1,0))&"",IFERROR(INDEX('Relatório do SketchUp'!$A$27:$CZ$27,MATCH("f13_site",'Relatório do SketchUp'!$A$1:$CZ$1,0))&"","")))))) | U30: =IF(OR(T30="",Q30=""),"",T30+Q30)
C31: =IFERROR(INDEX('Relatório do SketchUp'!$A$28:$CZ$28,MATCH("Produto",'Relatório do SketchUp'!$A$1:$CZ$1,0))&"",IFERROR(INDEX('Relatório do SketchUp'!$A$28:$CZ$28,MATCH("f02_produto",'Relatório do SketchUp'!$A$1:$CZ$1,0))&"",IFERROR(INDEX('Relatório do SketchUp'!$A$28:$CZ$28,MATCH("Definition Name",'Relatório do SketchUp'!$A$1:$CZ$1,0))&"",IFERROR(INDEX('Relatório do SketchUp'!$A$28:$CZ$28,MATCH("Nome da definição",'Relatório do SketchUp'!$A$1:$CZ$1,0))&"","")))) | D31: =IFERROR(INDEX('Relatório do SketchUp'!$A$28:$CZ$28,MATCH("Marca",'Relatório do SketchUp'!$A$1:$CZ$1,0))&"",IFERROR(INDEX('Relatório do SketchUp'!$A$28:$CZ$28,MATCH("f01_marca",'Relatório do SketchUp'!$A$1:$CZ$1,0))&"","")) | E31: =IFERROR(INDEX('Relatório do SketchUp'!$A$28:$CZ$28,MATCH("Linha",'Relatório do SketchUp'!$A$1:$CZ$1,0))&"",IFERROR(INDEX('Relatório do SketchUp'!$A$28:$CZ$28,MATCH("f04_linha",'Relatório do SketchUp'!$A$1:$CZ$1,0))&"","")) | F31: =IFERROR(INDEX('Relatório do SketchUp'!$A$28:$CZ$28,MATCH("Código do produto",'Relatório do SketchUp'!$A$1:$CZ$1,0))&"",IFERROR(INDEX('Relatório do SketchUp'!$A$28:$CZ$28,MATCH("f03_codigo",'Relatório do SketchUp'!$A$1:$CZ$1,0))&"","")) | G31: =IFERROR(INDEX('Relatório do SketchUp'!$A$28:$CZ$28,MATCH("Dimensões",'Relatório do SketchUp'!$A$1:$CZ$1,0))&"",IFERROR(INDEX('Relatório do SketchUp'!$A$28:$CZ$28,MATCH("f06_dimensoes",'Relatório do SketchUp'!$A$1:$CZ$1,0))&"","")) | H31: =IFERROR(INDEX('Relatório do SketchUp'!$A$28:$CZ$28,MATCH("Acabamento",'Relatório do SketchUp'!$A$1:$CZ$1,0))&"",IFERROR(INDEX('Relatório do SketchUp'!$A$28:$CZ$28,MATCH("f07_acabamento",'Relatório do SketchUp'!$A$1:$CZ$1,0))&"","")) | I31: =IF(C31="","",IFERROR(VALUE(IFERROR(INDEX('Relatório do SketchUp'!$A$28:$CZ$28,MATCH("Quantity",'Relatório do SketchUp'!$A$1:$CZ$1,0))&"",IFERROR(INDEX('Relatório do SketchUp'!$A$28:$CZ$28,MATCH("Quantidade",'Relatório do SketchUp'!$A$1:$CZ$1,0))&"",IFERROR(INDEX('Relatório do SketchUp'!$A$28:$CZ$28,MATCH("Qtd",'Relatório do SketchUp'!$A$1:$CZ$1,0))&"",IFERROR(INDEX('Relatório do SketchUp'!$A$28:$CZ$28,MATCH("Count",'Relatório do SketchUp'!$A$1:$CZ$1,0))&"",""))))),1)) | K31: =IFERROR(INDEX('Relatório do SketchUp'!$A$28:$CZ$28,MATCH("Preço estimado",'Relatório do SketchUp'!$A$1:$CZ$1,0))&"",IFERROR(INDEX('Relatório do SketchUp'!$A$28:$CZ$28,MATCH("f16_preco",'Relatório do SketchUp'!$A$1:$CZ$1,0))&"","")) | M31: =IF(OR(I31="",L31=""),"",I31*L31) | N31: =IF(IFERROR(INDEX('Relatório do SketchUp'!$A$28:$CZ$28,MATCH("Fornecedor",'Relatório do SketchUp'!$A$1:$CZ$1,0))&"",IFERROR(INDEX('Relatório do SketchUp'!$A$28:$CZ$28,MATCH("f09_fornecedor",'Relatório do SketchUp'!$A$1:$CZ$1,0))&"",""))<>"",IFERROR(INDEX('Relatório do SketchUp'!$A$28:$CZ$28,MATCH("Fornecedor",'Relatório do SketchUp'!$A$1:$CZ$1,0))&"",IFERROR(INDEX('Relatório do SketchUp'!$A$28:$CZ$28,MATCH("f09_fornecedor",'Relatório do SketchUp'!$A$1:$CZ$1,0))&"","")),IF(IFERROR(INDEX('Relatório do SketchUp'!$A$28:$CZ$28,MATCH("Marca",'Relatório do SketchUp'!$A$1:$CZ$1,0))&"",IFERROR(INDEX('Relatório do SketchUp'!$A$28:$CZ$28,MATCH("f01_marca",'Relatório do SketchUp'!$A$1:$CZ$1,0))&"",""))<>"",IFERROR(INDEX('Relatório do SketchUp'!$A$28:$CZ$28,MATCH("Marca",'Relatório do SketchUp'!$A$1:$CZ$1,0))&"",IFERROR(INDEX('Relatório do SketchUp'!$A$28:$CZ$28,MATCH("f01_marca",'Relatório do SketchUp'!$A$1:$CZ$1,0))&"","")),"")) | O31: =_xlfn.TEXTJOIN(" · ",TRUE,IFERROR(INDEX('Relatório do SketchUp'!$A$28:$CZ$28,MATCH("WhatsApp",'Relatório do SketchUp'!$A$1:$CZ$1,0))&"",IFERROR(INDEX('Relatório do SketchUp'!$A$28:$CZ$28,MATCH("f11_whatsapp",'Relatório do SketchUp'!$A$1:$CZ$1,0))&"","")),IFERROR(INDEX('Relatório do SketchUp'!$A$28:$CZ$28,MATCH("Telefone",'Relatório do SketchUp'!$A$1:$CZ$1,0))&"",IFERROR(INDEX('Relatório do SketchUp'!$A$28:$CZ$28,MATCH("f10_telefone",'Relatório do SketchUp'!$A$1:$CZ$1,0))&"","")),IFERROR(INDEX('Relatório do SketchUp'!$A$28:$CZ$28,MATCH("E-mail",'Relatório do SketchUp'!$A$1:$CZ$1,0))&"",IFERROR(INDEX('Relatório do SketchUp'!$A$28:$CZ$28,MATCH("f12_email",'Relatório do SketchUp'!$A$1:$CZ$1,0))&"",""))) | P31: =IFERROR(INDEX('Relatório do SketchUp'!$A$28:$CZ$28,MATCH("Página do produto",'Relatório do SketchUp'!$A$1:$CZ$1,0))&"",IFERROR(INDEX('Relatório do SketchUp'!$A$28:$CZ$28,MATCH("f15_link_produto",'Relatório do SketchUp'!$A$1:$CZ$1,0))&"",IFERROR(INDEX('Relatório do SketchUp'!$A$28:$CZ$28,MATCH("Onde comprar",'Relatório do SketchUp'!$A$1:$CZ$1,0))&"",IFERROR(INDEX('Relatório do SketchUp'!$A$28:$CZ$28,MATCH("f14_onde_comprar",'Relatório do SketchUp'!$A$1:$CZ$1,0))&"",IFERROR(INDEX('Relatório do SketchUp'!$A$28:$CZ$28,MATCH("Site",'Relatório do SketchUp'!$A$1:$CZ$1,0))&"",IFERROR(INDEX('Relatório do SketchUp'!$A$28:$CZ$28,MATCH("f13_site",'Relatório do SketchUp'!$A$1:$CZ$1,0))&"","")))))) | U31: =IF(OR(T31="",Q31=""),"",T31+Q31)
C32: =IFERROR(INDEX('Relatório do SketchUp'!$A$29:$CZ$29,MATCH("Produto",'Relatório do SketchUp'!$A$1:$CZ$1,0))&"",IFERROR(INDEX('Relatório do SketchUp'!$A$29:$CZ$29,MATCH("f02_produto",'Relatório do SketchUp'!$A$1:$CZ$1,0))&"",IFERROR(INDEX('Relatório do SketchUp'!$A$29:$CZ$29,MATCH("Definition Name",'Relatório do SketchUp'!$A$1:$CZ$1,0))&"",IFERROR(INDEX('Relatório do SketchUp'!$A$29:$CZ$29,MATCH("Nome da definição",'Relatório do SketchUp'!$A$1:$CZ$1,0))&"","")))) | D32: =IFERROR(INDEX('Relatório do SketchUp'!$A$29:$CZ$29,MATCH("Marca",'Relatório do SketchUp'!$A$1:$CZ$1,0))&"",IFERROR(INDEX('Relatório do SketchUp'!$A$29:$CZ$29,MATCH("f01_marca",'Relatório do SketchUp'!$A$1:$CZ$1,0))&"","")) | E32: =IFERROR(INDEX('Relatório do SketchUp'!$A$29:$CZ$29,MATCH("Linha",'Relatório do SketchUp'!$A$1:$CZ$1,0))&"",IFERROR(INDEX('Relatório do SketchUp'!$A$29:$CZ$29,MATCH("f04_linha",'Relatório do SketchUp'!$A$1:$CZ$1,0))&"","")) | F32: =IFERROR(INDEX('Relatório do SketchUp'!$A$29:$CZ$29,MATCH("Código do produto",'Relatório do SketchUp'!$A$1:$CZ$1,0))&"",IFERROR(INDEX('Relatório do SketchUp'!$A$29:$CZ$29,MATCH("f03_codigo",'Relatório do SketchUp'!$A$1:$CZ$1,0))&"","")) | G32: =IFERROR(INDEX('Relatório do SketchUp'!$A$29:$CZ$29,MATCH("Dimensões",'Relatório do SketchUp'!$A$1:$CZ$1,0))&"",IFERROR(INDEX('Relatório do SketchUp'!$A$29:$CZ$29,MATCH("f06_dimensoes",'Relatório do SketchUp'!$A$1:$CZ$1,0))&"","")) | H32: =IFERROR(INDEX('Relatório do SketchUp'!$A$29:$CZ$29,MATCH("Acabamento",'Relatório do SketchUp'!$A$1:$CZ$1,0))&"",IFERROR(INDEX('Relatório do SketchUp'!$A$29:$CZ$29,MATCH("f07_acabamento",'Relatório do SketchUp'!$A$1:$CZ$1,0))&"","")) | I32: =IF(C32="","",IFERROR(VALUE(IFERROR(INDEX('Relatório do SketchUp'!$A$29:$CZ$29,MATCH("Quantity",'Relatório do SketchUp'!$A$1:$CZ$1,0))&"",IFERROR(INDEX('Relatório do SketchUp'!$A$29:$CZ$29,MATCH("Quantidade",'Relatório do SketchUp'!$A$1:$CZ$1,0))&"",IFERROR(INDEX('Relatório do SketchUp'!$A$29:$CZ$29,MATCH("Qtd",'Relatório do SketchUp'!$A$1:$CZ$1,0))&"",IFERROR(INDEX('Relatório do SketchUp'!$A$29:$CZ$29,MATCH("Count",'Relatório do SketchUp'!$A$1:$CZ$1,0))&"",""))))),1)) | K32: =IFERROR(INDEX('Relatório do SketchUp'!$A$29:$CZ$29,MATCH("Preço estimado",'Relatório do SketchUp'!$A$1:$CZ$1,0))&"",IFERROR(INDEX('Relatório do SketchUp'!$A$29:$CZ$29,MATCH("f16_preco",'Relatório do SketchUp'!$A$1:$CZ$1,0))&"","")) | M32: =IF(OR(I32="",L32=""),"",I32*L32) | N32: =IF(IFERROR(INDEX('Relatório do SketchUp'!$A$29:$CZ$29,MATCH("Fornecedor",'Relatório do SketchUp'!$A$1:$CZ$1,0))&"",IFERROR(INDEX('Relatório do SketchUp'!$A$29:$CZ$29,MATCH("f09_fornecedor",'Relatório do SketchUp'!$A$1:$CZ$1,0))&"",""))<>"",IFERROR(INDEX('Relatório do SketchUp'!$A$29:$CZ$29,MATCH("Fornecedor",'Relatório do SketchUp'!$A$1:$CZ$1,0))&"",IFERROR(INDEX('Relatório do SketchUp'!$A$29:$CZ$29,MATCH("f09_fornecedor",'Relatório do SketchUp'!$A$1:$CZ$1,0))&"","")),IF(IFERROR(INDEX('Relatório do SketchUp'!$A$29:$CZ$29,MATCH("Marca",'Relatório do SketchUp'!$A$1:$CZ$1,0))&"",IFERROR(INDEX('Relatório do SketchUp'!$A$29:$CZ$29,MATCH("f01_marca",'Relatório do SketchUp'!$A$1:$CZ$1,0))&"",""))<>"",IFERROR(INDEX('Relatório do SketchUp'!$A$29:$CZ$29,MATCH("Marca",'Relatório do SketchUp'!$A$1:$CZ$1,0))&"",IFERROR(INDEX('Relatório do SketchUp'!$A$29:$CZ$29,MATCH("f01_marca",'Relatório do SketchUp'!$A$1:$CZ$1,0))&"","")),"")) | O32: =_xlfn.TEXTJOIN(" · ",TRUE,IFERROR(INDEX('Relatório do SketchUp'!$A$29:$CZ$29,MATCH("WhatsApp",'Relatório do SketchUp'!$A$1:$CZ$1,0))&"",IFERROR(INDEX('Relatório do SketchUp'!$A$29:$CZ$29,MATCH("f11_whatsapp",'Relatório do SketchUp'!$A$1:$CZ$1,0))&"","")),IFERROR(INDEX('Relatório do SketchUp'!$A$29:$CZ$29,MATCH("Telefone",'Relatório do SketchUp'!$A$1:$CZ$1,0))&"",IFERROR(INDEX('Relatório do SketchUp'!$A$29:$CZ$29,MATCH("f10_telefone",'Relatório do SketchUp'!$A$1:$CZ$1,0))&"","")),IFERROR(INDEX('Relatório do SketchUp'!$A$29:$CZ$29,MATCH("E-mail",'Relatório do SketchUp'!$A$1:$CZ$1,0))&"",IFERROR(INDEX('Relatório do SketchUp'!$A$29:$CZ$29,MATCH("f12_email",'Relatório do SketchUp'!$A$1:$CZ$1,0))&"",""))) | P32: =IFERROR(INDEX('Relatório do SketchUp'!$A$29:$CZ$29,MATCH("Página do produto",'Relatório do SketchUp'!$A$1:$CZ$1,0))&"",IFERROR(INDEX('Relatório do SketchUp'!$A$29:$CZ$29,MATCH("f15_link_produto",'Relatório do SketchUp'!$A$1:$CZ$1,0))&"",IFERROR(INDEX('Relatório do SketchUp'!$A$29:$CZ$29,MATCH("Onde comprar",'Relatório do SketchUp'!$A$1:$CZ$1,0))&"",IFERROR(INDEX('Relatório do SketchUp'!$A$29:$CZ$29,MATCH("f14_onde_comprar",'Relatório do SketchUp'!$A$1:$CZ$1,0))&"",IFERROR(INDEX('Relatório do SketchUp'!$A$29:$CZ$29,MATCH("Site",'Relatório do SketchUp'!$A$1:$CZ$1,0))&"",IFERROR(INDEX('Relatório do SketchUp'!$A$29:$CZ$29,MATCH("f13_site",'Relatório do SketchUp'!$A$1:$CZ$1,0))&"","")))))) | U32: =IF(OR(T32="",Q32=""),"",T32+Q32)
C33: =IFERROR(INDEX('Relatório do SketchUp'!$A$30:$CZ$30,MATCH("Produto",'Relatório do SketchUp'!$A$1:$CZ$1,0))&"",IFERROR(INDEX('Relatório do SketchUp'!$A$30:$CZ$30,MATCH("f02_produto",'Relatório do SketchUp'!$A$1:$CZ$1,0))&"",IFERROR(INDEX('Relatório do SketchUp'!$A$30:$CZ$30,MATCH("Definition Name",'Relatório do SketchUp'!$A$1:$CZ$1,0))&"",IFERROR(INDEX('Relatório do SketchUp'!$A$30:$CZ$30,MATCH("Nome da definição",'Relatório do SketchUp'!$A$1:$CZ$1,0))&"","")))) | D33: =IFERROR(INDEX('Relatório do SketchUp'!$A$30:$CZ$30,MATCH("Marca",'Relatório do SketchUp'!$A$1:$CZ$1,0))&"",IFERROR(INDEX('Relatório do SketchUp'!$A$30:$CZ$30,MATCH("f01_marca",'Relatório do SketchUp'!$A$1:$CZ$1,0))&"","")) | E33: =IFERROR(INDEX('Relatório do SketchUp'!$A$30:$CZ$30,MATCH("Linha",'Relatório do SketchUp'!$A$1:$CZ$1,0))&"",IFERROR(INDEX('Relatório do SketchUp'!$A$30:$CZ$30,MATCH("f04_linha",'Relatório do SketchUp'!$A$1:$CZ$1,0))&"","")) | F33: =IFERROR(INDEX('Relatório do SketchUp'!$A$30:$CZ$30,MATCH("Código do produto",'Relatório do SketchUp'!$A$1:$CZ$1,0))&"",IFERROR(INDEX('Relatório do SketchUp'!$A$30:$CZ$30,MATCH("f03_codigo",'Relatório do SketchUp'!$A$1:$CZ$1,0))&"","")) | G33: =IFERROR(INDEX('Relatório do SketchUp'!$A$30:$CZ$30,MATCH("Dimensões",'Relatório do SketchUp'!$A$1:$CZ$1,0))&"",IFERROR(INDEX('Relatório do SketchUp'!$A$30:$CZ$30,MATCH("f06_dimensoes",'Relatório do SketchUp'!$A$1:$CZ$1,0))&"","")) | H33: =IFERROR(INDEX('Relatório do SketchUp'!$A$30:$CZ$30,MATCH("Acabamento",'Relatório do SketchUp'!$A$1:$CZ$1,0))&"",IFERROR(INDEX('Relatório do SketchUp'!$A$30:$CZ$30,MATCH("f07_acabamento",'Relatório do SketchUp'!$A$1:$CZ$1,0))&"","")) | I33: =IF(C33="","",IFERROR(VALUE(IFERROR(INDEX('Relatório do SketchUp'!$A$30:$CZ$30,MATCH("Quantity",'Relatório do SketchUp'!$A$1:$CZ$1,0))&"",IFERROR(INDEX('Relatório do SketchUp'!$A$30:$CZ$30,MATCH("Quantidade",'Relatório do SketchUp'!$A$1:$CZ$1,0))&"",IFERROR(INDEX('Relatório do SketchUp'!$A$30:$CZ$30,MATCH("Qtd",'Relatório do SketchUp'!$A$1:$CZ$1,0))&"",IFERROR(INDEX('Relatório do SketchUp'!$A$30:$CZ$30,MATCH("Count",'Relatório do SketchUp'!$A$1:$CZ$1,0))&"",""))))),1)) | K33: =IFERROR(INDEX('Relatório do SketchUp'!$A$30:$CZ$30,MATCH("Preço estimado",'Relatório do SketchUp'!$A$1:$CZ$1,0))&"",IFERROR(INDEX('Relatório do SketchUp'!$A$30:$CZ$30,MATCH("f16_preco",'Relatório do SketchUp'!$A$1:$CZ$1,0))&"","")) | M33: =IF(OR(I33="",L33=""),"",I33*L33) | N33: =IF(IFERROR(INDEX('Relatório do SketchUp'!$A$30:$CZ$30,MATCH("Fornecedor",'Relatório do SketchUp'!$A$1:$CZ$1,0))&"",IFERROR(INDEX('Relatório do SketchUp'!$A$30:$CZ$30,MATCH("f09_fornecedor",'Relatório do SketchUp'!$A$1:$CZ$1,0))&"",""))<>"",IFERROR(INDEX('Relatório do SketchUp'!$A$30:$CZ$30,MATCH("Fornecedor",'Relatório do SketchUp'!$A$1:$CZ$1,0))&"",IFERROR(INDEX('Relatório do SketchUp'!$A$30:$CZ$30,MATCH("f09_fornecedor",'Relatório do SketchUp'!$A$1:$CZ$1,0))&"","")),IF(IFERROR(INDEX('Relatório do SketchUp'!$A$30:$CZ$30,MATCH("Marca",'Relatório do SketchUp'!$A$1:$CZ$1,0))&"",IFERROR(INDEX('Relatório do SketchUp'!$A$30:$CZ$30,MATCH("f01_marca",'Relatório do SketchUp'!$A$1:$CZ$1,0))&"",""))<>"",IFERROR(INDEX('Relatório do SketchUp'!$A$30:$CZ$30,MATCH("Marca",'Relatório do SketchUp'!$A$1:$CZ$1,0))&"",IFERROR(INDEX('Relatório do SketchUp'!$A$30:$CZ$30,MATCH("f01_marca",'Relatório do SketchUp'!$A$1:$CZ$1,0))&"","")),"")) | O33: =_xlfn.TEXTJOIN(" · ",TRUE,IFERROR(INDEX('Relatório do SketchUp'!$A$30:$CZ$30,MATCH("WhatsApp",'Relatório do SketchUp'!$A$1:$CZ$1,0))&"",IFERROR(INDEX('Relatório do SketchUp'!$A$30:$CZ$30,MATCH("f11_whatsapp",'Relatório do SketchUp'!$A$1:$CZ$1,0))&"","")),IFERROR(INDEX('Relatório do SketchUp'!$A$30:$CZ$30,MATCH("Telefone",'Relatório do SketchUp'!$A$1:$CZ$1,0))&"",IFERROR(INDEX('Relatório do SketchUp'!$A$30:$CZ$30,MATCH("f10_telefone",'Relatório do SketchUp'!$A$1:$CZ$1,0))&"","")),IFERROR(INDEX('Relatório do SketchUp'!$A$30:$CZ$30,MATCH("E-mail",'Relatório do SketchUp'!$A$1:$CZ$1,0))&"",IFERROR(INDEX('Relatório do SketchUp'!$A$30:$CZ$30,MATCH("f12_email",'Relatório do SketchUp'!$A$1:$CZ$1,0))&"",""))) | P33: =IFERROR(INDEX('Relatório do SketchUp'!$A$30:$CZ$30,MATCH("Página do produto",'Relatório do SketchUp'!$A$1:$CZ$1,0))&"",IFERROR(INDEX('Relatório do SketchUp'!$A$30:$CZ$30,MATCH("f15_link_produto",'Relatório do SketchUp'!$A$1:$CZ$1,0))&"",IFERROR(INDEX('Relatório do SketchUp'!$A$30:$CZ$30,MATCH("Onde comprar",'Relatório do SketchUp'!$A$1:$CZ$1,0))&"",IFERROR(INDEX('Relatório do SketchUp'!$A$30:$CZ$30,MATCH("f14_onde_comprar",'Relatório do SketchUp'!$A$1:$CZ$1,0))&"",IFERROR(INDEX('Relatório do SketchUp'!$A$30:$CZ$30,MATCH("Site",'Relatório do SketchUp'!$A$1:$CZ$1,0))&"",IFERROR(INDEX('Relatório do SketchUp'!$A$30:$CZ$30,MATCH("f13_site",'Relatório do SketchUp'!$A$1:$CZ$1,0))&"","")))))) | U33: =IF(OR(T33="",Q33=""),"",T33+Q33)
C34: =IFERROR(INDEX('Relatório do SketchUp'!$A$31:$CZ$31,MATCH("Produto",'Relatório do SketchUp'!$A$1:$CZ$1,0))&"",IFERROR(INDEX('Relatório do SketchUp'!$A$31:$CZ$31,MATCH("f02_produto",'Relatório do SketchUp'!$A$1:$CZ$1,0))&"",IFERROR(INDEX('Relatório do SketchUp'!$A$31:$CZ$31,MATCH("Definition Name",'Relatório do SketchUp'!$A$1:$CZ$1,0))&"",IFERROR(INDEX('Relatório do SketchUp'!$A$31:$CZ$31,MATCH("Nome da definição",'Relatório do SketchUp'!$A$1:$CZ$1,0))&"","")))) | D34: =IFERROR(INDEX('Relatório do SketchUp'!$A$31:$CZ$31,MATCH("Marca",'Relatório do SketchUp'!$A$1:$CZ$1,0))&"",IFERROR(INDEX('Relatório do SketchUp'!$A$31:$CZ$31,MATCH("f01_marca",'Relatório do SketchUp'!$A$1:$CZ$1,0))&"","")) | E34: =IFERROR(INDEX('Relatório do SketchUp'!$A$31:$CZ$31,MATCH("Linha",'Relatório do SketchUp'!$A$1:$CZ$1,0))&"",IFERROR(INDEX('Relatório do SketchUp'!$A$31:$CZ$31,MATCH("f04_linha",'Relatório do SketchUp'!$A$1:$CZ$1,0))&"","")) | F34: =IFERROR(INDEX('Relatório do SketchUp'!$A$31:$CZ$31,MATCH("Código do produto",'Relatório do SketchUp'!$A$1:$CZ$1,0))&"",IFERROR(INDEX('Relatório do SketchUp'!$A$31:$CZ$31,MATCH("f03_codigo",'Relatório do SketchUp'!$A$1:$CZ$1,0))&"","")) | G34: =IFERROR(INDEX('Relatório do SketchUp'!$A$31:$CZ$31,MATCH("Dimensões",'Relatório do SketchUp'!$A$1:$CZ$1,0))&"",IFERROR(INDEX('Relatório do SketchUp'!$A$31:$CZ$31,MATCH("f06_dimensoes",'Relatório do SketchUp'!$A$1:$CZ$1,0))&"","")) | H34: =IFERROR(INDEX('Relatório do SketchUp'!$A$31:$CZ$31,MATCH("Acabamento",'Relatório do SketchUp'!$A$1:$CZ$1,0))&"",IFERROR(INDEX('Relatório do SketchUp'!$A$31:$CZ$31,MATCH("f07_acabamento",'Relatório do SketchUp'!$A$1:$CZ$1,0))&"","")) | I34: =IF(C34="","",IFERROR(VALUE(IFERROR(INDEX('Relatório do SketchUp'!$A$31:$CZ$31,MATCH("Quantity",'Relatório do SketchUp'!$A$1:$CZ$1,0))&"",IFERROR(INDEX('Relatório do SketchUp'!$A$31:$CZ$31,MATCH("Quantidade",'Relatório do SketchUp'!$A$1:$CZ$1,0))&"",IFERROR(INDEX('Relatório do SketchUp'!$A$31:$CZ$31,MATCH("Qtd",'Relatório do SketchUp'!$A$1:$CZ$1,0))&"",IFERROR(INDEX('Relatório do SketchUp'!$A$31:$CZ$31,MATCH("Count",'Relatório do SketchUp'!$A$1:$CZ$1,0))&"",""))))),1)) | K34: =IFERROR(INDEX('Relatório do SketchUp'!$A$31:$CZ$31,MATCH("Preço estimado",'Relatório do SketchUp'!$A$1:$CZ$1,0))&"",IFERROR(INDEX('Relatório do SketchUp'!$A$31:$CZ$31,MATCH("f16_preco",'Relatório do SketchUp'!$A$1:$CZ$1,0))&"","")) | M34: =IF(OR(I34="",L34=""),"",I34*L34) | N34: =IF(IFERROR(INDEX('Relatório do SketchUp'!$A$31:$CZ$31,MATCH("Fornecedor",'Relatório do SketchUp'!$A$1:$CZ$1,0))&"",IFERROR(INDEX('Relatório do SketchUp'!$A$31:$CZ$31,MATCH("f09_fornecedor",'Relatório do SketchUp'!$A$1:$CZ$1,0))&"",""))<>"",IFERROR(INDEX('Relatório do SketchUp'!$A$31:$CZ$31,MATCH("Fornecedor",'Relatório do SketchUp'!$A$1:$CZ$1,0))&"",IFERROR(INDEX('Relatório do SketchUp'!$A$31:$CZ$31,MATCH("f09_fornecedor",'Relatório do SketchUp'!$A$1:$CZ$1,0))&"","")),IF(IFERROR(INDEX('Relatório do SketchUp'!$A$31:$CZ$31,MATCH("Marca",'Relatório do SketchUp'!$A$1:$CZ$1,0))&"",IFERROR(INDEX('Relatório do SketchUp'!$A$31:$CZ$31,MATCH("f01_marca",'Relatório do SketchUp'!$A$1:$CZ$1,0))&"",""))<>"",IFERROR(INDEX('Relatório do SketchUp'!$A$31:$CZ$31,MATCH("Marca",'Relatório do SketchUp'!$A$1:$CZ$1,0))&"",IFERROR(INDEX('Relatório do SketchUp'!$A$31:$CZ$31,MATCH("f01_marca",'Relatório do SketchUp'!$A$1:$CZ$1,0))&"","")),"")) | O34: =_xlfn.TEXTJOIN(" · ",TRUE,IFERROR(INDEX('Relatório do SketchUp'!$A$31:$CZ$31,MATCH("WhatsApp",'Relatório do SketchUp'!$A$1:$CZ$1,0))&"",IFERROR(INDEX('Relatório do SketchUp'!$A$31:$CZ$31,MATCH("f11_whatsapp",'Relatório do SketchUp'!$A$1:$CZ$1,0))&"","")),IFERROR(INDEX('Relatório do SketchUp'!$A$31:$CZ$31,MATCH("Telefone",'Relatório do SketchUp'!$A$1:$CZ$1,0))&"",IFERROR(INDEX('Relatório do SketchUp'!$A$31:$CZ$31,MATCH("f10_telefone",'Relatório do SketchUp'!$A$1:$CZ$1,0))&"","")),IFERROR(INDEX('Relatório do SketchUp'!$A$31:$CZ$31,MATCH("E-mail",'Relatório do SketchUp'!$A$1:$CZ$1,0))&"",IFERROR(INDEX('Relatório do SketchUp'!$A$31:$CZ$31,MATCH("f12_email",'Relatório do SketchUp'!$A$1:$CZ$1,0))&"",""))) | P34: =IFERROR(INDEX('Relatório do SketchUp'!$A$31:$CZ$31,MATCH("Página do produto",'Relatório do SketchUp'!$A$1:$CZ$1,0))&"",IFERROR(INDEX('Relatório do SketchUp'!$A$31:$CZ$31,MATCH("f15_link_produto",'Relatório do SketchUp'!$A$1:$CZ$1,0))&"",IFERROR(INDEX('Relatório do SketchUp'!$A$31:$CZ$31,MATCH("Onde comprar",'Relatório do SketchUp'!$A$1:$CZ$1,0))&"",IFERROR(INDEX('Relatório do SketchUp'!$A$31:$CZ$31,MATCH("f14_onde_comprar",'Relatório do SketchUp'!$A$1:$CZ$1,0))&"",IFERROR(INDEX('Relatório do SketchUp'!$A$31:$CZ$31,MATCH("Site",'Relatório do SketchUp'!$A$1:$CZ$1,0))&"",IFERROR(INDEX('Relatório do SketchUp'!$A$31:$CZ$31,MATCH("f13_site",'Relatório do SketchUp'!$A$1:$CZ$1,0))&"","")))))) | U34: =IF(OR(T34="",Q34=""),"",T34+Q34)
C35: =IFERROR(INDEX('Relatório do SketchUp'!$A$32:$CZ$32,MATCH("Produto",'Relatório do SketchUp'!$A$1:$CZ$1,0))&"",IFERROR(INDEX('Relatório do SketchUp'!$A$32:$CZ$32,MATCH("f02_produto",'Relatório do SketchUp'!$A$1:$CZ$1,0))&"",IFERROR(INDEX('Relatório do SketchUp'!$A$32:$CZ$32,MATCH("Definition Name",'Relatório do SketchUp'!$A$1:$CZ$1,0))&"",IFERROR(INDEX('Relatório do SketchUp'!$A$32:$CZ$32,MATCH("Nome da definição",'Relatório do SketchUp'!$A$1:$CZ$1,0))&"","")))) | D35: =IFERROR(INDEX('Relatório do SketchUp'!$A$32:$CZ$32,MATCH("Marca",'Relatório do SketchUp'!$A$1:$CZ$1,0))&"",IFERROR(INDEX('Relatório do SketchUp'!$A$32:$CZ$32,MATCH("f01_marca",'Relatório do SketchUp'!$A$1:$CZ$1,0))&"","")) | E35: =IFERROR(INDEX('Relatório do SketchUp'!$A$32:$CZ$32,MATCH("Linha",'Relatório do SketchUp'!$A$1:$CZ$1,0))&"",IFERROR(INDEX('Relatório do SketchUp'!$A$32:$CZ$32,MATCH("f04_linha",'Relatório do SketchUp'!$A$1:$CZ$1,0))&"","")) | F35: =IFERROR(INDEX('Relatório do SketchUp'!$A$32:$CZ$32,MATCH("Código do produto",'Relatório do SketchUp'!$A$1:$CZ$1,0))&"",IFERROR(INDEX('Relatório do SketchUp'!$A$32:$CZ$32,MATCH("f03_codigo",'Relatório do SketchUp'!$A$1:$CZ$1,0))&"","")) | G35: =IFERROR(INDEX('Relatório do SketchUp'!$A$32:$CZ$32,MATCH("Dimensões",'Relatório do SketchUp'!$A$1:$CZ$1,0))&"",IFERROR(INDEX('Relatório do SketchUp'!$A$32:$CZ$32,MATCH("f06_dimensoes",'Relatório do SketchUp'!$A$1:$CZ$1,0))&"","")) | H35: =IFERROR(INDEX('Relatório do SketchUp'!$A$32:$CZ$32,MATCH("Acabamento",'Relatório do SketchUp'!$A$1:$CZ$1,0))&"",IFERROR(INDEX('Relatório do SketchUp'!$A$32:$CZ$32,MATCH("f07_acabamento",'Relatório do SketchUp'!$A$1:$CZ$1,0))&"","")) | I35: =IF(C35="","",IFERROR(VALUE(IFERROR(INDEX('Relatório do SketchUp'!$A$32:$CZ$32,MATCH("Quantity",'Relatório do SketchUp'!$A$1:$CZ$1,0))&"",IFERROR(INDEX('Relatório do SketchUp'!$A$32:$CZ$32,MATCH("Quantidade",'Relatório do SketchUp'!$A$1:$CZ$1,0))&"",IFERROR(INDEX('Relatório do SketchUp'!$A$32:$CZ$32,MATCH("Qtd",'Relatório do SketchUp'!$A$1:$CZ$1,0))&"",IFERROR(INDEX('Relatório do SketchUp'!$A$32:$CZ$32,MATCH("Count",'Relatório do SketchUp'!$A$1:$CZ$1,0))&"",""))))),1)) | K35: =IFERROR(INDEX('Relatório do SketchUp'!$A$32:$CZ$32,MATCH("Preço estimado",'Relatório do SketchUp'!$A$1:$CZ$1,0))&"",IFERROR(INDEX('Relatório do SketchUp'!$A$32:$CZ$32,MATCH("f16_preco",'Relatório do SketchUp'!$A$1:$CZ$1,0))&"","")) | M35: =IF(OR(I35="",L35=""),"",I35*L35) | N35: =IF(IFERROR(INDEX('Relatório do SketchUp'!$A$32:$CZ$32,MATCH("Fornecedor",'Relatório do SketchUp'!$A$1:$CZ$1,0))&"",IFERROR(INDEX('Relatório do SketchUp'!$A$32:$CZ$32,MATCH("f09_fornecedor",'Relatório do SketchUp'!$A$1:$CZ$1,0))&"",""))<>"",IFERROR(INDEX('Relatório do SketchUp'!$A$32:$CZ$32,MATCH("Fornecedor",'Relatório do SketchUp'!$A$1:$CZ$1,0))&"",IFERROR(INDEX('Relatório do SketchUp'!$A$32:$CZ$32,MATCH("f09_fornecedor",'Relatório do SketchUp'!$A$1:$CZ$1,0))&"","")),IF(IFERROR(INDEX('Relatório do SketchUp'!$A$32:$CZ$32,MATCH("Marca",'Relatório do SketchUp'!$A$1:$CZ$1,0))&"",IFERROR(INDEX('Relatório do SketchUp'!$A$32:$CZ$32,MATCH("f01_marca",'Relatório do SketchUp'!$A$1:$CZ$1,0))&"",""))<>"",IFERROR(INDEX('Relatório do SketchUp'!$A$32:$CZ$32,MATCH("Marca",'Relatório do SketchUp'!$A$1:$CZ$1,0))&"",IFERROR(INDEX('Relatório do SketchUp'!$A$32:$CZ$32,MATCH("f01_marca",'Relatório do SketchUp'!$A$1:$CZ$1,0))&"","")),"")) | O35: =_xlfn.TEXTJOIN(" · ",TRUE,IFERROR(INDEX('Relatório do SketchUp'!$A$32:$CZ$32,MATCH("WhatsApp",'Relatório do SketchUp'!$A$1:$CZ$1,0))&"",IFERROR(INDEX('Relatório do SketchUp'!$A$32:$CZ$32,MATCH("f11_whatsapp",'Relatório do SketchUp'!$A$1:$CZ$1,0))&"","")),IFERROR(INDEX('Relatório do SketchUp'!$A$32:$CZ$32,MATCH("Telefone",'Relatório do SketchUp'!$A$1:$CZ$1,0))&"",IFERROR(INDEX('Relatório do SketchUp'!$A$32:$CZ$32,MATCH("f10_telefone",'Relatório do SketchUp'!$A$1:$CZ$1,0))&"","")),IFERROR(INDEX('Relatório do SketchUp'!$A$32:$CZ$32,MATCH("E-mail",'Relatório do SketchUp'!$A$1:$CZ$1,0))&"",IFERROR(INDEX('Relatório do SketchUp'!$A$32:$CZ$32,MATCH("f12_email",'Relatório do SketchUp'!$A$1:$CZ$1,0))&"",""))) | P35: =IFERROR(INDEX('Relatório do SketchUp'!$A$32:$CZ$32,MATCH("Página do produto",'Relatório do SketchUp'!$A$1:$CZ$1,0))&"",IFERROR(INDEX('Relatório do SketchUp'!$A$32:$CZ$32,MATCH("f15_link_produto",'Relatório do SketchUp'!$A$1:$CZ$1,0))&"",IFERROR(INDEX('Relatório do SketchUp'!$A$32:$CZ$32,MATCH("Onde comprar",'Relatório do SketchUp'!$A$1:$CZ$1,0))&"",IFERROR(INDEX('Relatório do SketchUp'!$A$32:$CZ$32,MATCH("f14_onde_comprar",'Relatório do SketchUp'!$A$1:$CZ$1,0))&"",IFERROR(INDEX('Relatório do SketchUp'!$A$32:$CZ$32,MATCH("Site",'Relatório do SketchUp'!$A$1:$CZ$1,0))&"",IFERROR(INDEX('Relatório do SketchUp'!$A$32:$CZ$32,MATCH("f13_site",'Relatório do SketchUp'!$A$1:$CZ$1,0))&"","")))))) | U35: =IF(OR(T35="",Q35=""),"",T35+Q35)
C36: =IFERROR(INDEX('Relatório do SketchUp'!$A$33:$CZ$33,MATCH("Produto",'Relatório do SketchUp'!$A$1:$CZ$1,0))&"",IFERROR(INDEX('Relatório do SketchUp'!$A$33:$CZ$33,MATCH("f02_produto",'Relatório do SketchUp'!$A$1:$CZ$1,0))&"",IFERROR(INDEX('Relatório do SketchUp'!$A$33:$CZ$33,MATCH("Definition Name",'Relatório do SketchUp'!$A$1:$CZ$1,0))&"",IFERROR(INDEX('Relatório do SketchUp'!$A$33:$CZ$33,MATCH("Nome da definição",'Relatório do SketchUp'!$A$1:$CZ$1,0))&"","")))) | D36: =IFERROR(INDEX('Relatório do SketchUp'!$A$33:$CZ$33,MATCH("Marca",'Relatório do SketchUp'!$A$1:$CZ$1,0))&"",IFERROR(INDEX('Relatório do SketchUp'!$A$33:$CZ$33,MATCH("f01_marca",'Relatório do SketchUp'!$A$1:$CZ$1,0))&"","")) | E36: =IFERROR(INDEX('Relatório do SketchUp'!$A$33:$CZ$33,MATCH("Linha",'Relatório do SketchUp'!$A$1:$CZ$1,0))&"",IFERROR(INDEX('Relatório do SketchUp'!$A$33:$CZ$33,MATCH("f04_linha",'Relatório do SketchUp'!$A$1:$CZ$1,0))&"","")) | F36: =IFERROR(INDEX('Relatório do SketchUp'!$A$33:$CZ$33,MATCH("Código do produto",'Relatório do SketchUp'!$A$1:$CZ$1,0))&"",IFERROR(INDEX('Relatório do SketchUp'!$A$33:$CZ$33,MATCH("f03_codigo",'Relatório do SketchUp'!$A$1:$CZ$1,0))&"","")) | G36: =IFERROR(INDEX('Relatório do SketchUp'!$A$33:$CZ$33,MATCH("Dimensões",'Relatório do SketchUp'!$A$1:$CZ$1,0))&"",IFERROR(INDEX('Relatório do SketchUp'!$A$33:$CZ$33,MATCH("f06_dimensoes",'Relatório do SketchUp'!$A$1:$CZ$1,0))&"","")) | H36: =IFERROR(INDEX('Relatório do SketchUp'!$A$33:$CZ$33,MATCH("Acabamento",'Relatório do SketchUp'!$A$1:$CZ$1,0))&"",IFERROR(INDEX('Relatório do SketchUp'!$A$33:$CZ$33,MATCH("f07_acabamento",'Relatório do SketchUp'!$A$1:$CZ$1,0))&"","")) | I36: =IF(C36="","",IFERROR(VALUE(IFERROR(INDEX('Relatório do SketchUp'!$A$33:$CZ$33,MATCH("Quantity",'Relatório do SketchUp'!$A$1:$CZ$1,0))&"",IFERROR(INDEX('Relatório do SketchUp'!$A$33:$CZ$33,MATCH("Quantidade",'Relatório do SketchUp'!$A$1:$CZ$1,0))&"",IFERROR(INDEX('Relatório do SketchUp'!$A$33:$CZ$33,MATCH("Qtd",'Relatório do SketchUp'!$A$1:$CZ$1,0))&"",IFERROR(INDEX('Relatório do SketchUp'!$A$33:$CZ$33,MATCH("Count",'Relatório do SketchUp'!$A$1:$CZ$1,0))&"",""))))),1)) | K36: =IFERROR(INDEX('Relatório do SketchUp'!$A$33:$CZ$33,MATCH("Preço estimado",'Relatório do SketchUp'!$A$1:$CZ$1,0))&"",IFERROR(INDEX('Relatório do SketchUp'!$A$33:$CZ$33,MATCH("f16_preco",'Relatório do SketchUp'!$A$1:$CZ$1,0))&"","")) | M36: =IF(OR(I36="",L36=""),"",I36*L36) | N36: =IF(IFERROR(INDEX('Relatório do SketchUp'!$A$33:$CZ$33,MATCH("Fornecedor",'Relatório do SketchUp'!$A$1:$CZ$1,0))&"",IFERROR(INDEX('Relatório do SketchUp'!$A$33:$CZ$33,MATCH("f09_fornecedor",'Relatório do SketchUp'!$A$1:$CZ$1,0))&"",""))<>"",IFERROR(INDEX('Relatório do SketchUp'!$A$33:$CZ$33,MATCH("Fornecedor",'Relatório do SketchUp'!$A$1:$CZ$1,0))&"",IFERROR(INDEX('Relatório do SketchUp'!$A$33:$CZ$33,MATCH("f09_fornecedor",'Relatório do SketchUp'!$A$1:$CZ$1,0))&"","")),IF(IFERROR(INDEX('Relatório do SketchUp'!$A$33:$CZ$33,MATCH("Marca",'Relatório do SketchUp'!$A$1:$CZ$1,0))&"",IFERROR(INDEX('Relatório do SketchUp'!$A$33:$CZ$33,MATCH("f01_marca",'Relatório do SketchUp'!$A$1:$CZ$1,0))&"",""))<>"",IFERROR(INDEX('Relatório do SketchUp'!$A$33:$CZ$33,MATCH("Marca",'Relatório do SketchUp'!$A$1:$CZ$1,0))&"",IFERROR(INDEX('Relatório do SketchUp'!$A$33:$CZ$33,MATCH("f01_marca",'Relatório do SketchUp'!$A$1:$CZ$1,0))&"","")),"")) | O36: =_xlfn.TEXTJOIN(" · ",TRUE,IFERROR(INDEX('Relatório do SketchUp'!$A$33:$CZ$33,MATCH("WhatsApp",'Relatório do SketchUp'!$A$1:$CZ$1,0))&"",IFERROR(INDEX('Relatório do SketchUp'!$A$33:$CZ$33,MATCH("f11_whatsapp",'Relatório do SketchUp'!$A$1:$CZ$1,0))&"","")),IFERROR(INDEX('Relatório do SketchUp'!$A$33:$CZ$33,MATCH("Telefone",'Relatório do SketchUp'!$A$1:$CZ$1,0))&"",IFERROR(INDEX('Relatório do SketchUp'!$A$33:$CZ$33,MATCH("f10_telefone",'Relatório do SketchUp'!$A$1:$CZ$1,0))&"","")),IFERROR(INDEX('Relatório do SketchUp'!$A$33:$CZ$33,MATCH("E-mail",'Relatório do SketchUp'!$A$1:$CZ$1,0))&"",IFERROR(INDEX('Relatório do SketchUp'!$A$33:$CZ$33,MATCH("f12_email",'Relatório do SketchUp'!$A$1:$CZ$1,0))&"",""))) | P36: =IFERROR(INDEX('Relatório do SketchUp'!$A$33:$CZ$33,MATCH("Página do produto",'Relatório do SketchUp'!$A$1:$CZ$1,0))&"",IFERROR(INDEX('Relatório do SketchUp'!$A$33:$CZ$33,MATCH("f15_link_produto",'Relatório do SketchUp'!$A$1:$CZ$1,0))&"",IFERROR(INDEX('Relatório do SketchUp'!$A$33:$CZ$33,MATCH("Onde comprar",'Relatório do SketchUp'!$A$1:$CZ$1,0))&"",IFERROR(INDEX('Relatório do SketchUp'!$A$33:$CZ$33,MATCH("f14_onde_comprar",'Relatório do SketchUp'!$A$1:$CZ$1,0))&"",IFERROR(INDEX('Relatório do SketchUp'!$A$33:$CZ$33,MATCH("Site",'Relatório do SketchUp'!$A$1:$CZ$1,0))&"",IFERROR(INDEX('Relatório do SketchUp'!$A$33:$CZ$33,MATCH("f13_site",'Relatório do SketchUp'!$A$1:$CZ$1,0))&"","")))))) | U36: =IF(OR(T36="",Q36=""),"",T36+Q36)
C37: =IFERROR(INDEX('Relatório do SketchUp'!$A$34:$CZ$34,MATCH("Produto",'Relatório do SketchUp'!$A$1:$CZ$1,0))&"",IFERROR(INDEX('Relatório do SketchUp'!$A$34:$CZ$34,MATCH("f02_produto",'Relatório do SketchUp'!$A$1:$CZ$1,0))&"",IFERROR(INDEX('Relatório do SketchUp'!$A$34:$CZ$34,MATCH("Definition Name",'Relatório do SketchUp'!$A$1:$CZ$1,0))&"",IFERROR(INDEX('Relatório do SketchUp'!$A$34:$CZ$34,MATCH("Nome da definição",'Relatório do SketchUp'!$A$1:$CZ$1,0))&"","")))) | D37: =IFERROR(INDEX('Relatório do SketchUp'!$A$34:$CZ$34,MATCH("Marca",'Relatório do SketchUp'!$A$1:$CZ$1,0))&"",IFERROR(INDEX('Relatório do SketchUp'!$A$34:$CZ$34,MATCH("f01_marca",'Relatório do SketchUp'!$A$1:$CZ$1,0))&"","")) | E37: =IFERROR(INDEX('Relatório do SketchUp'!$A$34:$CZ$34,MATCH("Linha",'Relatório do SketchUp'!$A$1:$CZ$1,0))&"",IFERROR(INDEX('Relatório do SketchUp'!$A$34:$CZ$34,MATCH("f04_linha",'Relatório do SketchUp'!$A$1:$CZ$1,0))&"","")) | F37: =IFERROR(INDEX('Relatório do SketchUp'!$A$34:$CZ$34,MATCH("Código do produto",'Relatório do SketchUp'!$A$1:$CZ$1,0))&"",IFERROR(INDEX('Relatório do SketchUp'!$A$34:$CZ$34,MATCH("f03_codigo",'Relatório do SketchUp'!$A$1:$CZ$1,0))&"","")) | G37: =IFERROR(INDEX('Relatório do SketchUp'!$A$34:$CZ$34,MATCH("Dimensões",'Relatório do SketchUp'!$A$1:$CZ$1,0))&"",IFERROR(INDEX('Relatório do SketchUp'!$A$34:$CZ$34,MATCH("f06_dimensoes",'Relatório do SketchUp'!$A$1:$CZ$1,0))&"","")) | H37: =IFERROR(INDEX('Relatório do SketchUp'!$A$34:$CZ$34,MATCH("Acabamento",'Relatório do SketchUp'!$A$1:$CZ$1,0))&"",IFERROR(INDEX('Relatório do SketchUp'!$A$34:$CZ$34,MATCH("f07_acabamento",'Relatório do SketchUp'!$A$1:$CZ$1,0))&"","")) | I37: =IF(C37="","",IFERROR(VALUE(IFERROR(INDEX('Relatório do SketchUp'!$A$34:$CZ$34,MATCH("Quantity",'Relatório do SketchUp'!$A$1:$CZ$1,0))&"",IFERROR(INDEX('Relatório do SketchUp'!$A$34:$CZ$34,MATCH("Quantidade",'Relatório do SketchUp'!$A$1:$CZ$1,0))&"",IFERROR(INDEX('Relatório do SketchUp'!$A$34:$CZ$34,MATCH("Qtd",'Relatório do SketchUp'!$A$1:$CZ$1,0))&"",IFERROR(INDEX('Relatório do SketchUp'!$A$34:$CZ$34,MATCH("Count",'Relatório do SketchUp'!$A$1:$CZ$1,0))&"",""))))),1)) | K37: =IFERROR(INDEX('Relatório do SketchUp'!$A$34:$CZ$34,MATCH("Preço estimado",'Relatório do SketchUp'!$A$1:$CZ$1,0))&"",IFERROR(INDEX('Relatório do SketchUp'!$A$34:$CZ$34,MATCH("f16_preco",'Relatório do SketchUp'!$A$1:$CZ$1,0))&"","")) | M37: =IF(OR(I37="",L37=""),"",I37*L37) | N37: =IF(IFERROR(INDEX('Relatório do SketchUp'!$A$34:$CZ$34,MATCH("Fornecedor",'Relatório do SketchUp'!$A$1:$CZ$1,0))&"",IFERROR(INDEX('Relatório do SketchUp'!$A$34:$CZ$34,MATCH("f09_fornecedor",'Relatório do SketchUp'!$A$1:$CZ$1,0))&"",""))<>"",IFERROR(INDEX('Relatório do SketchUp'!$A$34:$CZ$34,MATCH("Fornecedor",'Relatório do SketchUp'!$A$1:$CZ$1,0))&"",IFERROR(INDEX('Relatório do SketchUp'!$A$34:$CZ$34,MATCH("f09_fornecedor",'Relatório do SketchUp'!$A$1:$CZ$1,0))&"","")),IF(IFERROR(INDEX('Relatório do SketchUp'!$A$34:$CZ$34,MATCH("Marca",'Relatório do SketchUp'!$A$1:$CZ$1,0))&"",IFERROR(INDEX('Relatório do SketchUp'!$A$34:$CZ$34,MATCH("f01_marca",'Relatório do SketchUp'!$A$1:$CZ$1,0))&"",""))<>"",IFERROR(INDEX('Relatório do SketchUp'!$A$34:$CZ$34,MATCH("Marca",'Relatório do SketchUp'!$A$1:$CZ$1,0))&"",IFERROR(INDEX('Relatório do SketchUp'!$A$34:$CZ$34,MATCH("f01_marca",'Relatório do SketchUp'!$A$1:$CZ$1,0))&"","")),"")) | O37: =_xlfn.TEXTJOIN(" · ",TRUE,IFERROR(INDEX('Relatório do SketchUp'!$A$34:$CZ$34,MATCH("WhatsApp",'Relatório do SketchUp'!$A$1:$CZ$1,0))&"",IFERROR(INDEX('Relatório do SketchUp'!$A$34:$CZ$34,MATCH("f11_whatsapp",'Relatório do SketchUp'!$A$1:$CZ$1,0))&"","")),IFERROR(INDEX('Relatório do SketchUp'!$A$34:$CZ$34,MATCH("Telefone",'Relatório do SketchUp'!$A$1:$CZ$1,0))&"",IFERROR(INDEX('Relatório do SketchUp'!$A$34:$CZ$34,MATCH("f10_telefone",'Relatório do SketchUp'!$A$1:$CZ$1,0))&"","")),IFERROR(INDEX('Relatório do SketchUp'!$A$34:$CZ$34,MATCH("E-mail",'Relatório do SketchUp'!$A$1:$CZ$1,0))&"",IFERROR(INDEX('Relatório do SketchUp'!$A$34:$CZ$34,MATCH("f12_email",'Relatório do SketchUp'!$A$1:$CZ$1,0))&"",""))) | P37: =IFERROR(INDEX('Relatório do SketchUp'!$A$34:$CZ$34,MATCH("Página do produto",'Relatório do SketchUp'!$A$1:$CZ$1,0))&"",IFERROR(INDEX('Relatório do SketchUp'!$A$34:$CZ$34,MATCH("f15_link_produto",'Relatório do SketchUp'!$A$1:$CZ$1,0))&"",IFERROR(INDEX('Relatório do SketchUp'!$A$34:$CZ$34,MATCH("Onde comprar",'Relatório do SketchUp'!$A$1:$CZ$1,0))&"",IFERROR(INDEX('Relatório do SketchUp'!$A$34:$CZ$34,MATCH("f14_onde_comprar",'Relatório do SketchUp'!$A$1:$CZ$1,0))&"",IFERROR(INDEX('Relatório do SketchUp'!$A$34:$CZ$34,MATCH("Site",'Relatório do SketchUp'!$A$1:$CZ$1,0))&"",IFERROR(INDEX('Relatório do SketchUp'!$A$34:$CZ$34,MATCH("f13_site",'Relatório do SketchUp'!$A$1:$CZ$1,0))&"","")))))) | U37: =IF(OR(T37="",Q37=""),"",T37+Q37)
C38: =IFERROR(INDEX('Relatório do SketchUp'!$A$35:$CZ$35,MATCH("Produto",'Relatório do SketchUp'!$A$1:$CZ$1,0))&"",IFERROR(INDEX('Relatório do SketchUp'!$A$35:$CZ$35,MATCH("f02_produto",'Relatório do SketchUp'!$A$1:$CZ$1,0))&"",IFERROR(INDEX('Relatório do SketchUp'!$A$35:$CZ$35,MATCH("Definition Name",'Relatório do SketchUp'!$A$1:$CZ$1,0))&"",IFERROR(INDEX('Relatório do SketchUp'!$A$35:$CZ$35,MATCH("Nome da definição",'Relatório do SketchUp'!$A$1:$CZ$1,0))&"","")))) | D38: =IFERROR(INDEX('Relatório do SketchUp'!$A$35:$CZ$35,MATCH("Marca",'Relatório do SketchUp'!$A$1:$CZ$1,0))&"",IFERROR(INDEX('Relatório do SketchUp'!$A$35:$CZ$35,MATCH("f01_marca",'Relatório do SketchUp'!$A$1:$CZ$1,0))&"","")) | E38: =IFERROR(INDEX('Relatório do SketchUp'!$A$35:$CZ$35,MATCH("Linha",'Relatório do SketchUp'!$A$1:$CZ$1,0))&"",IFERROR(INDEX('Relatório do SketchUp'!$A$35:$CZ$35,MATCH("f04_linha",'Relatório do SketchUp'!$A$1:$CZ$1,0))&"","")) | F38: =IFERROR(INDEX('Relatório do SketchUp'!$A$35:$CZ$35,MATCH("Código do produto",'Relatório do SketchUp'!$A$1:$CZ$1,0))&"",IFERROR(INDEX('Relatório do SketchUp'!$A$35:$CZ$35,MATCH("f03_codigo",'Relatório do SketchUp'!$A$1:$CZ$1,0))&"","")) | G38: =IFERROR(INDEX('Relatório do SketchUp'!$A$35:$CZ$35,MATCH("Dimensões",'Relatório do SketchUp'!$A$1:$CZ$1,0))&"",IFERROR(INDEX('Relatório do SketchUp'!$A$35:$CZ$35,MATCH("f06_dimensoes",'Relatório do SketchUp'!$A$1:$CZ$1,0))&"","")) | H38: =IFERROR(INDEX('Relatório do SketchUp'!$A$35:$CZ$35,MATCH("Acabamento",'Relatório do SketchUp'!$A$1:$CZ$1,0))&"",IFERROR(INDEX('Relatório do SketchUp'!$A$35:$CZ$35,MATCH("f07_acabamento",'Relatório do SketchUp'!$A$1:$CZ$1,0))&"","")) | I38: =IF(C38="","",IFERROR(VALUE(IFERROR(INDEX('Relatório do SketchUp'!$A$35:$CZ$35,MATCH("Quantity",'Relatório do SketchUp'!$A$1:$CZ$1,0))&"",IFERROR(INDEX('Relatório do SketchUp'!$A$35:$CZ$35,MATCH("Quantidade",'Relatório do SketchUp'!$A$1:$CZ$1,0))&"",IFERROR(INDEX('Relatório do SketchUp'!$A$35:$CZ$35,MATCH("Qtd",'Relatório do SketchUp'!$A$1:$CZ$1,0))&"",IFERROR(INDEX('Relatório do SketchUp'!$A$35:$CZ$35,MATCH("Count",'Relatório do SketchUp'!$A$1:$CZ$1,0))&"",""))))),1)) | K38: =IFERROR(INDEX('Relatório do SketchUp'!$A$35:$CZ$35,MATCH("Preço estimado",'Relatório do SketchUp'!$A$1:$CZ$1,0))&"",IFERROR(INDEX('Relatório do SketchUp'!$A$35:$CZ$35,MATCH("f16_preco",'Relatório do SketchUp'!$A$1:$CZ$1,0))&"","")) | M38: =IF(OR(I38="",L38=""),"",I38*L38) | N38: =IF(IFERROR(INDEX('Relatório do SketchUp'!$A$35:$CZ$35,MATCH("Fornecedor",'Relatório do SketchUp'!$A$1:$CZ$1,0))&"",IFERROR(INDEX('Relatório do SketchUp'!$A$35:$CZ$35,MATCH("f09_fornecedor",'Relatório do SketchUp'!$A$1:$CZ$1,0))&"",""))<>"",IFERROR(INDEX('Relatório do SketchUp'!$A$35:$CZ$35,MATCH("Fornecedor",'Relatório do SketchUp'!$A$1:$CZ$1,0))&"",IFERROR(INDEX('Relatório do SketchUp'!$A$35:$CZ$35,MATCH("f09_fornecedor",'Relatório do SketchUp'!$A$1:$CZ$1,0))&"","")),IF(IFERROR(INDEX('Relatório do SketchUp'!$A$35:$CZ$35,MATCH("Marca",'Relatório do SketchUp'!$A$1:$CZ$1,0))&"",IFERROR(INDEX('Relatório do SketchUp'!$A$35:$CZ$35,MATCH("f01_marca",'Relatório do SketchUp'!$A$1:$CZ$1,0))&"",""))<>"",IFERROR(INDEX('Relatório do SketchUp'!$A$35:$CZ$35,MATCH("Marca",'Relatório do SketchUp'!$A$1:$CZ$1,0))&"",IFERROR(INDEX('Relatório do SketchUp'!$A$35:$CZ$35,MATCH("f01_marca",'Relatório do SketchUp'!$A$1:$CZ$1,0))&"","")),"")) | O38: =_xlfn.TEXTJOIN(" · ",TRUE,IFERROR(INDEX('Relatório do SketchUp'!$A$35:$CZ$35,MATCH("WhatsApp",'Relatório do SketchUp'!$A$1:$CZ$1,0))&"",IFERROR(INDEX('Relatório do SketchUp'!$A$35:$CZ$35,MATCH("f11_whatsapp",'Relatório do SketchUp'!$A$1:$CZ$1,0))&"","")),IFERROR(INDEX('Relatório do SketchUp'!$A$35:$CZ$35,MATCH("Telefone",'Relatório do SketchUp'!$A$1:$CZ$1,0))&"",IFERROR(INDEX('Relatório do SketchUp'!$A$35:$CZ$35,MATCH("f10_telefone",'Relatório do SketchUp'!$A$1:$CZ$1,0))&"","")),IFERROR(INDEX('Relatório do SketchUp'!$A$35:$CZ$35,MATCH("E-mail",'Relatório do SketchUp'!$A$1:$CZ$1,0))&"",IFERROR(INDEX('Relatório do SketchUp'!$A$35:$CZ$35,MATCH("f12_email",'Relatório do SketchUp'!$A$1:$CZ$1,0))&"",""))) | P38: =IFERROR(INDEX('Relatório do SketchUp'!$A$35:$CZ$35,MATCH("Página do produto",'Relatório do SketchUp'!$A$1:$CZ$1,0))&"",IFERROR(INDEX('Relatório do SketchUp'!$A$35:$CZ$35,MATCH("f15_link_produto",'Relatório do SketchUp'!$A$1:$CZ$1,0))&"",IFERROR(INDEX('Relatório do SketchUp'!$A$35:$CZ$35,MATCH("Onde comprar",'Relatório do SketchUp'!$A$1:$CZ$1,0))&"",IFERROR(INDEX('Relatório do SketchUp'!$A$35:$CZ$35,MATCH("f14_onde_comprar",'Relatório do SketchUp'!$A$1:$CZ$1,0))&"",IFERROR(INDEX('Relatório do SketchUp'!$A$35:$CZ$35,MATCH("Site",'Relatório do SketchUp'!$A$1:$CZ$1,0))&"",IFERROR(INDEX('Relatório do SketchUp'!$A$35:$CZ$35,MATCH("f13_site",'Relatório do SketchUp'!$A$1:$CZ$1,0))&"","")))))) | U38: =IF(OR(T38="",Q38=""),"",T38+Q38)
C39: =IFERROR(INDEX('Relatório do SketchUp'!$A$36:$CZ$36,MATCH("Produto",'Relatório do SketchUp'!$A$1:$CZ$1,0))&"",IFERROR(INDEX('Relatório do SketchUp'!$A$36:$CZ$36,MATCH("f02_produto",'Relatório do SketchUp'!$A$1:$CZ$1,0))&"",IFERROR(INDEX('Relatório do SketchUp'!$A$36:$CZ$36,MATCH("Definition Name",'Relatório do SketchUp'!$A$1:$CZ$1,0))&"",IFERROR(INDEX('Relatório do SketchUp'!$A$36:$CZ$36,MATCH("Nome da definição",'Relatório do SketchUp'!$A$1:$CZ$1,0))&"","")))) | D39: =IFERROR(INDEX('Relatório do SketchUp'!$A$36:$CZ$36,MATCH("Marca",'Relatório do SketchUp'!$A$1:$CZ$1,0))&"",IFERROR(INDEX('Relatório do SketchUp'!$A$36:$CZ$36,MATCH("f01_marca",'Relatório do SketchUp'!$A$1:$CZ$1,0))&"","")) | E39: =IFERROR(INDEX('Relatório do SketchUp'!$A$36:$CZ$36,MATCH("Linha",'Relatório do SketchUp'!$A$1:$CZ$1,0))&"",IFERROR(INDEX('Relatório do SketchUp'!$A$36:$CZ$36,MATCH("f04_linha",'Relatório do SketchUp'!$A$1:$CZ$1,0))&"","")) | F39: =IFERROR(INDEX('Relatório do SketchUp'!$A$36:$CZ$36,MATCH("Código do produto",'Relatório do SketchUp'!$A$1:$CZ$1,0))&"",IFERROR(INDEX('Relatório do SketchUp'!$A$36:$CZ$36,MATCH("f03_codigo",'Relatório do SketchUp'!$A$1:$CZ$1,0))&"","")) | G39: =IFERROR(INDEX('Relatório do SketchUp'!$A$36:$CZ$36,MATCH("Dimensões",'Relatório do SketchUp'!$A$1:$CZ$1,0))&"",IFERROR(INDEX('Relatório do SketchUp'!$A$36:$CZ$36,MATCH("f06_dimensoes",'Relatório do SketchUp'!$A$1:$CZ$1,0))&"","")) | H39: =IFERROR(INDEX('Relatório do SketchUp'!$A$36:$CZ$36,MATCH("Acabamento",'Relatório do SketchUp'!$A$1:$CZ$1,0))&"",IFERROR(INDEX('Relatório do SketchUp'!$A$36:$CZ$36,MATCH("f07_acabamento",'Relatório do SketchUp'!$A$1:$CZ$1,0))&"","")) | I39: =IF(C39="","",IFERROR(VALUE(IFERROR(INDEX('Relatório do SketchUp'!$A$36:$CZ$36,MATCH("Quantity",'Relatório do SketchUp'!$A$1:$CZ$1,0))&"",IFERROR(INDEX('Relatório do SketchUp'!$A$36:$CZ$36,MATCH("Quantidade",'Relatório do SketchUp'!$A$1:$CZ$1,0))&"",IFERROR(INDEX('Relatório do SketchUp'!$A$36:$CZ$36,MATCH("Qtd",'Relatório do SketchUp'!$A$1:$CZ$1,0))&"",IFERROR(INDEX('Relatório do SketchUp'!$A$36:$CZ$36,MATCH("Count",'Relatório do SketchUp'!$A$1:$CZ$1,0))&"",""))))),1)) | K39: =IFERROR(INDEX('Relatório do SketchUp'!$A$36:$CZ$36,MATCH("Preço estimado",'Relatório do SketchUp'!$A$1:$CZ$1,0))&"",IFERROR(INDEX('Relatório do SketchUp'!$A$36:$CZ$36,MATCH("f16_preco",'Relatório do SketchUp'!$A$1:$CZ$1,0))&"","")) | M39: =IF(OR(I39="",L39=""),"",I39*L39) | N39: =IF(IFERROR(INDEX('Relatório do SketchUp'!$A$36:$CZ$36,MATCH("Fornecedor",'Relatório do SketchUp'!$A$1:$CZ$1,0))&"",IFERROR(INDEX('Relatório do SketchUp'!$A$36:$CZ$36,MATCH("f09_fornecedor",'Relatório do SketchUp'!$A$1:$CZ$1,0))&"",""))<>"",IFERROR(INDEX('Relatório do SketchUp'!$A$36:$CZ$36,MATCH("Fornecedor",'Relatório do SketchUp'!$A$1:$CZ$1,0))&"",IFERROR(INDEX('Relatório do SketchUp'!$A$36:$CZ$36,MATCH("f09_fornecedor",'Relatório do SketchUp'!$A$1:$CZ$1,0))&"","")),IF(IFERROR(INDEX('Relatório do SketchUp'!$A$36:$CZ$36,MATCH("Marca",'Relatório do SketchUp'!$A$1:$CZ$1,0))&"",IFERROR(INDEX('Relatório do SketchUp'!$A$36:$CZ$36,MATCH("f01_marca",'Relatório do SketchUp'!$A$1:$CZ$1,0))&"",""))<>"",IFERROR(INDEX('Relatório do SketchUp'!$A$36:$CZ$36,MATCH("Marca",'Relatório do SketchUp'!$A$1:$CZ$1,0))&"",IFERROR(INDEX('Relatório do SketchUp'!$A$36:$CZ$36,MATCH("f01_marca",'Relatório do SketchUp'!$A$1:$CZ$1,0))&"","")),"")) | O39: =_xlfn.TEXTJOIN(" · ",TRUE,IFERROR(INDEX('Relatório do SketchUp'!$A$36:$CZ$36,MATCH("WhatsApp",'Relatório do SketchUp'!$A$1:$CZ$1,0))&"",IFERROR(INDEX('Relatório do SketchUp'!$A$36:$CZ$36,MATCH("f11_whatsapp",'Relatório do SketchUp'!$A$1:$CZ$1,0))&"","")),IFERROR(INDEX('Relatório do SketchUp'!$A$36:$CZ$36,MATCH("Telefone",'Relatório do SketchUp'!$A$1:$CZ$1,0))&"",IFERROR(INDEX('Relatório do SketchUp'!$A$36:$CZ$36,MATCH("f10_telefone",'Relatório do SketchUp'!$A$1:$CZ$1,0))&"","")),IFERROR(INDEX('Relatório do SketchUp'!$A$36:$CZ$36,MATCH("E-mail",'Relatório do SketchUp'!$A$1:$CZ$1,0))&"",IFERROR(INDEX('Relatório do SketchUp'!$A$36:$CZ$36,MATCH("f12_email",'Relatório do SketchUp'!$A$1:$CZ$1,0))&"",""))) | P39: =IFERROR(INDEX('Relatório do SketchUp'!$A$36:$CZ$36,MATCH("Página do produto",'Relatório do SketchUp'!$A$1:$CZ$1,0))&"",IFERROR(INDEX('Relatório do SketchUp'!$A$36:$CZ$36,MATCH("f15_link_produto",'Relatório do SketchUp'!$A$1:$CZ$1,0))&"",IFERROR(INDEX('Relatório do SketchUp'!$A$36:$CZ$36,MATCH("Onde comprar",'Relatório do SketchUp'!$A$1:$CZ$1,0))&"",IFERROR(INDEX('Relatório do SketchUp'!$A$36:$CZ$36,MATCH("f14_onde_comprar",'Relatório do SketchUp'!$A$1:$CZ$1,0))&"",IFERROR(INDEX('Relatório do SketchUp'!$A$36:$CZ$36,MATCH("Site",'Relatório do SketchUp'!$A$1:$CZ$1,0))&"",IFERROR(INDEX('Relatório do SketchUp'!$A$36:$CZ$36,MATCH("f13_site",'Relatório do SketchUp'!$A$1:$CZ$1,0))&"","")))))) | U39: =IF(OR(T39="",Q39=""),"",T39+Q39)
C40: =IFERROR(INDEX('Relatório do SketchUp'!$A$37:$CZ$37,MATCH("Produto",'Relatório do SketchUp'!$A$1:$CZ$1,0))&"",IFERROR(INDEX('Relatório do SketchUp'!$A$37:$CZ$37,MATCH("f02_produto",'Relatório do SketchUp'!$A$1:$CZ$1,0))&"",IFERROR(INDEX('Relatório do SketchUp'!$A$37:$CZ$37,MATCH("Definition Name",'Relatório do SketchUp'!$A$1:$CZ$1,0))&"",IFERROR(INDEX('Relatório do SketchUp'!$A$37:$CZ$37,MATCH("Nome da definição",'Relatório do SketchUp'!$A$1:$CZ$1,0))&"","")))) | D40: =IFERROR(INDEX('Relatório do SketchUp'!$A$37:$CZ$37,MATCH("Marca",'Relatório do SketchUp'!$A$1:$CZ$1,0))&"",IFERROR(INDEX('Relatório do SketchUp'!$A$37:$CZ$37,MATCH("f01_marca",'Relatório do SketchUp'!$A$1:$CZ$1,0))&"","")) | E40: =IFERROR(INDEX('Relatório do SketchUp'!$A$37:$CZ$37,MATCH("Linha",'Relatório do SketchUp'!$A$1:$CZ$1,0))&"",IFERROR(INDEX('Relatório do SketchUp'!$A$37:$CZ$37,MATCH("f04_linha",'Relatório do SketchUp'!$A$1:$CZ$1,0))&"","")) | F40: =IFERROR(INDEX('Relatório do SketchUp'!$A$37:$CZ$37,MATCH("Código do produto",'Relatório do SketchUp'!$A$1:$CZ$1,0))&"",IFERROR(INDEX('Relatório do SketchUp'!$A$37:$CZ$37,MATCH("f03_codigo",'Relatório do SketchUp'!$A$1:$CZ$1,0))&"","")) | G40: =IFERROR(INDEX('Relatório do SketchUp'!$A$37:$CZ$37,MATCH("Dimensões",'Relatório do SketchUp'!$A$1:$CZ$1,0))&"",IFERROR(INDEX('Relatório do SketchUp'!$A$37:$CZ$37,MATCH("f06_dimensoes",'Relatório do SketchUp'!$A$1:$CZ$1,0))&"","")) | H40: =IFERROR(INDEX('Relatório do SketchUp'!$A$37:$CZ$37,MATCH("Acabamento",'Relatório do SketchUp'!$A$1:$CZ$1,0))&"",IFERROR(INDEX('Relatório do SketchUp'!$A$37:$CZ$37,MATCH("f07_acabamento",'Relatório do SketchUp'!$A$1:$CZ$1,0))&"","")) | I40: =IF(C40="","",IFERROR(VALUE(IFERROR(INDEX('Relatório do SketchUp'!$A$37:$CZ$37,MATCH("Quantity",'Relatório do SketchUp'!$A$1:$CZ$1,0))&"",IFERROR(INDEX('Relatório do SketchUp'!$A$37:$CZ$37,MATCH("Quantidade",'Relatório do SketchUp'!$A$1:$CZ$1,0))&"",IFERROR(INDEX('Relatório do SketchUp'!$A$37:$CZ$37,MATCH("Qtd",'Relatório do SketchUp'!$A$1:$CZ$1,0))&"",IFERROR(INDEX('Relatório do SketchUp'!$A$37:$CZ$37,MATCH("Count",'Relatório do SketchUp'!$A$1:$CZ$1,0))&"",""))))),1)) | K40: =IFERROR(INDEX('Relatório do SketchUp'!$A$37:$CZ$37,MATCH("Preço estimado",'Relatório do SketchUp'!$A$1:$CZ$1,0))&"",IFERROR(INDEX('Relatório do SketchUp'!$A$37:$CZ$37,MATCH("f16_preco",'Relatório do SketchUp'!$A$1:$CZ$1,0))&"","")) | M40: =IF(OR(I40="",L40=""),"",I40*L40) | N40: =IF(IFERROR(INDEX('Relatório do SketchUp'!$A$37:$CZ$37,MATCH("Fornecedor",'Relatório do SketchUp'!$A$1:$CZ$1,0))&"",IFERROR(INDEX('Relatório do SketchUp'!$A$37:$CZ$37,MATCH("f09_fornecedor",'Relatório do SketchUp'!$A$1:$CZ$1,0))&"",""))<>"",IFERROR(INDEX('Relatório do SketchUp'!$A$37:$CZ$37,MATCH("Fornecedor",'Relatório do SketchUp'!$A$1:$CZ$1,0))&"",IFERROR(INDEX('Relatório do SketchUp'!$A$37:$CZ$37,MATCH("f09_fornecedor",'Relatório do SketchUp'!$A$1:$CZ$1,0))&"","")),IF(IFERROR(INDEX('Relatório do SketchUp'!$A$37:$CZ$37,MATCH("Marca",'Relatório do SketchUp'!$A$1:$CZ$1,0))&"",IFERROR(INDEX('Relatório do SketchUp'!$A$37:$CZ$37,MATCH("f01_marca",'Relatório do SketchUp'!$A$1:$CZ$1,0))&"",""))<>"",IFERROR(INDEX('Relatório do SketchUp'!$A$37:$CZ$37,MATCH("Marca",'Relatório do SketchUp'!$A$1:$CZ$1,0))&"",IFERROR(INDEX('Relatório do SketchUp'!$A$37:$CZ$37,MATCH("f01_marca",'Relatório do SketchUp'!$A$1:$CZ$1,0))&"","")),"")) | O40: =_xlfn.TEXTJOIN(" · ",TRUE,IFERROR(INDEX('Relatório do SketchUp'!$A$37:$CZ$37,MATCH("WhatsApp",'Relatório do SketchUp'!$A$1:$CZ$1,0))&"",IFERROR(INDEX('Relatório do SketchUp'!$A$37:$CZ$37,MATCH("f11_whatsapp",'Relatório do SketchUp'!$A$1:$CZ$1,0))&"","")),IFERROR(INDEX('Relatório do SketchUp'!$A$37:$CZ$37,MATCH("Telefone",'Relatório do SketchUp'!$A$1:$CZ$1,0))&"",IFERROR(INDEX('Relatório do SketchUp'!$A$37:$CZ$37,MATCH("f10_telefone",'Relatório do SketchUp'!$A$1:$CZ$1,0))&"","")),IFERROR(INDEX('Relatório do SketchUp'!$A$37:$CZ$37,MATCH("E-mail",'Relatório do SketchUp'!$A$1:$CZ$1,0))&"",IFERROR(INDEX('Relatório do SketchUp'!$A$37:$CZ$37,MATCH("f12_email",'Relatório do SketchUp'!$A$1:$CZ$1,0))&"",""))) | P40: =IFERROR(INDEX('Relatório do SketchUp'!$A$37:$CZ$37,MATCH("Página do produto",'Relatório do SketchUp'!$A$1:$CZ$1,0))&"",IFERROR(INDEX('Relatório do SketchUp'!$A$37:$CZ$37,MATCH("f15_link_produto",'Relatório do SketchUp'!$A$1:$CZ$1,0))&"",IFERROR(INDEX('Relatório do SketchUp'!$A$37:$CZ$37,MATCH("Onde comprar",'Relatório do SketchUp'!$A$1:$CZ$1,0))&"",IFERROR(INDEX('Relatório do SketchUp'!$A$37:$CZ$37,MATCH("f14_onde_comprar",'Relatório do SketchUp'!$A$1:$CZ$1,0))&"",IFERROR(INDEX('Relatório do SketchUp'!$A$37:$CZ$37,MATCH("Site",'Relatório do SketchUp'!$A$1:$CZ$1,0))&"",IFERROR(INDEX('Relatório do SketchUp'!$A$37:$CZ$37,MATCH("f13_site",'Relatório do SketchUp'!$A$1:$CZ$1,0))&"","")))))) | U40: =IF(OR(T40="",Q40=""),"",T40+Q40)
C41: =IFERROR(INDEX('Relatório do SketchUp'!$A$38:$CZ$38,MATCH("Produto",'Relatório do SketchUp'!$A$1:$CZ$1,0))&"",IFERROR(INDEX('Relatório do SketchUp'!$A$38:$CZ$38,MATCH("f02_produto",'Relatório do SketchUp'!$A$1:$CZ$1,0))&"",IFERROR(INDEX('Relatório do SketchUp'!$A$38:$CZ$38,MATCH("Definition Name",'Relatório do SketchUp'!$A$1:$CZ$1,0))&"",IFERROR(INDEX('Relatório do SketchUp'!$A$38:$CZ$38,MATCH("Nome da definição",'Relatório do SketchUp'!$A$1:$CZ$1,0))&"","")))) | D41: =IFERROR(INDEX('Relatório do SketchUp'!$A$38:$CZ$38,MATCH("Marca",'Relatório do SketchUp'!$A$1:$CZ$1,0))&"",IFERROR(INDEX('Relatório do SketchUp'!$A$38:$CZ$38,MATCH("f01_marca",'Relatório do SketchUp'!$A$1:$CZ$1,0))&"","")) | E41: =IFERROR(INDEX('Relatório do SketchUp'!$A$38:$CZ$38,MATCH("Linha",'Relatório do SketchUp'!$A$1:$CZ$1,0))&"",IFERROR(INDEX('Relatório do SketchUp'!$A$38:$CZ$38,MATCH("f04_linha",'Relatório do SketchUp'!$A$1:$CZ$1,0))&"","")) | F41: =IFERROR(INDEX('Relatório do SketchUp'!$A$38:$CZ$38,MATCH("Código do produto",'Relatório do SketchUp'!$A$1:$CZ$1,0))&"",IFERROR(INDEX('Relatório do SketchUp'!$A$38:$CZ$38,MATCH("f03_codigo",'Relatório do SketchUp'!$A$1:$CZ$1,0))&"","")) | G41: =IFERROR(INDEX('Relatório do SketchUp'!$A$38:$CZ$38,MATCH("Dimensões",'Relatório do SketchUp'!$A$1:$CZ$1,0))&"",IFERROR(INDEX('Relatório do SketchUp'!$A$38:$CZ$38,MATCH("f06_dimensoes",'Relatório do SketchUp'!$A$1:$CZ$1,0))&"","")) | H41: =IFERROR(INDEX('Relatório do SketchUp'!$A$38:$CZ$38,MATCH("Acabamento",'Relatório do SketchUp'!$A$1:$CZ$1,0))&"",IFERROR(INDEX('Relatório do SketchUp'!$A$38:$CZ$38,MATCH("f07_acabamento",'Relatório do SketchUp'!$A$1:$CZ$1,0))&"","")) | I41: =IF(C41="","",IFERROR(VALUE(IFERROR(INDEX('Relatório do SketchUp'!$A$38:$CZ$38,MATCH("Quantity",'Relatório do SketchUp'!$A$1:$CZ$1,0))&"",IFERROR(INDEX('Relatório do SketchUp'!$A$38:$CZ$38,MATCH("Quantidade",'Relatório do SketchUp'!$A$1:$CZ$1,0))&"",IFERROR(INDEX('Relatório do SketchUp'!$A$38:$CZ$38,MATCH("Qtd",'Relatório do SketchUp'!$A$1:$CZ$1,0))&"",IFERROR(INDEX('Relatório do SketchUp'!$A$38:$CZ$38,MATCH("Count",'Relatório do SketchUp'!$A$1:$CZ$1,0))&"",""))))),1)) | K41: =IFERROR(INDEX('Relatório do SketchUp'!$A$38:$CZ$38,MATCH("Preço estimado",'Relatório do SketchUp'!$A$1:$CZ$1,0))&"",IFERROR(INDEX('Relatório do SketchUp'!$A$38:$CZ$38,MATCH("f16_preco",'Relatório do SketchUp'!$A$1:$CZ$1,0))&"","")) | M41: =IF(OR(I41="",L41=""),"",I41*L41) | N41: =IF(IFERROR(INDEX('Relatório do SketchUp'!$A$38:$CZ$38,MATCH("Fornecedor",'Relatório do SketchUp'!$A$1:$CZ$1,0))&"",IFERROR(INDEX('Relatório do SketchUp'!$A$38:$CZ$38,MATCH("f09_fornecedor",'Relatório do SketchUp'!$A$1:$CZ$1,0))&"",""))<>"",IFERROR(INDEX('Relatório do SketchUp'!$A$38:$CZ$38,MATCH("Fornecedor",'Relatório do SketchUp'!$A$1:$CZ$1,0))&"",IFERROR(INDEX('Relatório do SketchUp'!$A$38:$CZ$38,MATCH("f09_fornecedor",'Relatório do SketchUp'!$A$1:$CZ$1,0))&"","")),IF(IFERROR(INDEX('Relatório do SketchUp'!$A$38:$CZ$38,MATCH("Marca",'Relatório do SketchUp'!$A$1:$CZ$1,0))&"",IFERROR(INDEX('Relatório do SketchUp'!$A$38:$CZ$38,MATCH("f01_marca",'Relatório do SketchUp'!$A$1:$CZ$1,0))&"",""))<>"",IFERROR(INDEX('Relatório do SketchUp'!$A$38:$CZ$38,MATCH("Marca",'Relatório do SketchUp'!$A$1:$CZ$1,0))&"",IFERROR(INDEX('Relatório do SketchUp'!$A$38:$CZ$38,MATCH("f01_marca",'Relatório do SketchUp'!$A$1:$CZ$1,0))&"","")),"")) | O41: =_xlfn.TEXTJOIN(" · ",TRUE,IFERROR(INDEX('Relatório do SketchUp'!$A$38:$CZ$38,MATCH("WhatsApp",'Relatório do SketchUp'!$A$1:$CZ$1,0))&"",IFERROR(INDEX('Relatório do SketchUp'!$A$38:$CZ$38,MATCH("f11_whatsapp",'Relatório do SketchUp'!$A$1:$CZ$1,0))&"","")),IFERROR(INDEX('Relatório do SketchUp'!$A$38:$CZ$38,MATCH("Telefone",'Relatório do SketchUp'!$A$1:$CZ$1,0))&"",IFERROR(INDEX('Relatório do SketchUp'!$A$38:$CZ$38,MATCH("f10_telefone",'Relatório do SketchUp'!$A$1:$CZ$1,0))&"","")),IFERROR(INDEX('Relatório do SketchUp'!$A$38:$CZ$38,MATCH("E-mail",'Relatório do SketchUp'!$A$1:$CZ$1,0))&"",IFERROR(INDEX('Relatório do SketchUp'!$A$38:$CZ$38,MATCH("f12_email",'Relatório do SketchUp'!$A$1:$CZ$1,0))&"",""))) | P41: =IFERROR(INDEX('Relatório do SketchUp'!$A$38:$CZ$38,MATCH("Página do produto",'Relatório do SketchUp'!$A$1:$CZ$1,0))&"",IFERROR(INDEX('Relatório do SketchUp'!$A$38:$CZ$38,MATCH("f15_link_produto",'Relatório do SketchUp'!$A$1:$CZ$1,0))&"",IFERROR(INDEX('Relatório do SketchUp'!$A$38:$CZ$38,MATCH("Onde comprar",'Relatório do SketchUp'!$A$1:$CZ$1,0))&"",IFERROR(INDEX('Relatório do SketchUp'!$A$38:$CZ$38,MATCH("f14_onde_comprar",'Relatório do SketchUp'!$A$1:$CZ$1,0))&"",IFERROR(INDEX('Relatório do SketchUp'!$A$38:$CZ$38,MATCH("Site",'Relatório do SketchUp'!$A$1:$CZ$1,0))&"",IFERROR(INDEX('Relatório do SketchUp'!$A$38:$CZ$38,MATCH("f13_site",'Relatório do SketchUp'!$A$1:$CZ$1,0))&"","")))))) | U41: =IF(OR(T41="",Q41=""),"",T41+Q41)
C42: =IFERROR(INDEX('Relatório do SketchUp'!$A$39:$CZ$39,MATCH("Produto",'Relatório do SketchUp'!$A$1:$CZ$1,0))&"",IFERROR(INDEX('Relatório do SketchUp'!$A$39:$CZ$39,MATCH("f02_produto",'Relatório do SketchUp'!$A$1:$CZ$1,0))&"",IFERROR(INDEX('Relatório do SketchUp'!$A$39:$CZ$39,MATCH("Definition Name",'Relatório do SketchUp'!$A$1:$CZ$1,0))&"",IFERROR(INDEX('Relatório do SketchUp'!$A$39:$CZ$39,MATCH("Nome da definição",'Relatório do SketchUp'!$A$1:$CZ$1,0))&"","")))) | D42: =IFERROR(INDEX('Relatório do SketchUp'!$A$39:$CZ$39,MATCH("Marca",'Relatório do SketchUp'!$A$1:$CZ$1,0))&"",IFERROR(INDEX('Relatório do SketchUp'!$A$39:$CZ$39,MATCH("f01_marca",'Relatório do SketchUp'!$A$1:$CZ$1,0))&"","")) | E42: =IFERROR(INDEX('Relatório do SketchUp'!$A$39:$CZ$39,MATCH("Linha",'Relatório do SketchUp'!$A$1:$CZ$1,0))&"",IFERROR(INDEX('Relatório do SketchUp'!$A$39:$CZ$39,MATCH("f04_linha",'Relatório do SketchUp'!$A$1:$CZ$1,0))&"","")) | F42: =IFERROR(INDEX('Relatório do SketchUp'!$A$39:$CZ$39,MATCH("Código do produto",'Relatório do SketchUp'!$A$1:$CZ$1,0))&"",IFERROR(INDEX('Relatório do SketchUp'!$A$39:$CZ$39,MATCH("f03_codigo",'Relatório do SketchUp'!$A$1:$CZ$1,0))&"","")) | G42: =IFERROR(INDEX('Relatório do SketchUp'!$A$39:$CZ$39,MATCH("Dimensões",'Relatório do SketchUp'!$A$1:$CZ$1,0))&"",IFERROR(INDEX('Relatório do SketchUp'!$A$39:$CZ$39,MATCH("f06_dimensoes",'Relatório do SketchUp'!$A$1:$CZ$1,0))&"","")) | H42: =IFERROR(INDEX('Relatório do SketchUp'!$A$39:$CZ$39,MATCH("Acabamento",'Relatório do SketchUp'!$A$1:$CZ$1,0))&"",IFERROR(INDEX('Relatório do SketchUp'!$A$39:$CZ$39,MATCH("f07_acabamento",'Relatório do SketchUp'!$A$1:$CZ$1,0))&"","")) | I42: =IF(C42="","",IFERROR(VALUE(IFERROR(INDEX('Relatório do SketchUp'!$A$39:$CZ$39,MATCH("Quantity",'Relatório do SketchUp'!$A$1:$CZ$1,0))&"",IFERROR(INDEX('Relatório do SketchUp'!$A$39:$CZ$39,MATCH("Quantidade",'Relatório do SketchUp'!$A$1:$CZ$1,0))&"",IFERROR(INDEX('Relatório do SketchUp'!$A$39:$CZ$39,MATCH("Qtd",'Relatório do SketchUp'!$A$1:$CZ$1,0))&"",IFERROR(INDEX('Relatório do SketchUp'!$A$39:$CZ$39,MATCH("Count",'Relatório do SketchUp'!$A$1:$CZ$1,0))&"",""))))),1)) | K42: =IFERROR(INDEX('Relatório do SketchUp'!$A$39:$CZ$39,MATCH("Preço estimado",'Relatório do SketchUp'!$A$1:$CZ$1,0))&"",IFERROR(INDEX('Relatório do SketchUp'!$A$39:$CZ$39,MATCH("f16_preco",'Relatório do SketchUp'!$A$1:$CZ$1,0))&"","")) | M42: =IF(OR(I42="",L42=""),"",I42*L42) | N42: =IF(IFERROR(INDEX('Relatório do SketchUp'!$A$39:$CZ$39,MATCH("Fornecedor",'Relatório do SketchUp'!$A$1:$CZ$1,0))&"",IFERROR(INDEX('Relatório do SketchUp'!$A$39:$CZ$39,MATCH("f09_fornecedor",'Relatório do SketchUp'!$A$1:$CZ$1,0))&"",""))<>"",IFERROR(INDEX('Relatório do SketchUp'!$A$39:$CZ$39,MATCH("Fornecedor",'Relatório do SketchUp'!$A$1:$CZ$1,0))&"",IFERROR(INDEX('Relatório do SketchUp'!$A$39:$CZ$39,MATCH("f09_fornecedor",'Relatório do SketchUp'!$A$1:$CZ$1,0))&"","")),IF(IFERROR(INDEX('Relatório do SketchUp'!$A$39:$CZ$39,MATCH("Marca",'Relatório do SketchUp'!$A$1:$CZ$1,0))&"",IFERROR(INDEX('Relatório do SketchUp'!$A$39:$CZ$39,MATCH("f01_marca",'Relatório do SketchUp'!$A$1:$CZ$1,0))&"",""))<>"",IFERROR(INDEX('Relatório do SketchUp'!$A$39:$CZ$39,MATCH("Marca",'Relatório do SketchUp'!$A$1:$CZ$1,0))&"",IFERROR(INDEX('Relatório do SketchUp'!$A$39:$CZ$39,MATCH("f01_marca",'Relatório do SketchUp'!$A$1:$CZ$1,0))&"","")),"")) | O42: =_xlfn.TEXTJOIN(" · ",TRUE,IFERROR(INDEX('Relatório do SketchUp'!$A$39:$CZ$39,MATCH("WhatsApp",'Relatório do SketchUp'!$A$1:$CZ$1,0))&"",IFERROR(INDEX('Relatório do SketchUp'!$A$39:$CZ$39,MATCH("f11_whatsapp",'Relatório do SketchUp'!$A$1:$CZ$1,0))&"","")),IFERROR(INDEX('Relatório do SketchUp'!$A$39:$CZ$39,MATCH("Telefone",'Relatório do SketchUp'!$A$1:$CZ$1,0))&"",IFERROR(INDEX('Relatório do SketchUp'!$A$39:$CZ$39,MATCH("f10_telefone",'Relatório do SketchUp'!$A$1:$CZ$1,0))&"","")),IFERROR(INDEX('Relatório do SketchUp'!$A$39:$CZ$39,MATCH("E-mail",'Relatório do SketchUp'!$A$1:$CZ$1,0))&"",IFERROR(INDEX('Relatório do SketchUp'!$A$39:$CZ$39,MATCH("f12_email",'Relatório do SketchUp'!$A$1:$CZ$1,0))&"",""))) | P42: =IFERROR(INDEX('Relatório do SketchUp'!$A$39:$CZ$39,MATCH("Página do produto",'Relatório do SketchUp'!$A$1:$CZ$1,0))&"",IFERROR(INDEX('Relatório do SketchUp'!$A$39:$CZ$39,MATCH("f15_link_produto",'Relatório do SketchUp'!$A$1:$CZ$1,0))&"",IFERROR(INDEX('Relatório do SketchUp'!$A$39:$CZ$39,MATCH("Onde comprar",'Relatório do SketchUp'!$A$1:$CZ$1,0))&"",IFERROR(INDEX('Relatório do SketchUp'!$A$39:$CZ$39,MATCH("f14_onde_comprar",'Relatório do SketchUp'!$A$1:$CZ$1,0))&"",IFERROR(INDEX('Relatório do SketchUp'!$A$39:$CZ$39,MATCH("Site",'Relatório do SketchUp'!$A$1:$CZ$1,0))&"",IFERROR(INDEX('Relatório do SketchUp'!$A$39:$CZ$39,MATCH("f13_site",'Relatório do SketchUp'!$A$1:$CZ$1,0))&"","")))))) | U42: =IF(OR(T42="",Q42=""),"",T42+Q42)
C43: =IFERROR(INDEX('Relatório do SketchUp'!$A$40:$CZ$40,MATCH("Produto",'Relatório do SketchUp'!$A$1:$CZ$1,0))&"",IFERROR(INDEX('Relatório do SketchUp'!$A$40:$CZ$40,MATCH("f02_produto",'Relatório do SketchUp'!$A$1:$CZ$1,0))&"",IFERROR(INDEX('Relatório do SketchUp'!$A$40:$CZ$40,MATCH("Definition Name",'Relatório do SketchUp'!$A$1:$CZ$1,0))&"",IFERROR(INDEX('Relatório do SketchUp'!$A$40:$CZ$40,MATCH("Nome da definição",'Relatório do SketchUp'!$A$1:$CZ$1,0))&"","")))) | D43: =IFERROR(INDEX('Relatório do SketchUp'!$A$40:$CZ$40,MATCH("Marca",'Relatório do SketchUp'!$A$1:$CZ$1,0))&"",IFERROR(INDEX('Relatório do SketchUp'!$A$40:$CZ$40,MATCH("f01_marca",'Relatório do SketchUp'!$A$1:$CZ$1,0))&"","")) | E43: =IFERROR(INDEX('Relatório do SketchUp'!$A$40:$CZ$40,MATCH("Linha",'Relatório do SketchUp'!$A$1:$CZ$1,0))&"",IFERROR(INDEX('Relatório do SketchUp'!$A$40:$CZ$40,MATCH("f04_linha",'Relatório do SketchUp'!$A$1:$CZ$1,0))&"","")) | F43: =IFERROR(INDEX('Relatório do SketchUp'!$A$40:$CZ$40,MATCH("Código do produto",'Relatório do SketchUp'!$A$1:$CZ$1,0))&"",IFERROR(INDEX('Relatório do SketchUp'!$A$40:$CZ$40,MATCH("f03_codigo",'Relatório do SketchUp'!$A$1:$CZ$1,0))&"","")) | G43: =IFERROR(INDEX('Relatório do SketchUp'!$A$40:$CZ$40,MATCH("Dimensões",'Relatório do SketchUp'!$A$1:$CZ$1,0))&"",IFERROR(INDEX('Relatório do SketchUp'!$A$40:$CZ$40,MATCH("f06_dimensoes",'Relatório do SketchUp'!$A$1:$CZ$1,0))&"","")) | H43: =IFERROR(INDEX('Relatório do SketchUp'!$A$40:$CZ$40,MATCH("Acabamento",'Relatório do SketchUp'!$A$1:$CZ$1,0))&"",IFERROR(INDEX('Relatório do SketchUp'!$A$40:$CZ$40,MATCH("f07_acabamento",'Relatório do SketchUp'!$A$1:$CZ$1,0))&"","")) | I43: =IF(C43="","",IFERROR(VALUE(IFERROR(INDEX('Relatório do SketchUp'!$A$40:$CZ$40,MATCH("Quantity",'Relatório do SketchUp'!$A$1:$CZ$1,0))&"",IFERROR(INDEX('Relatório do SketchUp'!$A$40:$CZ$40,MATCH("Quantidade",'Relatório do SketchUp'!$A$1:$CZ$1,0))&"",IFERROR(INDEX('Relatório do SketchUp'!$A$40:$CZ$40,MATCH("Qtd",'Relatório do SketchUp'!$A$1:$CZ$1,0))&"",IFERROR(INDEX('Relatório do SketchUp'!$A$40:$CZ$40,MATCH("Count",'Relatório do SketchUp'!$A$1:$CZ$1,0))&"",""))))),1)) | K43: =IFERROR(INDEX('Relatório do SketchUp'!$A$40:$CZ$40,MATCH("Preço estimado",'Relatório do SketchUp'!$A$1:$CZ$1,0))&"",IFERROR(INDEX('Relatório do SketchUp'!$A$40:$CZ$40,MATCH("f16_preco",'Relatório do SketchUp'!$A$1:$CZ$1,0))&"","")) | M43: =IF(OR(I43="",L43=""),"",I43*L43) | N43: =IF(IFERROR(INDEX('Relatório do SketchUp'!$A$40:$CZ$40,MATCH("Fornecedor",'Relatório do SketchUp'!$A$1:$CZ$1,0))&"",IFERROR(INDEX('Relatório do SketchUp'!$A$40:$CZ$40,MATCH("f09_fornecedor",'Relatório do SketchUp'!$A$1:$CZ$1,0))&"",""))<>"",IFERROR(INDEX('Relatório do SketchUp'!$A$40:$CZ$40,MATCH("Fornecedor",'Relatório do SketchUp'!$A$1:$CZ$1,0))&"",IFERROR(INDEX('Relatório do SketchUp'!$A$40:$CZ$40,MATCH("f09_fornecedor",'Relatório do SketchUp'!$A$1:$CZ$1,0))&"","")),IF(IFERROR(INDEX('Relatório do SketchUp'!$A$40:$CZ$40,MATCH("Marca",'Relatório do SketchUp'!$A$1:$CZ$1,0))&"",IFERROR(INDEX('Relatório do SketchUp'!$A$40:$CZ$40,MATCH("f01_marca",'Relatório do SketchUp'!$A$1:$CZ$1,0))&"",""))<>"",IFERROR(INDEX('Relatório do SketchUp'!$A$40:$CZ$40,MATCH("Marca",'Relatório do SketchUp'!$A$1:$CZ$1,0))&"",IFERROR(INDEX('Relatório do SketchUp'!$A$40:$CZ$40,MATCH("f01_marca",'Relatório do SketchUp'!$A$1:$CZ$1,0))&"","")),"")) | O43: =_xlfn.TEXTJOIN(" · ",TRUE,IFERROR(INDEX('Relatório do SketchUp'!$A$40:$CZ$40,MATCH("WhatsApp",'Relatório do SketchUp'!$A$1:$CZ$1,0))&"",IFERROR(INDEX('Relatório do SketchUp'!$A$40:$CZ$40,MATCH("f11_whatsapp",'Relatório do SketchUp'!$A$1:$CZ$1,0))&"","")),IFERROR(INDEX('Relatório do SketchUp'!$A$40:$CZ$40,MATCH("Telefone",'Relatório do SketchUp'!$A$1:$CZ$1,0))&"",IFERROR(INDEX('Relatório do SketchUp'!$A$40:$CZ$40,MATCH("f10_telefone",'Relatório do SketchUp'!$A$1:$CZ$1,0))&"","")),IFERROR(INDEX('Relatório do SketchUp'!$A$40:$CZ$40,MATCH("E-mail",'Relatório do SketchUp'!$A$1:$CZ$1,0))&"",IFERROR(INDEX('Relatório do SketchUp'!$A$40:$CZ$40,MATCH("f12_email",'Relatório do SketchUp'!$A$1:$CZ$1,0))&"",""))) | P43: =IFERROR(INDEX('Relatório do SketchUp'!$A$40:$CZ$40,MATCH("Página do produto",'Relatório do SketchUp'!$A$1:$CZ$1,0))&"",IFERROR(INDEX('Relatório do SketchUp'!$A$40:$CZ$40,MATCH("f15_link_produto",'Relatório do SketchUp'!$A$1:$CZ$1,0))&"",IFERROR(INDEX('Relatório do SketchUp'!$A$40:$CZ$40,MATCH("Onde comprar",'Relatório do SketchUp'!$A$1:$CZ$1,0))&"",IFERROR(INDEX('Relatório do SketchUp'!$A$40:$CZ$40,MATCH("f14_onde_comprar",'Relatório do SketchUp'!$A$1:$CZ$1,0))&"",IFERROR(INDEX('Relatório do SketchUp'!$A$40:$CZ$40,MATCH("Site",'Relatório do SketchUp'!$A$1:$CZ$1,0))&"",IFERROR(INDEX('Relatório do SketchUp'!$A$40:$CZ$40,MATCH("f13_site",'Relatório do SketchUp'!$A$1:$CZ$1,0))&"","")))))) | U43: =IF(OR(T43="",Q43=""),"",T43+Q43)
C44: =IFERROR(INDEX('Relatório do SketchUp'!$A$41:$CZ$41,MATCH("Produto",'Relatório do SketchUp'!$A$1:$CZ$1,0))&"",IFERROR(INDEX('Relatório do SketchUp'!$A$41:$CZ$41,MATCH("f02_produto",'Relatório do SketchUp'!$A$1:$CZ$1,0))&"",IFERROR(INDEX('Relatório do SketchUp'!$A$41:$CZ$41,MATCH("Definition Name",'Relatório do SketchUp'!$A$1:$CZ$1,0))&"",IFERROR(INDEX('Relatório do SketchUp'!$A$41:$CZ$41,MATCH("Nome da definição",'Relatório do SketchUp'!$A$1:$CZ$1,0))&"","")))) | D44: =IFERROR(INDEX('Relatório do SketchUp'!$A$41:$CZ$41,MATCH("Marca",'Relatório do SketchUp'!$A$1:$CZ$1,0))&"",IFERROR(INDEX('Relatório do SketchUp'!$A$41:$CZ$41,MATCH("f01_marca",'Relatório do SketchUp'!$A$1:$CZ$1,0))&"","")) | E44: =IFERROR(INDEX('Relatório do SketchUp'!$A$41:$CZ$41,MATCH("Linha",'Relatório do SketchUp'!$A$1:$CZ$1,0))&"",IFERROR(INDEX('Relatório do SketchUp'!$A$41:$CZ$41,MATCH("f04_linha",'Relatório do SketchUp'!$A$1:$CZ$1,0))&"","")) | F44: =IFERROR(INDEX('Relatório do SketchUp'!$A$41:$CZ$41,MATCH("Código do produto",'Relatório do SketchUp'!$A$1:$CZ$1,0))&"",IFERROR(INDEX('Relatório do SketchUp'!$A$41:$CZ$41,MATCH("f03_codigo",'Relatório do SketchUp'!$A$1:$CZ$1,0))&"","")) | G44: =IFERROR(INDEX('Relatório do SketchUp'!$A$41:$CZ$41,MATCH("Dimensões",'Relatório do SketchUp'!$A$1:$CZ$1,0))&"",IFERROR(INDEX('Relatório do SketchUp'!$A$41:$CZ$41,MATCH("f06_dimensoes",'Relatório do SketchUp'!$A$1:$CZ$1,0))&"","")) | H44: =IFERROR(INDEX('Relatório do SketchUp'!$A$41:$CZ$41,MATCH("Acabamento",'Relatório do SketchUp'!$A$1:$CZ$1,0))&"",IFERROR(INDEX('Relatório do SketchUp'!$A$41:$CZ$41,MATCH("f07_acabamento",'Relatório do SketchUp'!$A$1:$CZ$1,0))&"","")) | I44: =IF(C44="","",IFERROR(VALUE(IFERROR(INDEX('Relatório do SketchUp'!$A$41:$CZ$41,MATCH("Quantity",'Relatório do SketchUp'!$A$1:$CZ$1,0))&"",IFERROR(INDEX('Relatório do SketchUp'!$A$41:$CZ$41,MATCH("Quantidade",'Relatório do SketchUp'!$A$1:$CZ$1,0))&"",IFERROR(INDEX('Relatório do SketchUp'!$A$41:$CZ$41,MATCH("Qtd",'Relatório do SketchUp'!$A$1:$CZ$1,0))&"",IFERROR(INDEX('Relatório do SketchUp'!$A$41:$CZ$41,MATCH("Count",'Relatório do SketchUp'!$A$1:$CZ$1,0))&"",""))))),1)) | K44: =IFERROR(INDEX('Relatório do SketchUp'!$A$41:$CZ$41,MATCH("Preço estimado",'Relatório do SketchUp'!$A$1:$CZ$1,0))&"",IFERROR(INDEX('Relatório do SketchUp'!$A$41:$CZ$41,MATCH("f16_preco",'Relatório do SketchUp'!$A$1:$CZ$1,0))&"","")) | M44: =IF(OR(I44="",L44=""),"",I44*L44) | N44: =IF(IFERROR(INDEX('Relatório do SketchUp'!$A$41:$CZ$41,MATCH("Fornecedor",'Relatório do SketchUp'!$A$1:$CZ$1,0))&"",IFERROR(INDEX('Relatório do SketchUp'!$A$41:$CZ$41,MATCH("f09_fornecedor",'Relatório do SketchUp'!$A$1:$CZ$1,0))&"",""))<>"",IFERROR(INDEX('Relatório do SketchUp'!$A$41:$CZ$41,MATCH("Fornecedor",'Relatório do SketchUp'!$A$1:$CZ$1,0))&"",IFERROR(INDEX('Relatório do SketchUp'!$A$41:$CZ$41,MATCH("f09_fornecedor",'Relatório do SketchUp'!$A$1:$CZ$1,0))&"","")),IF(IFERROR(INDEX('Relatório do SketchUp'!$A$41:$CZ$41,MATCH("Marca",'Relatório do SketchUp'!$A$1:$CZ$1,0))&"",IFERROR(INDEX('Relatório do SketchUp'!$A$41:$CZ$41,MATCH("f01_marca",'Relatório do SketchUp'!$A$1:$CZ$1,0))&"",""))<>"",IFERROR(INDEX('Relatório do SketchUp'!$A$41:$CZ$41,MATCH("Marca",'Relatório do SketchUp'!$A$1:$CZ$1,0))&"",IFERROR(INDEX('Relatório do SketchUp'!$A$41:$CZ$41,MATCH("f01_marca",'Relatório do SketchUp'!$A$1:$CZ$1,0))&"","")),"")) | O44: =_xlfn.TEXTJOIN(" · ",TRUE,IFERROR(INDEX('Relatório do SketchUp'!$A$41:$CZ$41,MATCH("WhatsApp",'Relatório do SketchUp'!$A$1:$CZ$1,0))&"",IFERROR(INDEX('Relatório do SketchUp'!$A$41:$CZ$41,MATCH("f11_whatsapp",'Relatório do SketchUp'!$A$1:$CZ$1,0))&"","")),IFERROR(INDEX('Relatório do SketchUp'!$A$41:$CZ$41,MATCH("Telefone",'Relatório do SketchUp'!$A$1:$CZ$1,0))&"",IFERROR(INDEX('Relatório do SketchUp'!$A$41:$CZ$41,MATCH("f10_telefone",'Relatório do SketchUp'!$A$1:$CZ$1,0))&"","")),IFERROR(INDEX('Relatório do SketchUp'!$A$41:$CZ$41,MATCH("E-mail",'Relatório do SketchUp'!$A$1:$CZ$1,0))&"",IFERROR(INDEX('Relatório do SketchUp'!$A$41:$CZ$41,MATCH("f12_email",'Relatório do SketchUp'!$A$1:$CZ$1,0))&"",""))) | P44: =IFERROR(INDEX('Relatório do SketchUp'!$A$41:$CZ$41,MATCH("Página do produto",'Relatório do SketchUp'!$A$1:$CZ$1,0))&"",IFERROR(INDEX('Relatório do SketchUp'!$A$41:$CZ$41,MATCH("f15_link_produto",'Relatório do SketchUp'!$A$1:$CZ$1,0))&"",IFERROR(INDEX('Relatório do SketchUp'!$A$41:$CZ$41,MATCH("Onde comprar",'Relatório do SketchUp'!$A$1:$CZ$1,0))&"",IFERROR(INDEX('Relatório do SketchUp'!$A$41:$CZ$41,MATCH("f14_onde_comprar",'Relatório do SketchUp'!$A$1:$CZ$1,0))&"",IFERROR(INDEX('Relatório do SketchUp'!$A$41:$CZ$41,MATCH("Site",'Relatório do SketchUp'!$A$1:$CZ$1,0))&"",IFERROR(INDEX('Relatório do SketchUp'!$A$41:$CZ$41,MATCH("f13_site",'Relatório do SketchUp'!$A$1:$CZ$1,0))&"","")))))) | U44: =IF(OR(T44="",Q44=""),"",T44+Q44)
C45: =IFERROR(INDEX('Relatório do SketchUp'!$A$42:$CZ$42,MATCH("Produto",'Relatório do SketchUp'!$A$1:$CZ$1,0))&"",IFERROR(INDEX('Relatório do SketchUp'!$A$42:$CZ$42,MATCH("f02_produto",'Relatório do SketchUp'!$A$1:$CZ$1,0))&"",IFERROR(INDEX('Relatório do SketchUp'!$A$42:$CZ$42,MATCH("Definition Name",'Relatório do SketchUp'!$A$1:$CZ$1,0))&"",IFERROR(INDEX('Relatório do SketchUp'!$A$42:$CZ$42,MATCH("Nome da definição",'Relatório do SketchUp'!$A$1:$CZ$1,0))&"","")))) | D45: =IFERROR(INDEX('Relatório do SketchUp'!$A$42:$CZ$42,MATCH("Marca",'Relatório do SketchUp'!$A$1:$CZ$1,0))&"",IFERROR(INDEX('Relatório do SketchUp'!$A$42:$CZ$42,MATCH("f01_marca",'Relatório do SketchUp'!$A$1:$CZ$1,0))&"","")) | E45: =IFERROR(INDEX('Relatório do SketchUp'!$A$42:$CZ$42,MATCH("Linha",'Relatório do SketchUp'!$A$1:$CZ$1,0))&"",IFERROR(INDEX('Relatório do SketchUp'!$A$42:$CZ$42,MATCH("f04_linha",'Relatório do SketchUp'!$A$1:$CZ$1,0))&"","")) | F45: =IFERROR(INDEX('Relatório do SketchUp'!$A$42:$CZ$42,MATCH("Código do produto",'Relatório do SketchUp'!$A$1:$CZ$1,0))&"",IFERROR(INDEX('Relatório do SketchUp'!$A$42:$CZ$42,MATCH("f03_codigo",'Relatório do SketchUp'!$A$1:$CZ$1,0))&"","")) | G45: =IFERROR(INDEX('Relatório do SketchUp'!$A$42:$CZ$42,MATCH("Dimensões",'Relatório do SketchUp'!$A$1:$CZ$1,0))&"",IFERROR(INDEX('Relatório do SketchUp'!$A$42:$CZ$42,MATCH("f06_dimensoes",'Relatório do SketchUp'!$A$1:$CZ$1,0))&"","")) | H45: =IFERROR(INDEX('Relatório do SketchUp'!$A$42:$CZ$42,MATCH("Acabamento",'Relatório do SketchUp'!$A$1:$CZ$1,0))&"",IFERROR(INDEX('Relatório do SketchUp'!$A$42:$CZ$42,MATCH("f07_acabamento",'Relatório do SketchUp'!$A$1:$CZ$1,0))&"","")) | I45: =IF(C45="","",IFERROR(VALUE(IFERROR(INDEX('Relatório do SketchUp'!$A$42:$CZ$42,MATCH("Quantity",'Relatório do SketchUp'!$A$1:$CZ$1,0))&"",IFERROR(INDEX('Relatório do SketchUp'!$A$42:$CZ$42,MATCH("Quantidade",'Relatório do SketchUp'!$A$1:$CZ$1,0))&"",IFERROR(INDEX('Relatório do SketchUp'!$A$42:$CZ$42,MATCH("Qtd",'Relatório do SketchUp'!$A$1:$CZ$1,0))&"",IFERROR(INDEX('Relatório do SketchUp'!$A$42:$CZ$42,MATCH("Count",'Relatório do SketchUp'!$A$1:$CZ$1,0))&"",""))))),1)) | K45: =IFERROR(INDEX('Relatório do SketchUp'!$A$42:$CZ$42,MATCH("Preço estimado",'Relatório do SketchUp'!$A$1:$CZ$1,0))&"",IFERROR(INDEX('Relatório do SketchUp'!$A$42:$CZ$42,MATCH("f16_preco",'Relatório do SketchUp'!$A$1:$CZ$1,0))&"","")) | M45: =IF(OR(I45="",L45=""),"",I45*L45) | N45: =IF(IFERROR(INDEX('Relatório do SketchUp'!$A$42:$CZ$42,MATCH("Fornecedor",'Relatório do SketchUp'!$A$1:$CZ$1,0))&"",IFERROR(INDEX('Relatório do SketchUp'!$A$42:$CZ$42,MATCH("f09_fornecedor",'Relatório do SketchUp'!$A$1:$CZ$1,0))&"",""))<>"",IFERROR(INDEX('Relatório do SketchUp'!$A$42:$CZ$42,MATCH("Fornecedor",'Relatório do SketchUp'!$A$1:$CZ$1,0))&"",IFERROR(INDEX('Relatório do SketchUp'!$A$42:$CZ$42,MATCH("f09_fornecedor",'Relatório do SketchUp'!$A$1:$CZ$1,0))&"","")),IF(IFERROR(INDEX('Relatório do SketchUp'!$A$42:$CZ$42,MATCH("Marca",'Relatório do SketchUp'!$A$1:$CZ$1,0))&"",IFERROR(INDEX('Relatório do SketchUp'!$A$42:$CZ$42,MATCH("f01_marca",'Relatório do SketchUp'!$A$1:$CZ$1,0))&"",""))<>"",IFERROR(INDEX('Relatório do SketchUp'!$A$42:$CZ$42,MATCH("Marca",'Relatório do SketchUp'!$A$1:$CZ$1,0))&"",IFERROR(INDEX('Relatório do SketchUp'!$A$42:$CZ$42,MATCH("f01_marca",'Relatório do SketchUp'!$A$1:$CZ$1,0))&"","")),"")) | O45: =_xlfn.TEXTJOIN(" · ",TRUE,IFERROR(INDEX('Relatório do SketchUp'!$A$42:$CZ$42,MATCH("WhatsApp",'Relatório do SketchUp'!$A$1:$CZ$1,0))&"",IFERROR(INDEX('Relatório do SketchUp'!$A$42:$CZ$42,MATCH("f11_whatsapp",'Relatório do SketchUp'!$A$1:$CZ$1,0))&"","")),IFERROR(INDEX('Relatório do SketchUp'!$A$42:$CZ$42,MATCH("Telefone",'Relatório do SketchUp'!$A$1:$CZ$1,0))&"",IFERROR(INDEX('Relatório do SketchUp'!$A$42:$CZ$42,MATCH("f10_telefone",'Relatório do SketchUp'!$A$1:$CZ$1,0))&"","")),IFERROR(INDEX('Relatório do SketchUp'!$A$42:$CZ$42,MATCH("E-mail",'Relatório do SketchUp'!$A$1:$CZ$1,0))&"",IFERROR(INDEX('Relatório do SketchUp'!$A$42:$CZ$42,MATCH("f12_email",'Relatório do SketchUp'!$A$1:$CZ$1,0))&"",""))) | P45: =IFERROR(INDEX('Relatório do SketchUp'!$A$42:$CZ$42,MATCH("Página do produto",'Relatório do SketchUp'!$A$1:$CZ$1,0))&"",IFERROR(INDEX('Relatório do SketchUp'!$A$42:$CZ$42,MATCH("f15_link_produto",'Relatório do SketchUp'!$A$1:$CZ$1,0))&"",IFERROR(INDEX('Relatório do SketchUp'!$A$42:$CZ$42,MATCH("Onde comprar",'Relatório do SketchUp'!$A$1:$CZ$1,0))&"",IFERROR(INDEX('Relatório do SketchUp'!$A$42:$CZ$42,MATCH("f14_onde_comprar",'Relatório do SketchUp'!$A$1:$CZ$1,0))&"",IFERROR(INDEX('Relatório do SketchUp'!$A$42:$CZ$42,MATCH("Site",'Relatório do SketchUp'!$A$1:$CZ$1,0))&"",IFERROR(INDEX('Relatório do SketchUp'!$A$42:$CZ$42,MATCH("f13_site",'Relatório do SketchUp'!$A$1:$CZ$1,0))&"","")))))) | U45: =IF(OR(T45="",Q45=""),"",T45+Q45)
